BEGIN:VCALENDAR
VERSION:2.0
PRODID:-//Magyar Logisztikai, Beszerzési és Készletezési Társaság - ECPv6.15.16//NONSGML v1.0//EN
CALSCALE:GREGORIAN
METHOD:PUBLISH
X-WR-CALNAME:Magyar Logisztikai, Beszerzési és Készletezési Társaság
X-ORIGINAL-URL:https://logisztika.hu
X-WR-CALDESC:Események Magyar Logisztikai, Beszerzési és Készletezési Társaság
REFRESH-INTERVAL;VALUE=DURATION:PT1H
X-Robots-Tag:noindex
X-PUBLISHED-TTL:PT1H
BEGIN:VTIMEZONE
TZID:UTC
BEGIN:STANDARD
TZOFFSETFROM:+0000
TZOFFSETTO:+0000
TZNAME:UTC
DTSTART:20190101T000000
END:STANDARD
END:VTIMEZONE
BEGIN:VEVENT
DTSTART;TZID=UTC:20200609T090000
DTEND;TZID=UTC:20200609T120000
DTSTAMP:20260424T013320
CREATED:20200520T053556Z
LAST-MODIFIED:20200520T053556Z
UID:72576-1591693200-1591704000@logisztika.hu
SUMMARY:Lean & Green Platform programindító workshop
DESCRIPTION:Az MLBKT a tavalyi kongresszusán írta alá azt az együttműködési megállapodást a GS1 Magyarországgal és a Holland Királyság Magyar Nagykövetségével\, amelyben kifejezte együttműködési szándékát a Lean & Green európai program magyarországi bevezetésében. A program hazai koordinátora a GS1 Magyarország. \nKüldetésünk…nem kevesebb\, mint hogy elérjük a 0% emissziót a 100%-os együttműködéssel. Partnereink számára szeretnénk segítséget nyújtani emisszió csökkentési célok kitűzésében és elérésében\, egy fenntarthatóbb jelen és jövő elérése érdekében.\nAz együttműködő szerveztek nevében ezúton tisztelettel meghívjuk Önt a Magyar Lean & Green Online Programindító workshopjára\, \n2020. június 9-én 9:00 órától. \nA workshop keretében a résztvevők angol nyelvű előadást hallgathatnak meg a Lean & Green Europe Program eddigi eredményeiről\, a szén-dioxid emisszió hatékony csökkentése érdekében végzett legjobb nemzetközi gyakorlatokról és bemutatásra kerülnek a Magyar Lean & Green Platform tervezett programjai\, elérhető szolgáltatásai és szakmai támogatási kerete. \nA program magyar és angol nyelvű\, tolmácsolás nem biztosított. \nA workshop időpontja: 2020. június 9.\, kedd\, 9:00-12:00\nA workshop informatikai platformja: Zoom\, előzetesen kiküldött jelszóval \n  \nPROGRAM \n9.00 – 9.15: René van Hell nagykövet úr köszöntője \n9.15 – 9.30:  Nemzetközi és hazai háttér – Kétszeri Dávid\, GS1 Magyarország \n9.30 – 10.30: Nemzetközi jó gyakorlatok – Leon Simmons\, Lean&Green Europe\, Connekt Netherlands \n10.30 – 10.40: Kávészünet \n10.40 – 11.10: A fenntarthatósági szemléletből realizálható költségmegtakarítások – Lukács Ákos\, Deloitte Magyarország \n11.10 – 12.00: Workshop a hazai szakmai programról – Krázli Zoltán\, GS1 Magyarország és Ujlakán Tibor\, T75 Consulting \nA workshopon történő részvétel ingyenes\, de regisztrációhoz kötött. A részvételi lehetőség limitált. \nRegisztrálni az alábbi linken tud: https://gs1hu.org/lean-and-green-esemeny-regisztracio
URL:https://logisztika.hu/rendezveny/lean-green-platform-programindito-workshop-2/
CATEGORIES:Worskhop
END:VEVENT
BEGIN:VEVENT
DTSTART;TZID=UTC:20200609T090000
DTEND;TZID=UTC:20200609T120000
DTSTAMP:20260424T013320
CREATED:20200520T053556Z
LAST-MODIFIED:20200520T053556Z
UID:83006-1591693200-1591704000@logisztika.hu
SUMMARY:Lean & Green Platform programindító workshop
DESCRIPTION:Az MLBKT a tavalyi kongresszusán írta alá azt az együttműködési megállapodást a GS1 Magyarországgal és a Holland Királyság Magyar Nagykövetségével\, amelyben kifejezte együttműködési szándékát a Lean & Green európai program magyarországi bevezetésében. A program hazai koordinátora a GS1 Magyarország. \nKüldetésünk…nem kevesebb\, mint hogy elérjük a 0% emissziót a 100%-os együttműködéssel. Partnereink számára szeretnénk segítséget nyújtani emisszió csökkentési célok kitűzésében és elérésében\, egy fenntarthatóbb jelen és jövő elérése érdekében.\nAz együttműködő szerveztek nevében ezúton tisztelettel meghívjuk Önt a Magyar Lean & Green Online Programindító workshopjára\, \n2020. június 9-én 9:00 órától. \nA workshop keretében a résztvevők angol nyelvű előadást hallgathatnak meg a Lean & Green Europe Program eddigi eredményeiről\, a szén-dioxid emisszió hatékony csökkentése érdekében végzett legjobb nemzetközi gyakorlatokról és bemutatásra kerülnek a Magyar Lean & Green Platform tervezett programjai\, elérhető szolgáltatásai és szakmai támogatási kerete. \nA program magyar és angol nyelvű\, tolmácsolás nem biztosított. \nA workshop időpontja: 2020. június 9.\, kedd\, 9:00-12:00\nA workshop informatikai platformja: Zoom\, előzetesen kiküldött jelszóval \n  \nPROGRAM \n9.00 – 9.15: René van Hell nagykövet úr köszöntője \n9.15 – 9.30:  Nemzetközi és hazai háttér – Kétszeri Dávid\, GS1 Magyarország \n9.30 – 10.30: Nemzetközi jó gyakorlatok – Leon Simmons\, Lean&Green Europe\, Connekt Netherlands \n10.30 – 10.40: Kávészünet \n10.40 – 11.10: A fenntarthatósági szemléletből realizálható költségmegtakarítások – Lukács Ákos\, Deloitte Magyarország \n11.10 – 12.00: Workshop a hazai szakmai programról – Krázli Zoltán\, GS1 Magyarország és Ujlakán Tibor\, T75 Consulting \nA workshopon történő részvétel ingyenes\, de regisztrációhoz kötött. A részvételi lehetőség limitált. \nRegisztrálni az alábbi linken tud: https://gs1hu.org/lean-and-green-esemeny-regisztracio
URL:https://logisztika.hu/rendezveny/lean-green-platform-programindito-workshop-2-2/
CATEGORIES:Worskhop
END:VEVENT
END:VCALENDAR