BEGIN:VCALENDAR
VERSION:2.0
PRODID:-//Magyar Logisztikai, Beszerzési és Készletezési Társaság - ECPv6.15.16//NONSGML v1.0//EN
CALSCALE:GREGORIAN
METHOD:PUBLISH
X-WR-CALNAME:Magyar Logisztikai, Beszerzési és Készletezési Társaság
X-ORIGINAL-URL:https://logisztika.hu
X-WR-CALDESC:Események Magyar Logisztikai, Beszerzési és Készletezési Társaság
REFRESH-INTERVAL;VALUE=DURATION:PT1H
X-Robots-Tag:noindex
X-PUBLISHED-TTL:PT1H
BEGIN:VTIMEZONE
TZID:UTC
BEGIN:STANDARD
TZOFFSETFROM:+0000
TZOFFSETTO:+0000
TZNAME:UTC
DTSTART:20190101T000000
END:STANDARD
END:VTIMEZONE
BEGIN:VEVENT
DTSTART;TZID=UTC:20200831T000000
DTEND;TZID=UTC:20200902T235959
DTSTAMP:20260423T205151
CREATED:20200715T065714Z
LAST-MODIFIED:20200715T065714Z
UID:83015-1598832000-1599091199@logisztika.hu
SUMMARY:Készlettervezés
DESCRIPTION:Hogyan számoljam ki az optimális biztonsági készlet szintjét? Hogyan egyszerűsíthetem a készletek tervezését? Ön is szeretne ezekre a kérdésekre magabiztosabban válaszolni? \nHa igen\, akkor iratkozzon be háromnapos tréningünkre\, amellyel hiánypótló képzést kínálunk Önnek. \nEgyik legnépszerűbb tréningünkön számos készletezési feladattal találkoznak a résztvevők\, majd egyedülálló számítógépes készletszimulációs gyakorlattal zárjuk a képzést\, amely segíti a tanultak gyakorlati alkalmazását\, illetve általa a résztvevők megismerik a vállalati társosztályok munkájának kihívásait is\, így majd hatékonyabban végezhetik munkájukat. \n \n\n\n\n\n\n\n\n\n\n\nJelentkezési határidő: 2020. augusztus 21.\n \nKépzési napok: 2020. 08. 31. – 2020. 09. 02. \n\n\n\n\nMin.-Max. csoportlétszám: 6-8 fő \nÓraszám: 24 óra \nHelyszín: Budapest belváros \n\n\n\n\n\n\n\n\n\n\n\n\n\n*A változtatás jogát fenntartjuk. (Ha újra visszatérne a home office\, a képzéseket online formában is meg tudjuk tartani. Ennek a megvalósítását előre leegyeztetjük az ügyfelekkel.) \nRészletek >>
URL:https://logisztika.hu/rendezveny/keszlettervezes-4-2/
CATEGORIES:Tréning
END:VEVENT
BEGIN:VEVENT
DTSTART;TZID=UTC:20200831T000000
DTEND;TZID=UTC:20200902T235959
DTSTAMP:20260423T205151
CREATED:20200715T065714Z
LAST-MODIFIED:20200715T065714Z
UID:72880-1598832000-1599091199@logisztika.hu
SUMMARY:Készlettervezés
DESCRIPTION:Hogyan számoljam ki az optimális biztonsági készlet szintjét? Hogyan egyszerűsíthetem a készletek tervezését? Ön is szeretne ezekre a kérdésekre magabiztosabban válaszolni? \nHa igen\, akkor iratkozzon be háromnapos tréningünkre\, amellyel hiánypótló képzést kínálunk Önnek. \nEgyik legnépszerűbb tréningünkön számos készletezési feladattal találkoznak a résztvevők\, majd egyedülálló számítógépes készletszimulációs gyakorlattal zárjuk a képzést\, amely segíti a tanultak gyakorlati alkalmazását\, illetve általa a résztvevők megismerik a vállalati társosztályok munkájának kihívásait is\, így majd hatékonyabban végezhetik munkájukat. \n \n\n\n\n\n\n\n\n\n\n\nJelentkezési határidő: 2020. augusztus 21.\n \nKépzési napok: 2020. 08. 31. – 2020. 09. 02. \n\n\n\n\nMin.-Max. csoportlétszám: 6-8 fő \nÓraszám: 24 óra \nHelyszín: Budapest belváros \n\n\n\n\n\n\n\n\n\n\n\n\n\n*A változtatás jogát fenntartjuk. (Ha újra visszatérne a home office\, a képzéseket online formában is meg tudjuk tartani. Ennek a megvalósítását előre leegyeztetjük az ügyfelekkel.) \nRészletek >>
URL:https://logisztika.hu/rendezveny/keszlettervezes-4/
CATEGORIES:Tréning
END:VEVENT
END:VCALENDAR