BEGIN:VCALENDAR
VERSION:2.0
PRODID:-//Magyar Logisztikai, Beszerzési és Készletezési Társaság - ECPv6.15.16//NONSGML v1.0//EN
CALSCALE:GREGORIAN
METHOD:PUBLISH
X-ORIGINAL-URL:https://logisztika.hu
X-WR-CALDESC:Események Magyar Logisztikai, Beszerzési és Készletezési Társaság
REFRESH-INTERVAL;VALUE=DURATION:PT1H
X-Robots-Tag:noindex
X-PUBLISHED-TTL:PT1H
BEGIN:VTIMEZONE
TZID:UTC
BEGIN:STANDARD
TZOFFSETFROM:+0000
TZOFFSETTO:+0000
TZNAME:UTC
DTSTART:20190101T000000
END:STANDARD
END:VTIMEZONE
BEGIN:VEVENT
DTSTART;TZID=UTC:20200917T000000
DTEND;TZID=UTC:20200918T235959
DTSTAMP:20260423T205248
CREATED:20200715T071724Z
LAST-MODIFIED:20200715T071724Z
UID:83019-1600300800-1600473599@logisztika.hu
SUMMARY:Tárgyalási alapismeretek beszerzőknek
DESCRIPTION:Kezdő beszerzőként néha váratlanul ér bennünket\, amikor egy szituációban meg kell mutatnunk\, milyen ügyesen tárgyalunk. Előfordul\, hogy egy-egy helyzet teljesen váratlanul ér bennünket\, és rögtönöznünk kell a telefonban vagy személyesen.\nKésik a beszállító? Rossz anyagot kaptunk? Váratlan áremelés történt és nekünk kell letárgyalnunk?\nA tréningen begyakoroljuk\, hogyan oldhatunk meg kezdőként rázós feladatokat úgy\, hogy partnerünknek meg sem fordul a fejében\, hogy ezt lehet\, hogy most csináljuk először… \n \n\n\n\n\n\n\n\n\n\n\nJelentkezési határidő: 2020. szeptember 7.\n \nKépzési napok: 2020. 09. 17. – 2020. 09. 18. \nMin.-Max. csoportlétszám: 6-12 fő \nÓraszám: 16 óra \nHelyszín: Budapest belváros \n\n\n\n\n\n\n\n\n\n\n\n\n\n*A változtatás jogát fenntartjuk. (Ha újra visszatérne a home office\, a képzéseket online formában is meg tudjuk tartani. Ennek a megvalósítását előre leegyeztetjük az ügyfelekkel.) \nRészletek >>
URL:https://logisztika.hu/rendezveny/targyalasi-alapismeretek-beszerzoknek-6/
CATEGORIES:Tréning
END:VEVENT
BEGIN:VEVENT
DTSTART;TZID=UTC:20200917T000000
DTEND;TZID=UTC:20200918T235959
DTSTAMP:20260423T205248
CREATED:20200715T071724Z
LAST-MODIFIED:20200715T071724Z
UID:72895-1600300800-1600473599@logisztika.hu
SUMMARY:Tárgyalási alapismeretek beszerzőknek
DESCRIPTION:Kezdő beszerzőként néha váratlanul ér bennünket\, amikor egy szituációban meg kell mutatnunk\, milyen ügyesen tárgyalunk. Előfordul\, hogy egy-egy helyzet teljesen váratlanul ér bennünket\, és rögtönöznünk kell a telefonban vagy személyesen.\nKésik a beszállító? Rossz anyagot kaptunk? Váratlan áremelés történt és nekünk kell letárgyalnunk?\nA tréningen begyakoroljuk\, hogyan oldhatunk meg kezdőként rázós feladatokat úgy\, hogy partnerünknek meg sem fordul a fejében\, hogy ezt lehet\, hogy most csináljuk először… \n \n\n\n\n\n\n\n\n\n\n\nJelentkezési határidő: 2020. szeptember 7.\n \nKépzési napok: 2020. 09. 17. – 2020. 09. 18. \nMin.-Max. csoportlétszám: 6-12 fő \nÓraszám: 16 óra \nHelyszín: Budapest belváros \n\n\n\n\n\n\n\n\n\n\n\n\n\n*A változtatás jogát fenntartjuk. (Ha újra visszatérne a home office\, a képzéseket online formában is meg tudjuk tartani. Ennek a megvalósítását előre leegyeztetjük az ügyfelekkel.) \nRészletek >>
URL:https://logisztika.hu/rendezveny/targyalasi-alapismeretek-beszerzoknek/
CATEGORIES:Tréning
END:VEVENT
END:VCALENDAR