BEGIN:VCALENDAR
VERSION:2.0
PRODID:-//Magyar Logisztikai, Beszerzési és Készletezési Társaság - ECPv6.15.16//NONSGML v1.0//EN
CALSCALE:GREGORIAN
METHOD:PUBLISH
X-ORIGINAL-URL:https://logisztika.hu
X-WR-CALDESC:Események Magyar Logisztikai, Beszerzési és Készletezési Társaság
REFRESH-INTERVAL;VALUE=DURATION:PT1H
X-Robots-Tag:noindex
X-PUBLISHED-TTL:PT1H
BEGIN:VTIMEZONE
TZID:UTC
BEGIN:STANDARD
TZOFFSETFROM:+0000
TZOFFSETTO:+0000
TZNAME:UTC
DTSTART:20190101T000000
END:STANDARD
END:VTIMEZONE
BEGIN:VEVENT
DTSTART;TZID=UTC:20200930T000000
DTEND;TZID=UTC:20201002T235959
DTSTAMP:20260423T192602
CREATED:20200317T082445Z
LAST-MODIFIED:20200317T082445Z
UID:83002-1601424000-1601683199@logisztika.hu
SUMMARY:EUROLOG Konferencia 2020
DESCRIPTION:Az Európai Logisztikai Egyesület MEGVÁLTOZOTT IDŐPONTBAN 2020. szeptember 30. és október 2. között rendezi meg az EUROLOG kongresszust Szlovéniában. A kongresszus programja tartalmaz előadásokat\, tematikus és panel beszélgetéseket\, valamint workshopokat. Az eseményen szó lesz a logisztikában és a közlekedésben használható modern technológiákról\, a mesterséges intelligenciáról\, az automatizálásról és a robotikáról a szállítással és a termeléssel összefüggésben . Nemzetközi tagságunk révén ajánljuk figyelmükbe a rendezvényt! \nRészletek >> https://logisticscongress.eu/
URL:https://logisztika.hu/rendezveny/eurolog-konferencia-2/
CATEGORIES:Konferencia
ATTACH;FMTTYPE=image/jpeg:https://logisztika.hu/wp-content/uploads/2020/03/2020-Eurolog.jpg
END:VEVENT
BEGIN:VEVENT
DTSTART;TZID=UTC:20200930T000000
DTEND;TZID=UTC:20201002T235959
DTSTAMP:20260423T192602
CREATED:20200317T082445Z
LAST-MODIFIED:20200317T082445Z
UID:72183-1601424000-1601683199@logisztika.hu
SUMMARY:EUROLOG Konferencia 2020
DESCRIPTION:Az Európai Logisztikai Egyesület MEGVÁLTOZOTT IDŐPONTBAN 2020. szeptember 30. és október 2. között rendezi meg az EUROLOG kongresszust Szlovéniában. A kongresszus programja tartalmaz előadásokat\, tematikus és panel beszélgetéseket\, valamint workshopokat. Az eseményen szó lesz a logisztikában és a közlekedésben használható modern technológiákról\, a mesterséges intelligenciáról\, az automatizálásról és a robotikáról a szállítással és a termeléssel összefüggésben . Nemzetközi tagságunk révén ajánljuk figyelmükbe a rendezvényt! \nRészletek >> https://logisticscongress.eu/
URL:https://logisztika.hu/rendezveny/eurolog-konferencia/
CATEGORIES:Konferencia
ATTACH;FMTTYPE=image/jpeg:https://logisztika.hu/wp-content/uploads/2020/03/2020-Eurolog.jpg
END:VEVENT
BEGIN:VEVENT
DTSTART;TZID=UTC:20201001T170000
DTEND;TZID=UTC:20201001T190000
DTSTAMP:20260423T192602
CREATED:20200924T104714Z
LAST-MODIFIED:20200924T104714Z
UID:73168-1601571600-1601578800@logisztika.hu
SUMMARY:Meghívó - Lean tagozati online program
DESCRIPTION:Az MLBKT Lean tagozatának 2020. október 1-jei eseményére két előadót hívtunk meg\, akik négy szuper érdekes témát boncolgatnak.\n\n\n\n\n\n  \nEgy kis kedvcsináló a témákhoz: \n  \nProgram:  \n  \n17.00 – 17.30 – Kovács László (GE Toolbox Kft.)  \nTermeléskiegyenlítés (Heijunka) – Tippek és trükkök  \nMi a különbség a kapacitások kiegyenlítése és a termeléskiegyenlítés között? Félreértések az EPEI (Every Part Every Interval) körül\, hogyan használjuk az EPEI-t helyesen? \nA termeléskiegyenlítés mint módszer: Hogyan változik a napi rutin\, a klasszikus szükséglettervezésen alapuló gyártásirányításhoz képest. \n  \n17.30 – 18.00 – Kovács Vilmos Levente (Simplexion Informatikai Kft)  \nA gyártósori nyomon követés célja a gyártási darabszám felügyelete és a technológiai és minőségbiztosítási követelmények teljesülésének követése. Ezzel felügyelhető a személyes teljesítmény és a hibaarány is. \n  \n18.00 – 18.30 – Kovács László (GE Toolbox Kft.)  \nA Toyota rendszer második forradalma – kiút a válságból  \nSokan teszik fel a kérdést\, hogy a leant válasszuk vagy az I4.0-át? A Lean-nek már leáldozott az I4.0 meghaladta? \nA Toyota válasza: megfelelő kompromisszumokkal lehet a kettőt szinkronizálni. A módszer\, amivel a Toyotának ismét sikerült meghaladnia a versenytársait! \n  \n18.30 – 19.00 – Kovács Vilmos Levente (Simplexion Informatikai Kft)  \nAz eszköz életciklus menedzsment egy digitális gépkönyv\, amelybe rögzítésre kerül valamennyi az eszközzel kapcsolatos esemény\, így összehasonlíthatóvá válnak az eszközök\, szállítók\, támogatók. Cél a jobb megoldás kiválasztása. \n  \nElőadók: Kovács László\, GE Toolbox Kft. és Kovács Vilmos Levente\, Simplexion Informatikai Kft. \nIdőpont: 2020. október 1. csütörtök\, 17:00-19:00 \nHelyszín: ZOOM (belépéshez szükséges linket jelentkezőinknek az előadás előtti napon küldjük e-mailben) \n  \n\n\n\n\n \n  \nJelentkezési határidő: 2020. szeptember 30. \n\n\n\n\n  \nSzeretettel várunk minden kedves érdeklődőt! 
URL:https://logisztika.hu/rendezveny/meghivo-lean-tagozati-online-program/
END:VEVENT
BEGIN:VEVENT
DTSTART;TZID=UTC:20201001T170000
DTEND;TZID=UTC:20201001T190000
DTSTAMP:20260423T192602
CREATED:20200924T104714Z
LAST-MODIFIED:20200924T104714Z
UID:83025-1601571600-1601578800@logisztika.hu
SUMMARY:Meghívó - Lean tagozati online program
DESCRIPTION:Az MLBKT Lean tagozatának 2020. október 1-jei eseményére két előadót hívtunk meg\, akik négy szuper érdekes témát boncolgatnak.\n\n\n\n\n\n  \nEgy kis kedvcsináló a témákhoz: \n  \nProgram:  \n  \n17.00 – 17.30 – Kovács László (GE Toolbox Kft.)  \nTermeléskiegyenlítés (Heijunka) – Tippek és trükkök  \nMi a különbség a kapacitások kiegyenlítése és a termeléskiegyenlítés között? Félreértések az EPEI (Every Part Every Interval) körül\, hogyan használjuk az EPEI-t helyesen? \nA termeléskiegyenlítés mint módszer: Hogyan változik a napi rutin\, a klasszikus szükséglettervezésen alapuló gyártásirányításhoz képest. \n  \n17.30 – 18.00 – Kovács Vilmos Levente (Simplexion Informatikai Kft)  \nA gyártósori nyomon követés célja a gyártási darabszám felügyelete és a technológiai és minőségbiztosítási követelmények teljesülésének követése. Ezzel felügyelhető a személyes teljesítmény és a hibaarány is. \n  \n18.00 – 18.30 – Kovács László (GE Toolbox Kft.)  \nA Toyota rendszer második forradalma – kiút a válságból  \nSokan teszik fel a kérdést\, hogy a leant válasszuk vagy az I4.0-át? A Lean-nek már leáldozott az I4.0 meghaladta? \nA Toyota válasza: megfelelő kompromisszumokkal lehet a kettőt szinkronizálni. A módszer\, amivel a Toyotának ismét sikerült meghaladnia a versenytársait! \n  \n18.30 – 19.00 – Kovács Vilmos Levente (Simplexion Informatikai Kft)  \nAz eszköz életciklus menedzsment egy digitális gépkönyv\, amelybe rögzítésre kerül valamennyi az eszközzel kapcsolatos esemény\, így összehasonlíthatóvá válnak az eszközök\, szállítók\, támogatók. Cél a jobb megoldás kiválasztása. \n  \nElőadók: Kovács László\, GE Toolbox Kft. és Kovács Vilmos Levente\, Simplexion Informatikai Kft. \nIdőpont: 2020. október 1. csütörtök\, 17:00-19:00 \nHelyszín: ZOOM (belépéshez szükséges linket jelentkezőinknek az előadás előtti napon küldjük e-mailben) \n  \n\n\n\n\n \n  \nJelentkezési határidő: 2020. szeptember 30. \n\n\n\n\n  \nSzeretettel várunk minden kedves érdeklődőt! 
URL:https://logisztika.hu/rendezveny/meghivo-lean-tagozati-online-program-2/
END:VEVENT
END:VCALENDAR