BEGIN:VCALENDAR
VERSION:2.0
PRODID:-//Magyar Logisztikai, Beszerzési és Készletezési Társaság - ECPv6.15.16//NONSGML v1.0//EN
CALSCALE:GREGORIAN
METHOD:PUBLISH
X-WR-CALNAME:Magyar Logisztikai, Beszerzési és Készletezési Társaság
X-ORIGINAL-URL:https://logisztika.hu
X-WR-CALDESC:Események Magyar Logisztikai, Beszerzési és Készletezési Társaság
REFRESH-INTERVAL;VALUE=DURATION:PT1H
X-Robots-Tag:noindex
X-PUBLISHED-TTL:PT1H
BEGIN:VTIMEZONE
TZID:UTC
BEGIN:STANDARD
TZOFFSETFROM:+0000
TZOFFSETTO:+0000
TZNAME:UTC
DTSTART:20190101T000000
END:STANDARD
END:VTIMEZONE
BEGIN:VEVENT
DTSTART;TZID=UTC:20201008T000000
DTEND;TZID=UTC:20201009T235959
DTSTAMP:20260423T193644
CREATED:20200715T073156Z
LAST-MODIFIED:20200715T073156Z
UID:72910-1602115200-1602287999@logisztika.hu
SUMMARY:Származási ismeretek
DESCRIPTION:Hiánypótló képzésünk kizárólag az Európai Unió származási szabályainak átfogó bemutatására fókuszál. \nNapjaink sokszereplős gyártási folyamatainál különösen nagy kihívás a termék előállítási országának megállapítása. Ahogy folyamatosan nő az igény az ellátási láncok nagyobb átláthatóságra\, a beszállítók\, a vevők és a vámhatóságok is egyre határozottabban követelik meg a származási szabályok szigorú betartását\, és dokumentálását. \nA tréning során nagy hangsúlyt helyezünk a gyakorlatiasságra\, hogy a résztvevők képesek legyenek önállóan eligazodni ebben a komplex szabályrendszerben. A származási szabályok megértését több valós esetpélda segíti\, minden esetben konkrét termékekkel\, ügyletekkel\, gyártási folyamatokkal és okmányokkal. Ezen felül részletesen bemutatásra kerülnek a különféle származási okmányok\, és azok kiállításának\, kezelésének szabályai. \n \n\n\n\n\n\n\n\n\n\n\nJelentkezési határidő: 2020. szeptember 28. \nKépzési napok: 2020. 10. 08. – 2020. 10. 09.\n \nMin-Max. csoportlétszám: 6-12 fő \nÓraszám: 16 óra \nHelyszín: Budapest belváros \n\n\n\n\n\n\n\n\n\n\n\n\n\n*A változtatás jogát fenntartjuk. (Ha újra visszatérne a home office\, a képzéseket online formában is meg tudjuk tartani. Ennek a megvalósítását előre leegyeztetjük az ügyfelekkel.) \nRészletek >>
URL:https://logisztika.hu/rendezveny/szarmazasi-ismeretek-3/
CATEGORIES:Tréning
END:VEVENT
BEGIN:VEVENT
DTSTART;TZID=UTC:20201008T000000
DTEND;TZID=UTC:20201009T235959
DTSTAMP:20260423T193644
CREATED:20200715T073156Z
LAST-MODIFIED:20200715T073156Z
UID:83020-1602115200-1602287999@logisztika.hu
SUMMARY:Származási ismeretek
DESCRIPTION:Hiánypótló képzésünk kizárólag az Európai Unió származási szabályainak átfogó bemutatására fókuszál. \nNapjaink sokszereplős gyártási folyamatainál különösen nagy kihívás a termék előállítási országának megállapítása. Ahogy folyamatosan nő az igény az ellátási láncok nagyobb átláthatóságra\, a beszállítók\, a vevők és a vámhatóságok is egyre határozottabban követelik meg a származási szabályok szigorú betartását\, és dokumentálását. \nA tréning során nagy hangsúlyt helyezünk a gyakorlatiasságra\, hogy a résztvevők képesek legyenek önállóan eligazodni ebben a komplex szabályrendszerben. A származási szabályok megértését több valós esetpélda segíti\, minden esetben konkrét termékekkel\, ügyletekkel\, gyártási folyamatokkal és okmányokkal. Ezen felül részletesen bemutatásra kerülnek a különféle származási okmányok\, és azok kiállításának\, kezelésének szabályai. \n \n\n\n\n\n\n\n\n\n\n\nJelentkezési határidő: 2020. szeptember 28. \nKépzési napok: 2020. 10. 08. – 2020. 10. 09.\n \nMin-Max. csoportlétszám: 6-12 fő \nÓraszám: 16 óra \nHelyszín: Budapest belváros \n\n\n\n\n\n\n\n\n\n\n\n\n\n*A változtatás jogát fenntartjuk. (Ha újra visszatérne a home office\, a képzéseket online formában is meg tudjuk tartani. Ennek a megvalósítását előre leegyeztetjük az ügyfelekkel.) \nRészletek >>
URL:https://logisztika.hu/rendezveny/szarmazasi-ismeretek-3-2/
CATEGORIES:Tréning
END:VEVENT
END:VCALENDAR