BEGIN:VCALENDAR
VERSION:2.0
PRODID:-//Magyar Logisztikai, Beszerzési és Készletezési Társaság - ECPv6.15.16//NONSGML v1.0//EN
CALSCALE:GREGORIAN
METHOD:PUBLISH
X-ORIGINAL-URL:https://logisztika.hu
X-WR-CALDESC:Események Magyar Logisztikai, Beszerzési és Készletezési Társaság
REFRESH-INTERVAL;VALUE=DURATION:PT1H
X-Robots-Tag:noindex
X-PUBLISHED-TTL:PT1H
BEGIN:VTIMEZONE
TZID:UTC
BEGIN:STANDARD
TZOFFSETFROM:+0000
TZOFFSETTO:+0000
TZNAME:UTC
DTSTART:20190101T000000
END:STANDARD
END:VTIMEZONE
BEGIN:VEVENT
DTSTART;TZID=UTC:20201012T000000
DTEND;TZID=UTC:20201013T235959
DTSTAMP:20260423T192720
CREATED:20200715T073331Z
LAST-MODIFIED:20200715T073331Z
UID:72913-1602460800-1602633599@logisztika.hu
SUMMARY:Beszállítói tárgyalás felsőfokon
DESCRIPTION:Egy jól sikerült tárgyalás komoly mérföldkő egy cég életében: stratégiai együttműködések jöhetnek létre\, régóta fennálló ellentétek oldódhatnak fel\, költséget csökkenthetünk/tartalékot képezhetünk\, stb. Egy hiányos vagy gyenge felkészülés azonban beláthatatlan következményekkel járhat. Gyakorlatorientált tárgyalási tréningünkkel abban segítünk partnereinknek\, hogy a tárgyalások kimenetele mindkét fél számára a lehető legjobb megoldást jelentse rövid és hosszútávon egyaránt. \n \n\n\n\n\n\n\n\n\n\n\nJelentkezési határidő: 2020. október 2. \nKépzési napok: 2020. 10. 12. – 2020. 10. 13. \nCsoportlétszám: 6-12 fő \nÓraszám: 16 óra \nHelyszín: Budapest belváros \n\n\n\n\n\n\n\n\n\n\n\n\n\n*A változtatás jogát fenntartjuk. (Ha újra visszatérne a home office\, a képzéseket online formában is meg tudjuk tartani. Ennek a megvalósítását előre leegyeztetjük az ügyfelekkel.) \nRészletek >>
URL:https://logisztika.hu/rendezveny/beszallitoi-targyalas-felsofokon/
CATEGORIES:Tréning
END:VEVENT
BEGIN:VEVENT
DTSTART;TZID=UTC:20201012T000000
DTEND;TZID=UTC:20201013T235959
DTSTAMP:20260423T192720
CREATED:20200715T073331Z
LAST-MODIFIED:20200715T073331Z
UID:83021-1602460800-1602633599@logisztika.hu
SUMMARY:Beszállítói tárgyalás felsőfokon
DESCRIPTION:Egy jól sikerült tárgyalás komoly mérföldkő egy cég életében: stratégiai együttműködések jöhetnek létre\, régóta fennálló ellentétek oldódhatnak fel\, költséget csökkenthetünk/tartalékot képezhetünk\, stb. Egy hiányos vagy gyenge felkészülés azonban beláthatatlan következményekkel járhat. Gyakorlatorientált tárgyalási tréningünkkel abban segítünk partnereinknek\, hogy a tárgyalások kimenetele mindkét fél számára a lehető legjobb megoldást jelentse rövid és hosszútávon egyaránt. \n \n\n\n\n\n\n\n\n\n\n\nJelentkezési határidő: 2020. október 2. \nKépzési napok: 2020. 10. 12. – 2020. 10. 13. \nCsoportlétszám: 6-12 fő \nÓraszám: 16 óra \nHelyszín: Budapest belváros \n\n\n\n\n\n\n\n\n\n\n\n\n\n*A változtatás jogát fenntartjuk. (Ha újra visszatérne a home office\, a képzéseket online formában is meg tudjuk tartani. Ennek a megvalósítását előre leegyeztetjük az ügyfelekkel.) \nRészletek >>
URL:https://logisztika.hu/rendezveny/beszallitoi-targyalas-felsofokon-5/
CATEGORIES:Tréning
END:VEVENT
BEGIN:VEVENT
DTSTART;TZID=UTC:20201012T163000
DTEND;TZID=UTC:20201012T180000
DTSTAMP:20260423T192720
CREATED:20200924T110602Z
LAST-MODIFIED:20200924T110602Z
UID:73177-1602520200-1602525600@logisztika.hu
SUMMARY:Könyvbemutatót szervez az MLBKT Oktatói tagozata
DESCRIPTION:A Magyar Logisztikai\, Beszerzési és Készletezési Társaság Oktatói tagozata\ntisztelettel meghívja Önt\n2020. október 12-én 16:30 és 18:10 óra között\na ZOOM-ban tartandó online könyvbemutató rendezvényére\n\n \n  \nA könyvbemutató célja\, hogy a logisztika és ellátási lánc területen a 2018-ban vagy azóta született kiadványokat (könyv\, jegyzet\, esettanulmány kötet\, kutatási jelentés\, stb.) bemutassuk a szakma oktatóinak és kutatóinak. \nElőzetes felhívásunkra az alábbi könyvek ajánlása érkezett és kerülnek bemutatásra: \n  \n\n\n\n16.30 – 16.35\nKöszöntő\, a bemutatandó könyvek ismertetése\, Nagy Judit és Pónusz Mónika\, MLBKT Oktatói tagozat\n\n\n16.35 – 16.50\nLean szolgáltatásfejlesztés\, Dévai Zoltán; Fésüs Norbert; Kosztolányi János; Kővári Róbert; Nika Tamás; KaizenPro\, 2020 \nA könyvet bemutatja: Dévai Zoltán\, Fésüs Norbert\, Kosztolányi János\, Kővári Róbert\, Nika Tamás\n\n\n16.50 – 17.05\nBeszélgetés a könyvről\n\n\n17.05 – 17.20\nAre regions prepared for Industry 4.0?\, Abonyi J.; Czvetkó T.; Honti G.\, Springer\, 2020 \nA könyvet bemutatja: Dr. Abonyi János\, Pannon Egyetem\n\n\n17.20 – 17.35\nBeszélgetés a könyvről\n\n\n17.35 – 17.50\nÜzlet 4.0 – magyarországi vállalati tapasztalatok\, Demeter K.; Baksa M.; Freund A. (szerk.)\, Budapesti Corvinus Egyetem\, 2020 \nA könyvet bemutatja: Dr. Demeter Krisztina és Dr. Losonci Dávid\, Budapesti Corvinus Egyetem\n\n\n17.50 – 18.05\nBeszélgetés a könyvről\n\n\n18.05 – 18.10\nZárszó\n\n\n\n\n\n\na\na\nRemélem\, a bemutató alkalmat teremt a szakmai diskurzusra és közelebb hozza a hasonló témákat oktató és kutató kollégákat az ország minden részéről!\na\n\n\n\n\n\na\nJelentkezési határidő: 2020. október 11.\, 24 óra\n\n\n\ndr. Nagy Judit\, Budapesti Corvinus Egyetem\, az MLBKT Oktatói tagozatának vezetője\n\n\n\n\ndr. Pónusz Mónika\, Károli Gáspár Református Egyetem\, az MLBKT Oktatói tagozatának vezetőségi tagja
URL:https://logisztika.hu/rendezveny/konyvbemutatot-szervez-az-mlbkt-oktatoi-tagozata/
END:VEVENT
BEGIN:VEVENT
DTSTART;TZID=UTC:20201012T163000
DTEND;TZID=UTC:20201012T180000
DTSTAMP:20260423T192720
CREATED:20200924T110602Z
LAST-MODIFIED:20200924T110602Z
UID:83026-1602520200-1602525600@logisztika.hu
SUMMARY:Könyvbemutatót szervez az MLBKT Oktatói tagozata
DESCRIPTION:A Magyar Logisztikai\, Beszerzési és Készletezési Társaság Oktatói tagozata\ntisztelettel meghívja Önt\n2020. október 12-én 16:30 és 18:10 óra között\na ZOOM-ban tartandó online könyvbemutató rendezvényére\n\n \n  \nA könyvbemutató célja\, hogy a logisztika és ellátási lánc területen a 2018-ban vagy azóta született kiadványokat (könyv\, jegyzet\, esettanulmány kötet\, kutatási jelentés\, stb.) bemutassuk a szakma oktatóinak és kutatóinak. \nElőzetes felhívásunkra az alábbi könyvek ajánlása érkezett és kerülnek bemutatásra: \n  \n\n\n\n16.30 – 16.35\nKöszöntő\, a bemutatandó könyvek ismertetése\, Nagy Judit és Pónusz Mónika\, MLBKT Oktatói tagozat\n\n\n16.35 – 16.50\nLean szolgáltatásfejlesztés\, Dévai Zoltán; Fésüs Norbert; Kosztolányi János; Kővári Róbert; Nika Tamás; KaizenPro\, 2020 \nA könyvet bemutatja: Dévai Zoltán\, Fésüs Norbert\, Kosztolányi János\, Kővári Róbert\, Nika Tamás\n\n\n16.50 – 17.05\nBeszélgetés a könyvről\n\n\n17.05 – 17.20\nAre regions prepared for Industry 4.0?\, Abonyi J.; Czvetkó T.; Honti G.\, Springer\, 2020 \nA könyvet bemutatja: Dr. Abonyi János\, Pannon Egyetem\n\n\n17.20 – 17.35\nBeszélgetés a könyvről\n\n\n17.35 – 17.50\nÜzlet 4.0 – magyarországi vállalati tapasztalatok\, Demeter K.; Baksa M.; Freund A. (szerk.)\, Budapesti Corvinus Egyetem\, 2020 \nA könyvet bemutatja: Dr. Demeter Krisztina és Dr. Losonci Dávid\, Budapesti Corvinus Egyetem\n\n\n17.50 – 18.05\nBeszélgetés a könyvről\n\n\n18.05 – 18.10\nZárszó\n\n\n\n\n\n\na\na\nRemélem\, a bemutató alkalmat teremt a szakmai diskurzusra és közelebb hozza a hasonló témákat oktató és kutató kollégákat az ország minden részéről!\na\n\n\n\n\n\na\nJelentkezési határidő: 2020. október 11.\, 24 óra\n\n\n\ndr. Nagy Judit\, Budapesti Corvinus Egyetem\, az MLBKT Oktatói tagozatának vezetője\n\n\n\n\ndr. Pónusz Mónika\, Károli Gáspár Református Egyetem\, az MLBKT Oktatói tagozatának vezetőségi tagja
URL:https://logisztika.hu/rendezveny/konyvbemutatot-szervez-az-mlbkt-oktatoi-tagozata-3/
END:VEVENT
END:VCALENDAR