BEGIN:VCALENDAR
VERSION:2.0
PRODID:-//Magyar Logisztikai, Beszerzési és Készletezési Társaság - ECPv6.15.16//NONSGML v1.0//EN
CALSCALE:GREGORIAN
METHOD:PUBLISH
X-WR-CALNAME:Magyar Logisztikai, Beszerzési és Készletezési Társaság
X-ORIGINAL-URL:https://logisztika.hu
X-WR-CALDESC:Események Magyar Logisztikai, Beszerzési és Készletezési Társaság
REFRESH-INTERVAL;VALUE=DURATION:PT1H
X-Robots-Tag:noindex
X-PUBLISHED-TTL:PT1H
BEGIN:VTIMEZONE
TZID:UTC
BEGIN:STANDARD
TZOFFSETFROM:+0000
TZOFFSETTO:+0000
TZNAME:UTC
DTSTART:20190101T000000
END:STANDARD
END:VTIMEZONE
BEGIN:VEVENT
DTSTART;TZID=UTC:20201020T150000
DTEND;TZID=UTC:20201020T160000
DTSTAMP:20260423T192544
CREATED:20201015T101258Z
LAST-MODIFIED:20201015T101258Z
UID:73357-1603206000-1603209600@logisztika.hu
SUMMARY:LogiTalk 7 - Vissza a jövőbe? - Kilátások koronavírus-válság idején
DESCRIPTION:Vannak olyan dolgok\, amik ebben a furcsa\, új világban sikeresnek bizonyultak. Ilyenek azok a rövid\, online események\, melyeket LogiTalk néven április óta szervez az MLBKT. \nCélunk\, hogy megtörve a mindennapok menetét\, egy rövid időre kiragadjuk az érdeklődőket és aktuális\, sokakat foglalkoztató napi kérdésekről beszélgessünk\, hallgassuk meg a szakértők véleményét\, gyakorló szakemberek tapasztalatait. \n  \nÍgy a megszokott tagozati programok újraindítjuk LogiTalk programjainkat\, \nmelyeken az MLBKT tagjai ingyenesen vehetnek részt! \n[divider] \n  \nA 7. LogiTalkon áttekintést szeretnénk adni a jelen gazdasági környezetről\, és a jövő várható kimeneteiről. Ehhez Madár Istvánt\, a Portfolio vezető elemzőjét hívtuk segítségül\, aki válságkezelési stratégiákról és a vállalati alkalmazkodás lehetőségiről mesél majd közgazdász szemmel. \n  \nElőadásának címe: Vissza a jövőbe? – Kilátások koronavírus-válság idején \nIdőpontja: 2020. október 20. 15:00-16:00 óra között \nHelyszín: Zoom \n  \nBevezető gondolatokat mond és a programot moderálja \ndr. Chikán Attila\, az MLBKT társelnöke\, egyetemi tanár\, Budapesti Corvinus Egyetem \na \nA részvétel az MLBKT tagjai számára ingyenes\, de regisztrációhoz kötött. \nAzok számára\, akik még nem tagjaink\, a részvétel 1800\,-Ft+áfa (2286\,-). \n  \nJelentkezési határidő 2020. október 19. 15.00 óra \n  \n \n  \nTechnikai információk\nAz eseményt a Zoom alkalmazásban szervezzük\, a regisztráció után visszaigazolást küldünk és a rendezvény napján délelőtt küldjük a belépési linket. \nRészvételi feltételek és jelentkezés\nA részvétel az MLBKT tagjai számára ingyenes\, nem tagok részére 2200\,- Ft (1172\,-+áfa). Maximális létszám a ZOOM alkalmazásban 100 fő\, a jelentkezéseket a beérkezések sorrendjében fogadjuk.\nJelentkezni az űrlapon keresztül lehet 2020. október 19-e 15 óráig.
URL:https://logisztika.hu/rendezveny/logitalk-7-vissza-a-jovobe-kilatasok-koronavirus-valsag-idejen/
END:VEVENT
BEGIN:VEVENT
DTSTART;TZID=UTC:20201020T150000
DTEND;TZID=UTC:20201020T160000
DTSTAMP:20260423T192544
CREATED:20201015T101258Z
LAST-MODIFIED:20201015T101258Z
UID:83029-1603206000-1603209600@logisztika.hu
SUMMARY:LogiTalk 7 - Vissza a jövőbe? - Kilátások koronavírus-válság idején
DESCRIPTION:Vannak olyan dolgok\, amik ebben a furcsa\, új világban sikeresnek bizonyultak. Ilyenek azok a rövid\, online események\, melyeket LogiTalk néven április óta szervez az MLBKT. \nCélunk\, hogy megtörve a mindennapok menetét\, egy rövid időre kiragadjuk az érdeklődőket és aktuális\, sokakat foglalkoztató napi kérdésekről beszélgessünk\, hallgassuk meg a szakértők véleményét\, gyakorló szakemberek tapasztalatait. \n  \nÍgy a megszokott tagozati programok újraindítjuk LogiTalk programjainkat\, \nmelyeken az MLBKT tagjai ingyenesen vehetnek részt! \n[divider] \n  \nA 7. LogiTalkon áttekintést szeretnénk adni a jelen gazdasági környezetről\, és a jövő várható kimeneteiről. Ehhez Madár Istvánt\, a Portfolio vezető elemzőjét hívtuk segítségül\, aki válságkezelési stratégiákról és a vállalati alkalmazkodás lehetőségiről mesél majd közgazdász szemmel. \n  \nElőadásának címe: Vissza a jövőbe? – Kilátások koronavírus-válság idején \nIdőpontja: 2020. október 20. 15:00-16:00 óra között \nHelyszín: Zoom \n  \nBevezető gondolatokat mond és a programot moderálja \ndr. Chikán Attila\, az MLBKT társelnöke\, egyetemi tanár\, Budapesti Corvinus Egyetem \na \nA részvétel az MLBKT tagjai számára ingyenes\, de regisztrációhoz kötött. \nAzok számára\, akik még nem tagjaink\, a részvétel 1800\,-Ft+áfa (2286\,-). \n  \nJelentkezési határidő 2020. október 19. 15.00 óra \n  \n \n  \nTechnikai információk\nAz eseményt a Zoom alkalmazásban szervezzük\, a regisztráció után visszaigazolást küldünk és a rendezvény napján délelőtt küldjük a belépési linket. \nRészvételi feltételek és jelentkezés\nA részvétel az MLBKT tagjai számára ingyenes\, nem tagok részére 2200\,- Ft (1172\,-+áfa). Maximális létszám a ZOOM alkalmazásban 100 fő\, a jelentkezéseket a beérkezések sorrendjében fogadjuk.\nJelentkezni az űrlapon keresztül lehet 2020. október 19-e 15 óráig.
URL:https://logisztika.hu/rendezveny/logitalk-7-vissza-a-jovobe-kilatasok-koronavirus-valsag-idejen-2/
END:VEVENT
END:VCALENDAR