BEGIN:VCALENDAR
VERSION:2.0
PRODID:-//Magyar Logisztikai, Beszerzési és Készletezési Társaság - ECPv6.15.16//NONSGML v1.0//EN
CALSCALE:GREGORIAN
METHOD:PUBLISH
X-WR-CALNAME:Magyar Logisztikai, Beszerzési és Készletezési Társaság
X-ORIGINAL-URL:https://logisztika.hu
X-WR-CALDESC:Események Magyar Logisztikai, Beszerzési és Készletezési Társaság
REFRESH-INTERVAL;VALUE=DURATION:PT1H
X-Robots-Tag:noindex
X-PUBLISHED-TTL:PT1H
BEGIN:VTIMEZONE
TZID:UTC
BEGIN:STANDARD
TZOFFSETFROM:+0000
TZOFFSETTO:+0000
TZNAME:UTC
DTSTART:20190101T000000
END:STANDARD
END:VTIMEZONE
BEGIN:VEVENT
DTSTART;TZID=UTC:20201028T000000
DTEND;TZID=UTC:20201030T235959
DTSTAMP:20260423T175019
CREATED:20200715T064715Z
LAST-MODIFIED:20200715T064715Z
UID:83014-1603843200-1604102399@logisztika.hu
SUMMARY:Logisztikai kontrolling
DESCRIPTION:A logisztikai szakembereknek gyakran a szűkebben vett szakmai ismereteken túl olyan tudásra is szükségük van\, amellyel a logisztikai vezetői döntéseket alátámasztó kalkulációk készítésére is képesek lesznek\, ehhez pedig ismerniük kell az alapvető költség elszámolási eljárásokat\, érteniük kell a logisztikai költségek viselkedésének természetét\, ismerniük a logisztikai tevékenység eredményességét és hatékonyságát mérő nem pénzügyi mutatószámokat\, illetve tisztában kell lenniük ezek szerepével a különböző teljesítménymérési rendszerekben. \nHáromnapos logisztikai kontrolling kurzusunk gyakorlatias módon\, logisztikai példákon keresztül közelíti meg a témát. \n \n\n\n\n\n\n\n\n\nJelentkezési határidő: 2020. október 18.\n \nKépzési napok: 2020. 10. 28-30. \nMin.-Max. óraszám: 6-12 fő \nÓraszám: 24 óra \nHelyszín: Budapest belváros \n\n\n\n\n\n\n\n\n\n\n\n*A változtatás jogát fenntartjuk. (Ha újra visszatérne a home office\, a képzéseket online formában is meg tudjuk tartani. Ennek a megvalósítását előre leegyeztetjük az ügyfelekkel.) \nRészletek >>
URL:https://logisztika.hu/rendezveny/logisztikai-kontrolling-2-2/
CATEGORIES:Tréning
END:VEVENT
BEGIN:VEVENT
DTSTART;TZID=UTC:20201028T000000
DTEND;TZID=UTC:20201030T235959
DTSTAMP:20260423T175019
CREATED:20200715T064715Z
LAST-MODIFIED:20200715T064715Z
UID:72877-1603843200-1604102399@logisztika.hu
SUMMARY:Logisztikai kontrolling
DESCRIPTION:A logisztikai szakembereknek gyakran a szűkebben vett szakmai ismereteken túl olyan tudásra is szükségük van\, amellyel a logisztikai vezetői döntéseket alátámasztó kalkulációk készítésére is képesek lesznek\, ehhez pedig ismerniük kell az alapvető költség elszámolási eljárásokat\, érteniük kell a logisztikai költségek viselkedésének természetét\, ismerniük a logisztikai tevékenység eredményességét és hatékonyságát mérő nem pénzügyi mutatószámokat\, illetve tisztában kell lenniük ezek szerepével a különböző teljesítménymérési rendszerekben. \nHáromnapos logisztikai kontrolling kurzusunk gyakorlatias módon\, logisztikai példákon keresztül közelíti meg a témát. \n \n\n\n\n\n\n\n\n\nJelentkezési határidő: 2020. október 18.\n \nKépzési napok: 2020. 10. 28-30. \nMin.-Max. óraszám: 6-12 fő \nÓraszám: 24 óra \nHelyszín: Budapest belváros \n\n\n\n\n\n\n\n\n\n\n\n*A változtatás jogát fenntartjuk. (Ha újra visszatérne a home office\, a képzéseket online formában is meg tudjuk tartani. Ennek a megvalósítását előre leegyeztetjük az ügyfelekkel.) \nRészletek >>
URL:https://logisztika.hu/rendezveny/logisztikai-kontrolling-2/
CATEGORIES:Tréning
END:VEVENT
BEGIN:VEVENT
DTSTART;TZID=UTC:20201028T000000
DTEND;TZID=UTC:20201105T235959
DTSTAMP:20260423T175019
CREATED:20201021T122718Z
LAST-MODIFIED:20201021T122718Z
UID:72919-1603843200-1604620799@logisztika.hu
SUMMARY:Lean menedzsment és gyakorlati eszközök
DESCRIPTION:A képzés célja a lean szemlélet és a legfontosabb lean eszközök komplex rendszerének szimulációkkal és esettanulmányokkal támogatott megismertetése és elmélyítése\, továbbá a lean logisztikában történő felhasználási lehetőségeinek áttekintése példákon keresztül. \nA résztvevők a saját közegükben más szemlélettel\, új módszerek alkalmazásával képesek lesznek a hosszútávú folyamatos fejlődés hatékony\, fenntartható formája felé haladni\, a különböző nehézségeket többféle szemszögből megközelíteni\, és a problémák igazi okait keresni\, valamint átfogó képet kapni a lean folyamatfejlesztésről. \n \n\n\n\n\n\n\n\n\n\n\nJelentkezési határidő: 2020. október 14. \nKépzési napok: 2020. 10. 28. – 2020. 10. 29. és 2020. 11. 05. \nMin-Max. csoportlétszám: 6-12 fő \nÓraszám: 24 óra \nHelyszín: Budapest belváros \n\n\n\n\n\n\n\n\n\n\n\n\n\n*A változtatás jogát fenntartjuk. (Ha újra visszatérne a home office\, a képzéseket online formában is meg tudjuk tartani. Ennek a megvalósítását előre leegyeztetjük az ügyfelekkel.) \nRészletek >>
URL:https://logisztika.hu/rendezveny/lean-menedzsment-es-gyakorlati-eszkozok/
CATEGORIES:Tréning
END:VEVENT
BEGIN:VEVENT
DTSTART;TZID=UTC:20201028T000000
DTEND;TZID=UTC:20201105T235959
DTSTAMP:20260423T175019
CREATED:20201021T122718Z
LAST-MODIFIED:20201021T122718Z
UID:83022-1603843200-1604620799@logisztika.hu
SUMMARY:Lean menedzsment és gyakorlati eszközök
DESCRIPTION:A képzés célja a lean szemlélet és a legfontosabb lean eszközök komplex rendszerének szimulációkkal és esettanulmányokkal támogatott megismertetése és elmélyítése\, továbbá a lean logisztikában történő felhasználási lehetőségeinek áttekintése példákon keresztül. \nA résztvevők a saját közegükben más szemlélettel\, új módszerek alkalmazásával képesek lesznek a hosszútávú folyamatos fejlődés hatékony\, fenntartható formája felé haladni\, a különböző nehézségeket többféle szemszögből megközelíteni\, és a problémák igazi okait keresni\, valamint átfogó képet kapni a lean folyamatfejlesztésről. \n \n\n\n\n\n\n\n\n\n\n\nJelentkezési határidő: 2020. október 14. \nKépzési napok: 2020. 10. 28. – 2020. 10. 29. és 2020. 11. 05. \nMin-Max. csoportlétszám: 6-12 fő \nÓraszám: 24 óra \nHelyszín: Budapest belváros \n\n\n\n\n\n\n\n\n\n\n\n\n\n*A változtatás jogát fenntartjuk. (Ha újra visszatérne a home office\, a képzéseket online formában is meg tudjuk tartani. Ennek a megvalósítását előre leegyeztetjük az ügyfelekkel.) \nRészletek >>
URL:https://logisztika.hu/rendezveny/lean-menedzsment-es-gyakorlati-eszkozok-4/
CATEGORIES:Tréning
END:VEVENT
END:VCALENDAR