BEGIN:VCALENDAR
VERSION:2.0
PRODID:-//Magyar Logisztikai, Beszerzési és Készletezési Társaság - ECPv6.15.16//NONSGML v1.0//EN
CALSCALE:GREGORIAN
METHOD:PUBLISH
X-ORIGINAL-URL:https://logisztika.hu
X-WR-CALDESC:Események Magyar Logisztikai, Beszerzési és Készletezési Társaság
REFRESH-INTERVAL;VALUE=DURATION:PT1H
X-Robots-Tag:noindex
X-PUBLISHED-TTL:PT1H
BEGIN:VTIMEZONE
TZID:UTC
BEGIN:STANDARD
TZOFFSETFROM:+0000
TZOFFSETTO:+0000
TZNAME:UTC
DTSTART:20190101T000000
END:STANDARD
END:VTIMEZONE
BEGIN:VEVENT
DTSTART;TZID=UTC:20201111T000000
DTEND;TZID=UTC:20201113T235959
DTSTAMP:20260423T180434
CREATED:20200604T085103Z
LAST-MODIFIED:20200604T085103Z
UID:72660-1605052800-1605311999@logisztika.hu
SUMMARY:28. MLBKT Kongresszus
DESCRIPTION:28. MLBKT kongresszus – Az év Supply Chain eseménye\n2020. november 11-13.\, Siófok\n\nAz MLBKT 28. éves kongresszusa a szakma legnagyobb találkozóhelye. Az elmúlt években a rendezvény 3 napján mintegy 500\, ellátási láncban dolgozó szakember\, vezető és 100 egyetemi hallgató fordult meg. \n  \n \n\nA tavalyi rendezvény programját megtekintheti ezen az oldalon. \nRészletek hamarosan…
URL:https://logisztika.hu/rendezveny/28-mlbkt-kongresszus/
CATEGORIES:Konferencia
END:VEVENT
BEGIN:VEVENT
DTSTART;TZID=UTC:20201111T000000
DTEND;TZID=UTC:20201113T235959
DTSTAMP:20260423T180434
CREATED:20200604T085103Z
LAST-MODIFIED:20200604T085103Z
UID:83009-1605052800-1605311999@logisztika.hu
SUMMARY:28. MLBKT Kongresszus
DESCRIPTION:28. MLBKT kongresszus – Az év Supply Chain eseménye\n2020. november 11-13.\, Siófok\n\nAz MLBKT 28. éves kongresszusa a szakma legnagyobb találkozóhelye. Az elmúlt években a rendezvény 3 napján mintegy 500\, ellátási láncban dolgozó szakember\, vezető és 100 egyetemi hallgató fordult meg. \n  \n \n\nA tavalyi rendezvény programját megtekintheti ezen az oldalon. \nRészletek hamarosan…
URL:https://logisztika.hu/rendezveny/28-mlbkt-kongresszus-2/
CATEGORIES:Konferencia
END:VEVENT
END:VCALENDAR