BEGIN:VCALENDAR
VERSION:2.0
PRODID:-//Magyar Logisztikai, Beszerzési és Készletezési Társaság - ECPv6.15.16//NONSGML v1.0//EN
CALSCALE:GREGORIAN
METHOD:PUBLISH
X-WR-CALNAME:Magyar Logisztikai, Beszerzési és Készletezési Társaság
X-ORIGINAL-URL:https://logisztika.hu
X-WR-CALDESC:Események Magyar Logisztikai, Beszerzési és Készletezési Társaság
REFRESH-INTERVAL;VALUE=DURATION:PT1H
X-Robots-Tag:noindex
X-PUBLISHED-TTL:PT1H
BEGIN:VTIMEZONE
TZID:UTC
BEGIN:STANDARD
TZOFFSETFROM:+0000
TZOFFSETTO:+0000
TZNAME:UTC
DTSTART:20190101T000000
END:STANDARD
END:VTIMEZONE
BEGIN:VEVENT
DTSTART;TZID=UTC:20201120T090000
DTEND;TZID=UTC:20201120T120000
DTSTAMP:20260423T180308
CREATED:20200715T074343Z
LAST-MODIFIED:20200715T074343Z
UID:72923-1605862800-1605873600@logisztika.hu
SUMMARY:Incoterms (ENG)
DESCRIPTION:Incoterms 2020 is applicable from 1 January 2020\, it can be used instead of the previous Incoterms 2010\, if seller and buyer so agree. Many times\, we can experience that seller and buyer forget about signing the chosen Incoterms “year” near the Incoterms clauses. In this case – by default – the actual Incoterms version will be understood\, that is why it is especially important to learn the changes\, to which the program will spend enough time. \nDuring the editing of Incoterms 2020 the changes in trade practices has been considered\, as well as the need for modifications related to the 2010 version. The program will discuss all of the 11 clauses of Incoterms 2020\, at the same time it will provide the audience with the possibility  to raise question\, to speak about those problems during their working with Incoterms\, which they could not solve.  \n \n\n\n\n\n\n\n\n\n\n\nJelentkezési határidő: 2020. november 10.\n \nKépzési napok: 2020. 11. 20. 9:00 – 12:00 \nMin.-Max. óraszám: 8-20 fő \nÓraszám: 3 óra \nHelyszín: Online oktatás\, workshop \n\n\n\n\n\n\n\n\n\n\n\n\n\n*A változtatás jogát fenntartjuk. (Ha újra visszatérne a home office\, a képzéseket online formában is meg tudjuk tartani. Ennek a megvalósítását előre leegyeztetjük az ügyfelekkel.) \nRészletek >>
URL:https://logisztika.hu/rendezveny/incoterms-eng/
CATEGORIES:Tréning
END:VEVENT
BEGIN:VEVENT
DTSTART;TZID=UTC:20201120T090000
DTEND;TZID=UTC:20201120T120000
DTSTAMP:20260423T180308
CREATED:20200715T074343Z
LAST-MODIFIED:20200715T074343Z
UID:83023-1605862800-1605873600@logisztika.hu
SUMMARY:Incoterms (ENG)
DESCRIPTION:Incoterms 2020 is applicable from 1 January 2020\, it can be used instead of the previous Incoterms 2010\, if seller and buyer so agree. Many times\, we can experience that seller and buyer forget about signing the chosen Incoterms “year” near the Incoterms clauses. In this case – by default – the actual Incoterms version will be understood\, that is why it is especially important to learn the changes\, to which the program will spend enough time. \nDuring the editing of Incoterms 2020 the changes in trade practices has been considered\, as well as the need for modifications related to the 2010 version. The program will discuss all of the 11 clauses of Incoterms 2020\, at the same time it will provide the audience with the possibility  to raise question\, to speak about those problems during their working with Incoterms\, which they could not solve.  \n \n\n\n\n\n\n\n\n\n\n\nJelentkezési határidő: 2020. november 10.\n \nKépzési napok: 2020. 11. 20. 9:00 – 12:00 \nMin.-Max. óraszám: 8-20 fő \nÓraszám: 3 óra \nHelyszín: Online oktatás\, workshop \n\n\n\n\n\n\n\n\n\n\n\n\n\n*A változtatás jogát fenntartjuk. (Ha újra visszatérne a home office\, a képzéseket online formában is meg tudjuk tartani. Ennek a megvalósítását előre leegyeztetjük az ügyfelekkel.) \nRészletek >>
URL:https://logisztika.hu/rendezveny/incoterms-eng-2/
CATEGORIES:Tréning
END:VEVENT
END:VCALENDAR