BEGIN:VCALENDAR
VERSION:2.0
PRODID:-//Magyar Logisztikai, Beszerzési és Készletezési Társaság - ECPv6.15.16//NONSGML v1.0//EN
CALSCALE:GREGORIAN
METHOD:PUBLISH
X-WR-CALNAME:Magyar Logisztikai, Beszerzési és Készletezési Társaság
X-ORIGINAL-URL:https://logisztika.hu
X-WR-CALDESC:Események Magyar Logisztikai, Beszerzési és Készletezési Társaság
REFRESH-INTERVAL;VALUE=DURATION:PT1H
X-Robots-Tag:noindex
X-PUBLISHED-TTL:PT1H
BEGIN:VTIMEZONE
TZID:UTC
BEGIN:STANDARD
TZOFFSETFROM:+0000
TZOFFSETTO:+0000
TZNAME:UTC
DTSTART:20190101T000000
END:STANDARD
END:VTIMEZONE
BEGIN:VEVENT
DTSTART;TZID=UTC:20201123T000000
DTEND;TZID=UTC:20201130T235959
DTSTAMP:20260423T180339
CREATED:20200715T074624Z
LAST-MODIFIED:20200715T074624Z
UID:72925-1606089600-1606780799@logisztika.hu
SUMMARY:Lean menedzsment a szolgáltatásban
DESCRIPTION:Képzésünk átfogó és gyakorlatias módon ismerteti meg  a lean alapfogalmait mindazokkal\, akik a szolgáltatási szektorban\, egészségügyi\, oktatási és irodai területen tevékenykednek és szeretnék a lean szolgáltatásban alkalmazható eszközeit\, módszereit\, lehetőségeit megismerni és alkalmazni mindennapi munkájuk során.   \n \n\n\n\n\n\n\n\n\n\n\nJelentkezési határidő: 2020. november 13. \nKépzési napok: 2020. 11. 23. – 2020. 11. 24. és 2020. 11. 30. \nMin-Max. csoportlétszám: 6-12 fő \nÓraszám: 16 óra (6 óra\, 6 óra\, 4 óra) \nHelyszín: Budapest belváros és online \n\n\n\n\n\n\n\n\n\n\n\n\n\n*A változtatás jogát fenntartjuk. (Ha újra visszatérne a home office\, a képzéseket online formában is meg tudjuk tartani. Ennek a megvalósítását előre leegyeztetjük az ügyfelekkel.) \nRészletek >>
URL:https://logisztika.hu/rendezveny/lean-menedzsment-a-szolgaltatasban/
CATEGORIES:Tréning
END:VEVENT
BEGIN:VEVENT
DTSTART;TZID=UTC:20201123T000000
DTEND;TZID=UTC:20201130T235959
DTSTAMP:20260423T180339
CREATED:20200715T074624Z
LAST-MODIFIED:20200715T074624Z
UID:83024-1606089600-1606780799@logisztika.hu
SUMMARY:Lean menedzsment a szolgáltatásban
DESCRIPTION:Képzésünk átfogó és gyakorlatias módon ismerteti meg  a lean alapfogalmait mindazokkal\, akik a szolgáltatási szektorban\, egészségügyi\, oktatási és irodai területen tevékenykednek és szeretnék a lean szolgáltatásban alkalmazható eszközeit\, módszereit\, lehetőségeit megismerni és alkalmazni mindennapi munkájuk során.   \n \n\n\n\n\n\n\n\n\n\n\nJelentkezési határidő: 2020. november 13. \nKépzési napok: 2020. 11. 23. – 2020. 11. 24. és 2020. 11. 30. \nMin-Max. csoportlétszám: 6-12 fő \nÓraszám: 16 óra (6 óra\, 6 óra\, 4 óra) \nHelyszín: Budapest belváros és online \n\n\n\n\n\n\n\n\n\n\n\n\n\n*A változtatás jogát fenntartjuk. (Ha újra visszatérne a home office\, a képzéseket online formában is meg tudjuk tartani. Ennek a megvalósítását előre leegyeztetjük az ügyfelekkel.) \nRészletek >>
URL:https://logisztika.hu/rendezveny/lean-menedzsment-a-szolgaltatasban-4/
CATEGORIES:Tréning
END:VEVENT
END:VCALENDAR