BEGIN:VCALENDAR
VERSION:2.0
PRODID:-//Magyar Logisztikai, Beszerzési és Készletezési Társaság - ECPv6.15.16//NONSGML v1.0//EN
CALSCALE:GREGORIAN
METHOD:PUBLISH
X-WR-CALNAME:Magyar Logisztikai, Beszerzési és Készletezési Társaság
X-ORIGINAL-URL:https://logisztika.hu
X-WR-CALDESC:Események Magyar Logisztikai, Beszerzési és Készletezési Társaság
REFRESH-INTERVAL;VALUE=DURATION:PT1H
X-Robots-Tag:noindex
X-PUBLISHED-TTL:PT1H
BEGIN:VTIMEZONE
TZID:UTC
BEGIN:STANDARD
TZOFFSETFROM:+0000
TZOFFSETTO:+0000
TZNAME:UTC
DTSTART:20200101T000000
END:STANDARD
END:VTIMEZONE
BEGIN:VEVENT
DTSTART;TZID=UTC:20210121T150000
DTEND;TZID=UTC:20210121T163000
DTSTAMP:20260423T145351
CREATED:20210111T113824Z
LAST-MODIFIED:20210111T113824Z
UID:73765-1611241200-1611246600@logisztika.hu
SUMMARY:Virtuális vállalatlátogatás - a Hungaropharma Zrt. Budapesti Logisztikai Központ II. bemutatása
DESCRIPTION:  \nMLBKT Gyógyszeripari Tagozata sok szeretettel meghívja Önt következő programjára: \n  \nIdőpont: 2021. január 21.\, 15.00-16.30. \nTéma: A Hungaropharma Zrt. Budapesti Logisztikai Központ II. bemutatása virtuális vállalatlátogatás keretében \nHelyszín: ZOOM (a belépési kódot az esemény napján\, délelőtt küldjük a regisztrációban megadott e-mail címre) \n  \n2020-ban megkezdte működését Magyarország legmodernebb gyógyszeripari raktárbázisa\, a BLK II.\, a Hungaropharma Zrt. Budapesti Logisztikai Központjában. \n  \nTegyen velünk egy virtuális látogatást\, ismerje meg az új komplexumot\, s kérdezzen bátran a Hungaropharma Vállalatcsoport vezető munkatársaitól! \n  \nProgram: \n\n\n\n15:00-15:05   \nKöszöntő \nKellner Mária\, MLBKT alelnök\, MLBKT Gyógyszeripari Tagozat vezető\, ellátási lánc igazgató\, Béres Gyógyszergyár Zrt.\n\n\n15:05-15:15   \nÖrömmel mutatjuk meg Önnek új raktárbázisunkat \nBallai Orsolya\, Hungaropharma Zrt.\, Beszerzési igazgató\n\n\n15:15-15:40   \nA BLK2 raktár infrastruktúrája\, munkafolyamatai \nBebesi Balázs\, Hungaropharma Zrt.\, Logisztikai vezető\n\n\n15:40-16:05   \nÚj otthon\, számtalan lehetőség\, azaz a Bellis Egészségtár Kft. működése az új raktárban \nDene László\, Bellis Egészségtár Kft.\, ügyvezető igazgató\n\n\n16:05-16:20   \nKerekasztal beszélgetés: 5 milliárdos beruházás az elejétől a végéig \n·        Ballai Orsolya\, Hungaropharma Zrt.\, Beszerzési igazgató; \n·        Bebesi Balázs\, Hungaropharma Zrt.\, Logisztikai vezető; \n·        Dene László\, Bellis Egészségtár Kft.\, ügyvezető igazgató; \n·        Meleg Gábor\, Hungaropharma Zrt.\, Logisztikai és szállítási igazgató\, \n·        Orbán-Bányai Zita\, Hungaropharma Zrt.\, Koordinációs és kiemelt ügyfélkapcsolati vezető\n\n\n16:20-16:30   \nSzeretettel várjuk kérdéseiket\n\n\n\n  \nJelentkezési határidő: 2021. január 18. \n  \n \n  \nHa a fenti gomb nem működik\, itt is lehet jelentkezni → https://forms.gle/2PgNTCZymiHqWp2T8 \n  \nAz eseményen történő részvétel az MLBKT tagjai részére INGYENES\, de regisztrációhoz kötött.\nAz eseményt a Zoom alkalmazásban szervezzük és rendezvény előtt küldjük a belépési linket.
URL:https://logisztika.hu/rendezveny/virtualis-vallalatlatogatas-a-hungaropharma-zrt-budapesti-logisztikai-kozpont-ii-bemutatasa/
CATEGORIES:Vállalatlátogatás
END:VEVENT
BEGIN:VEVENT
DTSTART;TZID=UTC:20210121T150000
DTEND;TZID=UTC:20210121T163000
DTSTAMP:20260423T145351
CREATED:20210111T113824Z
LAST-MODIFIED:20210111T113824Z
UID:83055-1611241200-1611246600@logisztika.hu
SUMMARY:Virtuális vállalatlátogatás - a Hungaropharma Zrt. Budapesti Logisztikai Központ II. bemutatása
DESCRIPTION:  \nMLBKT Gyógyszeripari Tagozata sok szeretettel meghívja Önt következő programjára: \n  \nIdőpont: 2021. január 21.\, 15.00-16.30. \nTéma: A Hungaropharma Zrt. Budapesti Logisztikai Központ II. bemutatása virtuális vállalatlátogatás keretében \nHelyszín: ZOOM (a belépési kódot az esemény napján\, délelőtt küldjük a regisztrációban megadott e-mail címre) \n  \n2020-ban megkezdte működését Magyarország legmodernebb gyógyszeripari raktárbázisa\, a BLK II.\, a Hungaropharma Zrt. Budapesti Logisztikai Központjában. \n  \nTegyen velünk egy virtuális látogatást\, ismerje meg az új komplexumot\, s kérdezzen bátran a Hungaropharma Vállalatcsoport vezető munkatársaitól! \n  \nProgram: \n\n\n\n15:00-15:05   \nKöszöntő \nKellner Mária\, MLBKT alelnök\, MLBKT Gyógyszeripari Tagozat vezető\, ellátási lánc igazgató\, Béres Gyógyszergyár Zrt.\n\n\n15:05-15:15   \nÖrömmel mutatjuk meg Önnek új raktárbázisunkat \nBallai Orsolya\, Hungaropharma Zrt.\, Beszerzési igazgató\n\n\n15:15-15:40   \nA BLK2 raktár infrastruktúrája\, munkafolyamatai \nBebesi Balázs\, Hungaropharma Zrt.\, Logisztikai vezető\n\n\n15:40-16:05   \nÚj otthon\, számtalan lehetőség\, azaz a Bellis Egészségtár Kft. működése az új raktárban \nDene László\, Bellis Egészségtár Kft.\, ügyvezető igazgató\n\n\n16:05-16:20   \nKerekasztal beszélgetés: 5 milliárdos beruházás az elejétől a végéig \n·        Ballai Orsolya\, Hungaropharma Zrt.\, Beszerzési igazgató; \n·        Bebesi Balázs\, Hungaropharma Zrt.\, Logisztikai vezető; \n·        Dene László\, Bellis Egészségtár Kft.\, ügyvezető igazgató; \n·        Meleg Gábor\, Hungaropharma Zrt.\, Logisztikai és szállítási igazgató\, \n·        Orbán-Bányai Zita\, Hungaropharma Zrt.\, Koordinációs és kiemelt ügyfélkapcsolati vezető\n\n\n16:20-16:30   \nSzeretettel várjuk kérdéseiket\n\n\n\n  \nJelentkezési határidő: 2021. január 18. \n  \n \n  \nHa a fenti gomb nem működik\, itt is lehet jelentkezni → https://forms.gle/2PgNTCZymiHqWp2T8 \n  \nAz eseményen történő részvétel az MLBKT tagjai részére INGYENES\, de regisztrációhoz kötött.\nAz eseményt a Zoom alkalmazásban szervezzük és rendezvény előtt küldjük a belépési linket.
URL:https://logisztika.hu/rendezveny/virtualis-vallalatlatogatas-a-hungaropharma-zrt-budapesti-logisztikai-kozpont-ii-bemutatasa-2/
CATEGORIES:Vállalatlátogatás
END:VEVENT
END:VCALENDAR