BEGIN:VCALENDAR
VERSION:2.0
PRODID:-//Magyar Logisztikai, Beszerzési és Készletezési Társaság - ECPv6.15.16//NONSGML v1.0//EN
CALSCALE:GREGORIAN
METHOD:PUBLISH
X-ORIGINAL-URL:https://logisztika.hu
X-WR-CALDESC:Események Magyar Logisztikai, Beszerzési és Készletezési Társaság
REFRESH-INTERVAL;VALUE=DURATION:PT1H
X-Robots-Tag:noindex
X-PUBLISHED-TTL:PT1H
BEGIN:VTIMEZONE
TZID:UTC
BEGIN:STANDARD
TZOFFSETFROM:+0000
TZOFFSETTO:+0000
TZNAME:UTC
DTSTART:20200101T000000
END:STANDARD
END:VTIMEZONE
BEGIN:VEVENT
DTSTART;TZID=UTC:20210125T160000
DTEND;TZID=UTC:20210125T180000
DTSTAMP:20260423T145437
CREATED:20210120T094601Z
LAST-MODIFIED:20210120T094601Z
UID:73792-1611590400-1611597600@logisztika.hu
SUMMARY:Forecasting Tagozati program!
DESCRIPTION:Szeretettel meghívjuk az MLBKT Forecasting Tagozatának következő programjára az alábbiak szerint \n  \nTéma: \nSaint Gobain Construction Product S&OP és forecasting folyamatainak automatizálása\, SAP környezethez illeszkedően (SAP/ABAP programozás nélkül) \n  \nIdőpont: 2021. január 25. 16.00-18.00 \nHelyszín: ZOOM online felület\n(a belépéshez szükséges kódot minden jelentkezőnknek a rendezvény napján\, a délelőtti órákban küldjük) \n  \nA tervezett program: \nBevezetés: a szervezeti kultúra és az értékesítés-igény előrejelzés kölcsönhatása \nElőadó: Mondovics János\, Bonitat Kft \n  \nSaint Gobain Construction Product S&OP és forecasting folyamatainak automatizálása\, SAP környezethez illeszkedően (SAP/ABAP programozás nélkül\, azzal kapcsolódva) \nElőadó:  Kakuk Péter a Saint Gobain Construction Product logisztikai folyamatfejlesztési menedzsere\, a szoftver fejlesztője \nA vállalat pontosabb készleteket\, precízebb előrejelzéseket ér el\, emellett az eredeti SAP megoldásnál rugalmasabb kontrollszerepet és jelzési rendszert sikerült kialakítani. \n„A költséghatékony és gyors implementáció mellett jól látható és számszerűsíthető eredményeket produkált a rendszer. A logisztikai hatékonyság növekedése miatt két nappal kevesebb termeléssel értük el ugyanazt az éves értékesítési volument\, mint a szoftver nélkül tehettük volna. Az előrejelzett kapacitások pontossága hat havi minta alapján 98\,3 – 99\,2%-os szintet ért el és a forecast pontossága is emelkedett. \nA legnagyobb eredmények azonban nem számszerűsíthetők: a közös tudatosság\, a munkakultúra\, a részlegek közötti megértés formálódása\, a transzparensebbé váló hatáskörök és a sokkal mélyebben adatvezérelt döntések lehetőségének kialakulása.” A rendszer alacsonyabb költségen tud rugalmasabb és sokszor pontosabb megoldásokat kínálni a SAP natív megoldásánál. \nKérdések\, eszmecsere (vezeti: Mondovics János) \n  \nRészvételi díj: \n\nA részvételi az MLBKT tagjai számára ingyenes\, de előzetes regisztrációhoz kötött!\nNem MLBKT tagok részére bruttó 3000\,- Ft\n\n\nJelentkezési határidő: 2021. január 24. 24.00 óra \n 
URL:https://logisztika.hu/rendezveny/forecasting-tagozati-program-2/
END:VEVENT
BEGIN:VEVENT
DTSTART;TZID=UTC:20210125T160000
DTEND;TZID=UTC:20210125T180000
DTSTAMP:20260423T145437
CREATED:20210120T094601Z
LAST-MODIFIED:20210120T094601Z
UID:83056-1611590400-1611597600@logisztika.hu
SUMMARY:Forecasting Tagozati program!
DESCRIPTION:Szeretettel meghívjuk az MLBKT Forecasting Tagozatának következő programjára az alábbiak szerint \n  \nTéma: \nSaint Gobain Construction Product S&OP és forecasting folyamatainak automatizálása\, SAP környezethez illeszkedően (SAP/ABAP programozás nélkül) \n  \nIdőpont: 2021. január 25. 16.00-18.00 \nHelyszín: ZOOM online felület\n(a belépéshez szükséges kódot minden jelentkezőnknek a rendezvény napján\, a délelőtti órákban küldjük) \n  \nA tervezett program: \nBevezetés: a szervezeti kultúra és az értékesítés-igény előrejelzés kölcsönhatása \nElőadó: Mondovics János\, Bonitat Kft \n  \nSaint Gobain Construction Product S&OP és forecasting folyamatainak automatizálása\, SAP környezethez illeszkedően (SAP/ABAP programozás nélkül\, azzal kapcsolódva) \nElőadó:  Kakuk Péter a Saint Gobain Construction Product logisztikai folyamatfejlesztési menedzsere\, a szoftver fejlesztője \nA vállalat pontosabb készleteket\, precízebb előrejelzéseket ér el\, emellett az eredeti SAP megoldásnál rugalmasabb kontrollszerepet és jelzési rendszert sikerült kialakítani. \n„A költséghatékony és gyors implementáció mellett jól látható és számszerűsíthető eredményeket produkált a rendszer. A logisztikai hatékonyság növekedése miatt két nappal kevesebb termeléssel értük el ugyanazt az éves értékesítési volument\, mint a szoftver nélkül tehettük volna. Az előrejelzett kapacitások pontossága hat havi minta alapján 98\,3 – 99\,2%-os szintet ért el és a forecast pontossága is emelkedett. \nA legnagyobb eredmények azonban nem számszerűsíthetők: a közös tudatosság\, a munkakultúra\, a részlegek közötti megértés formálódása\, a transzparensebbé váló hatáskörök és a sokkal mélyebben adatvezérelt döntések lehetőségének kialakulása.” A rendszer alacsonyabb költségen tud rugalmasabb és sokszor pontosabb megoldásokat kínálni a SAP natív megoldásánál. \nKérdések\, eszmecsere (vezeti: Mondovics János) \n  \nRészvételi díj: \n\nA részvételi az MLBKT tagjai számára ingyenes\, de előzetes regisztrációhoz kötött!\nNem MLBKT tagok részére bruttó 3000\,- Ft\n\n\nJelentkezési határidő: 2021. január 24. 24.00 óra \n 
URL:https://logisztika.hu/rendezveny/forecasting-tagozati-program-2-2/
END:VEVENT
END:VCALENDAR