BEGIN:VCALENDAR
VERSION:2.0
PRODID:-//Magyar Logisztikai, Beszerzési és Készletezési Társaság - ECPv6.15.16//NONSGML v1.0//EN
CALSCALE:GREGORIAN
METHOD:PUBLISH
X-WR-CALNAME:Magyar Logisztikai, Beszerzési és Készletezési Társaság
X-ORIGINAL-URL:https://logisztika.hu
X-WR-CALDESC:Események Magyar Logisztikai, Beszerzési és Készletezési Társaság
REFRESH-INTERVAL;VALUE=DURATION:PT1H
X-Robots-Tag:noindex
X-PUBLISHED-TTL:PT1H
BEGIN:VTIMEZONE
TZID:UTC
BEGIN:STANDARD
TZOFFSETFROM:+0000
TZOFFSETTO:+0000
TZNAME:UTC
DTSTART:20200101T000000
END:STANDARD
END:VTIMEZONE
BEGIN:VEVENT
DTSTART;TZID=UTC:20210208T150000
DTEND;TZID=UTC:20210208T163000
DTSTAMP:20260423T132236
CREATED:20210201T132754Z
LAST-MODIFIED:20210201T132754Z
UID:73937-1612796400-1612801800@logisztika.hu
SUMMARY:LogInfo – Tudnivalók a BiREG rendszerről
DESCRIPTION:A rendszert számos kérdés övezi. Az elmúlt hetek történéseivel\, a rendszer működési elveivel\, a feladó és címzett kötelezettségeivel és a jövőbeli fejlesztésekkel foglalkozunk\, \n2021. február 8-án (hétfőn) 15.00-16.30 között \naz MLBKT Logisztikai Szolgáltatói Tagozata szervezésében. \nA bevezetőben áttekintjük a fuvarpiaci helyzet alakulását 2004-et\, illetve 2015-öt követően\, különös tekintettel a 2015-ös versenyképességi csomag sikereire és hiányosságaira. Kitérünk az európai piacvédelmi lépésekre\, a mobilitási csomag egyes hatásaira\, a magyar fuvarozók jelenlegi versenytársaira. \nPár percben ismertetjük az ITM KKEF főosztály tevékenységének jelentőségét\, a BiREG fontosságát (a BiREG előtti és a BiREG-et követő újabb lépéseket a piac tisztulása érdekében). \nRészletesen körüljárjuk a rendszer működési elveit\, a regisztrációra kötelezettek körét\, a feladó és címzett feladatait\, kötelezettségeit és a jövőbeni fejlesztéseket. \n  \nA tavaly december 31-én megjelent 298. számú közlönyben kihirdetett 722/2020. számú kormányrendelet módosította a 261/2011-es\, a közúti áruszállításról szóló kormányrendeletet. A módosítás 2021. január elsejei hatállyal bevezette a Bireg rendszert. Részletek >> \n  \nElőadóink: \nKarmos Gábor\, szakértő\, okleveles közlekedés mérnök \nRónay-Tobel Beatrix\, főosztályvezető\, Közúti Közlekedési Ellenőrzési Főosztály\, Innovációs és Technológiai Minisztérium \n  \nRészvételi díjak: \n\naz MLBKT tagjai számára ingyenes\nnem MLBKT tagok számára 6 000 Ft + áfa\n\n  \nHelyszín: ZOOM alkalmazás\n(A belépő kódot február 8-án 12 óráig küldjük a regisztrációban megadott e-mail címre.) \nJelentkezési határidő: 2021. február 7.  \n\nAmennyiben a fenti gomb nem működik\, a jelentkezési lap itt található: https://forms.gle/Y64UfBCARcLZKnWW9 \nTechnikai információk\nAz eseményt a Zoom alkalmazásban szervezzük\, a regisztráció után visszaigazolást küldünk és a rendezvény napján délelőtt küldjük a belépési linket. \nRészvételi feltételek és jelentkezés\nA részvétel az MLBKT tagjai számára ingyenes\, nem tagok részére 6000\,- Ft. Maximális létszám a ZOOM alkalmazásban 100 fő\, a jelentkezéseket a beérkezések sorrendjében fogadjuk.\nJelentkezni az űrlapon keresztül lehet 2021. február 7-ig.
URL:https://logisztika.hu/rendezveny/loginfo-tudnivalok-a-bireg-rendszerrol/
CATEGORIES:Webinar
ATTACH;FMTTYPE=image/jpeg:https://logisztika.hu/wp-content/uploads/2021/02/660x300_BiREG.jpg
END:VEVENT
BEGIN:VEVENT
DTSTART;TZID=UTC:20210208T150000
DTEND;TZID=UTC:20210208T163000
DTSTAMP:20260423T132236
CREATED:20210201T132754Z
LAST-MODIFIED:20210201T132754Z
UID:83059-1612796400-1612801800@logisztika.hu
SUMMARY:LogInfo – Tudnivalók a BiREG rendszerről
DESCRIPTION:A rendszert számos kérdés övezi. Az elmúlt hetek történéseivel\, a rendszer működési elveivel\, a feladó és címzett kötelezettségeivel és a jövőbeli fejlesztésekkel foglalkozunk\, \n2021. február 8-án (hétfőn) 15.00-16.30 között \naz MLBKT Logisztikai Szolgáltatói Tagozata szervezésében. \nA bevezetőben áttekintjük a fuvarpiaci helyzet alakulását 2004-et\, illetve 2015-öt követően\, különös tekintettel a 2015-ös versenyképességi csomag sikereire és hiányosságaira. Kitérünk az európai piacvédelmi lépésekre\, a mobilitási csomag egyes hatásaira\, a magyar fuvarozók jelenlegi versenytársaira. \nPár percben ismertetjük az ITM KKEF főosztály tevékenységének jelentőségét\, a BiREG fontosságát (a BiREG előtti és a BiREG-et követő újabb lépéseket a piac tisztulása érdekében). \nRészletesen körüljárjuk a rendszer működési elveit\, a regisztrációra kötelezettek körét\, a feladó és címzett feladatait\, kötelezettségeit és a jövőbeni fejlesztéseket. \n  \nA tavaly december 31-én megjelent 298. számú közlönyben kihirdetett 722/2020. számú kormányrendelet módosította a 261/2011-es\, a közúti áruszállításról szóló kormányrendeletet. A módosítás 2021. január elsejei hatállyal bevezette a Bireg rendszert. Részletek >> \n  \nElőadóink: \nKarmos Gábor\, szakértő\, okleveles közlekedés mérnök \nRónay-Tobel Beatrix\, főosztályvezető\, Közúti Közlekedési Ellenőrzési Főosztály\, Innovációs és Technológiai Minisztérium \n  \nRészvételi díjak: \n\naz MLBKT tagjai számára ingyenes\nnem MLBKT tagok számára 6 000 Ft + áfa\n\n  \nHelyszín: ZOOM alkalmazás\n(A belépő kódot február 8-án 12 óráig küldjük a regisztrációban megadott e-mail címre.) \nJelentkezési határidő: 2021. február 7.  \n\nAmennyiben a fenti gomb nem működik\, a jelentkezési lap itt található: https://forms.gle/Y64UfBCARcLZKnWW9 \nTechnikai információk\nAz eseményt a Zoom alkalmazásban szervezzük\, a regisztráció után visszaigazolást küldünk és a rendezvény napján délelőtt küldjük a belépési linket. \nRészvételi feltételek és jelentkezés\nA részvétel az MLBKT tagjai számára ingyenes\, nem tagok részére 6000\,- Ft. Maximális létszám a ZOOM alkalmazásban 100 fő\, a jelentkezéseket a beérkezések sorrendjében fogadjuk.\nJelentkezni az űrlapon keresztül lehet 2021. február 7-ig.
URL:https://logisztika.hu/rendezveny/loginfo-tudnivalok-a-bireg-rendszerrol-2/
CATEGORIES:Webinar
ATTACH;FMTTYPE=image/jpeg:https://logisztika.hu/wp-content/uploads/2021/02/660x300_BiREG.jpg
END:VEVENT
END:VCALENDAR