BEGIN:VCALENDAR
VERSION:2.0
PRODID:-//Magyar Logisztikai, Beszerzési és Készletezési Társaság - ECPv6.15.16//NONSGML v1.0//EN
CALSCALE:GREGORIAN
METHOD:PUBLISH
X-ORIGINAL-URL:https://logisztika.hu
X-WR-CALDESC:Események Magyar Logisztikai, Beszerzési és Készletezési Társaság
REFRESH-INTERVAL;VALUE=DURATION:PT1H
X-Robots-Tag:noindex
X-PUBLISHED-TTL:PT1H
BEGIN:VTIMEZONE
TZID:UTC
BEGIN:STANDARD
TZOFFSETFROM:+0000
TZOFFSETTO:+0000
TZNAME:UTC
DTSTART:20200101T000000
END:STANDARD
END:VTIMEZONE
BEGIN:VEVENT
DTSTART;TZID=UTC:20210218T000000
DTEND;TZID=UTC:20210219T235959
DTSTAMP:20260423T132359
CREATED:20201214T123951Z
LAST-MODIFIED:20201214T123951Z
UID:73680-1613606400-1613779199@logisztika.hu
SUMMARY:Tárgyalási alapismeretek beszerzőknek
DESCRIPTION:Kezdő beszerzőként néha váratlanul ér bennünket\, amikor egy szituációban meg kell mutatnunk\, milyen ügyesen tárgyalunk. Előfordul\, hogy egy-egy helyzet teljesen váratlanul ér bennünket\, és rögtönöznünk kell a telefonban vagy személyesen.\nKésik a beszállító? Rossz anyagot kaptunk? Váratlan áremelés történt és nekünk kell letárgyalnunk?\nA tréningen begyakoroljuk\, hogyan oldhatunk meg kezdőként rázós feladatokat úgy\, hogy partnerünknek meg sem fordul a fejében\, hogy ezt lehet\, hogy most csináljuk először… \n \nJelentkezési határidő: 2021. 02. 08.\n \nKépzési napok: 2021. 02. 18. 8:30 – 17:00; \n2021. 02. 19. 8:30 – 17:00 \nMin.-Max. csoportlétszám: 6-12 fő \nÓraszám: 16 óra (8-8 óra) \nHelyszín: Online \n  \n*A változtatás jogát fenntartjuk.(Amennyiben újra engedélyezetté válna a helyszíni oktatások szervezése\, úgy az oktatóval és a résztvevőkkel közös megállapodás alapján térhetünk át offlinera. Ennek a megvalósítását előre leegyeztetjük az ügyfelekkel.) \nRészletek
URL:https://logisztika.hu/rendezveny/targyalasi-alapismeretek-beszerzoknek-2/
CATEGORIES:Tréning
END:VEVENT
BEGIN:VEVENT
DTSTART;TZID=UTC:20210218T000000
DTEND;TZID=UTC:20210219T235959
DTSTAMP:20260423T132359
CREATED:20201214T123951Z
LAST-MODIFIED:20201214T123951Z
UID:83045-1613606400-1613779199@logisztika.hu
SUMMARY:Tárgyalási alapismeretek beszerzőknek
DESCRIPTION:Kezdő beszerzőként néha váratlanul ér bennünket\, amikor egy szituációban meg kell mutatnunk\, milyen ügyesen tárgyalunk. Előfordul\, hogy egy-egy helyzet teljesen váratlanul ér bennünket\, és rögtönöznünk kell a telefonban vagy személyesen.\nKésik a beszállító? Rossz anyagot kaptunk? Váratlan áremelés történt és nekünk kell letárgyalnunk?\nA tréningen begyakoroljuk\, hogyan oldhatunk meg kezdőként rázós feladatokat úgy\, hogy partnerünknek meg sem fordul a fejében\, hogy ezt lehet\, hogy most csináljuk először… \n \nJelentkezési határidő: 2021. 02. 08.\n \nKépzési napok: 2021. 02. 18. 8:30 – 17:00; \n2021. 02. 19. 8:30 – 17:00 \nMin.-Max. csoportlétszám: 6-12 fő \nÓraszám: 16 óra (8-8 óra) \nHelyszín: Online \n  \n*A változtatás jogát fenntartjuk.(Amennyiben újra engedélyezetté válna a helyszíni oktatások szervezése\, úgy az oktatóval és a résztvevőkkel közös megállapodás alapján térhetünk át offlinera. Ennek a megvalósítását előre leegyeztetjük az ügyfelekkel.) \nRészletek
URL:https://logisztika.hu/rendezveny/targyalasi-alapismeretek-beszerzoknek-2-2/
CATEGORIES:Tréning
END:VEVENT
BEGIN:VEVENT
DTSTART;TZID=UTC:20210218T000000
DTEND;TZID=UTC:20210219T235959
DTSTAMP:20260423T132359
CREATED:20201214T124434Z
LAST-MODIFIED:20201214T124434Z
UID:73683-1613606400-1613779199@logisztika.hu
SUMMARY:Vámismeretek
DESCRIPTION:Újragondolt tréningünkön rávezetjük résztvevőinket a vámszakmai kérdések összefüggéseire és számos gyakorlati feladattal\, esettanulmánnyal adunk hasznos segítséget ahhoz\, hogy megalapozott döntéseket tudjanak hozni a vám- vagy ahhoz kapcsolódó területeken. \n \nJelentkezési határidő: \n1. csoport: 2021. 02. 08. \n2. csoport: 2021. 05. 29. \n\n\n  \n  \n  \n\n\nKépzési napok: \n1. csoport: 2021. 02. 18. 8:30 – 17:00; \n2021. 02. 19. 8:30 – 17:00 \n2. csoport: 2021. 06. 08. 8:30 – 17:00; \n2021. 06. 09. 8:30 – 17:00 \n  \nMin.-Max. csoportlétszám: 6-12 fő \nÓraszám: 16 óra (8-8 óra) \nHelyszín: Online \n  \n*A változtatás jogát fenntartjuk. (Amennyiben újra engedélyezetté válna a helyszíni oktatások szervezése\, úgy az oktatóval és a résztvevőkkel közös megállapodás alapján térhetünk át offlinera. Ennek a megvalósítását előre leegyeztetjük az ügyfelekkel.) \n\n\nRészletek
URL:https://logisztika.hu/rendezveny/vamismeretek-6/
CATEGORIES:Tréning
END:VEVENT
BEGIN:VEVENT
DTSTART;TZID=UTC:20210218T000000
DTEND;TZID=UTC:20210219T235959
DTSTAMP:20260423T132359
CREATED:20201214T124434Z
LAST-MODIFIED:20201214T124434Z
UID:83046-1613606400-1613779199@logisztika.hu
SUMMARY:Vámismeretek
DESCRIPTION:Újragondolt tréningünkön rávezetjük résztvevőinket a vámszakmai kérdések összefüggéseire és számos gyakorlati feladattal\, esettanulmánnyal adunk hasznos segítséget ahhoz\, hogy megalapozott döntéseket tudjanak hozni a vám- vagy ahhoz kapcsolódó területeken. \n \nJelentkezési határidő: \n1. csoport: 2021. 02. 08. \n2. csoport: 2021. 05. 29. \n\n\n  \n  \n  \n\n\nKépzési napok: \n1. csoport: 2021. 02. 18. 8:30 – 17:00; \n2021. 02. 19. 8:30 – 17:00 \n2. csoport: 2021. 06. 08. 8:30 – 17:00; \n2021. 06. 09. 8:30 – 17:00 \n  \nMin.-Max. csoportlétszám: 6-12 fő \nÓraszám: 16 óra (8-8 óra) \nHelyszín: Online \n  \n*A változtatás jogát fenntartjuk. (Amennyiben újra engedélyezetté válna a helyszíni oktatások szervezése\, úgy az oktatóval és a résztvevőkkel közös megállapodás alapján térhetünk át offlinera. Ennek a megvalósítását előre leegyeztetjük az ügyfelekkel.) \n\n\nRészletek
URL:https://logisztika.hu/rendezveny/vamismeretek-6-2/
CATEGORIES:Tréning
END:VEVENT
END:VCALENDAR