BEGIN:VCALENDAR
VERSION:2.0
PRODID:-//Magyar Logisztikai, Beszerzési és Készletezési Társaság - ECPv6.15.16//NONSGML v1.0//EN
CALSCALE:GREGORIAN
METHOD:PUBLISH
X-WR-CALNAME:Magyar Logisztikai, Beszerzési és Készletezési Társaság
X-ORIGINAL-URL:https://logisztika.hu
X-WR-CALDESC:Események Magyar Logisztikai, Beszerzési és Készletezési Társaság
REFRESH-INTERVAL;VALUE=DURATION:PT1H
X-Robots-Tag:noindex
X-PUBLISHED-TTL:PT1H
BEGIN:VTIMEZONE
TZID:UTC
BEGIN:STANDARD
TZOFFSETFROM:+0000
TZOFFSETTO:+0000
TZNAME:UTC
DTSTART:20200101T000000
END:STANDARD
END:VTIMEZONE
BEGIN:VEVENT
DTSTART;TZID=UTC:20210225T150000
DTEND;TZID=UTC:20210225T173000
DTSTAMP:20260423T132253
CREATED:20210211T093228Z
LAST-MODIFIED:20210211T093228Z
UID:83064-1614265200-1614274200@logisztika.hu
SUMMARY:Új szolgáltatókkal / beszállítókkal találkozik az MLBKT Gyógyszeripari Tagozata
DESCRIPTION:Az MLBKT Gyógyszeripar Tagozata szeretettel meghív minden érdeklődőt következő webinárjára\, az alábbiak szerint: \n  \nIdőpont: 2021. február 25.\, csütörtök\, 15.00-17.30 \nHelyszín: ZOOM online felület (a belépő kódot minden jelentkezőnknek az előadás napján küldjük a regisztrációban megadott e-mail címre) \n  \nAz alábbi cégeket kértük fel\, hogy a gyógyszeripart is érintő tevékenységükről tartsanak bemutatkozó előadást: \n  \n\nAgility Magyarország Kft.\nAntra ID Kft.\nBiztup Kft.\nPhotoneo s.r.o. – szervezés alatt\nSMO Group Hungary Kft. – OK\nSSI Schäfer Systems International Kft. – szervezés alatt\n\n  \nA részletes programot a későbbiekben pontosítjuk\, addig is jegyezze fel naptárába az időpontot! \n  \nA részvétel az MLBKT tagjai számára nyitott és ingyenes\, csupán előzetes regisztrációhoz kötött! \n  \n \nAmennyiben a jelentkezem gomb nem működik\, itt is lehet jelentkezni: https://forms.gle/BZwdGoiRJVs2AMWY9 \n  \nJelentkezési határidő: 2021. február 24.\, 24 óra
URL:https://logisztika.hu/rendezveny/uj-szolgaltatokkal-beszallitokkal-talalkozik-az-mlbkt-gyogyszeripari-tagozata-2-2/
END:VEVENT
BEGIN:VEVENT
DTSTART;TZID=UTC:20210225T150000
DTEND;TZID=UTC:20210225T173000
DTSTAMP:20260423T132253
CREATED:20210211T093228Z
LAST-MODIFIED:20210211T093228Z
UID:74015-1614265200-1614274200@logisztika.hu
SUMMARY:Új szolgáltatókkal / beszállítókkal találkozik az MLBKT Gyógyszeripari Tagozata
DESCRIPTION:Az MLBKT Gyógyszeripar Tagozata szeretettel meghív minden érdeklődőt következő webinárjára\, az alábbiak szerint: \n  \nIdőpont: 2021. február 25.\, csütörtök\, 15.00-17.30 \nHelyszín: ZOOM online felület (a belépő kódot minden jelentkezőnknek az előadás napján küldjük a regisztrációban megadott e-mail címre) \n  \nAz alábbi cégeket kértük fel\, hogy a gyógyszeripart is érintő tevékenységükről tartsanak bemutatkozó előadást: \n  \n\nAgility Magyarország Kft.\nAntra ID Kft.\nBiztup Kft.\nPhotoneo s.r.o. – szervezés alatt\nSMO Group Hungary Kft. – OK\nSSI Schäfer Systems International Kft. – szervezés alatt\n\n  \nA részletes programot a későbbiekben pontosítjuk\, addig is jegyezze fel naptárába az időpontot! \n  \nA részvétel az MLBKT tagjai számára nyitott és ingyenes\, csupán előzetes regisztrációhoz kötött! \n  \n \nAmennyiben a jelentkezem gomb nem működik\, itt is lehet jelentkezni: https://forms.gle/BZwdGoiRJVs2AMWY9 \n  \nJelentkezési határidő: 2021. február 24.\, 24 óra
URL:https://logisztika.hu/rendezveny/uj-szolgaltatokkal-beszallitokkal-talalkozik-az-mlbkt-gyogyszeripari-tagozata-2/
END:VEVENT
END:VCALENDAR