BEGIN:VCALENDAR
VERSION:2.0
PRODID:-//Magyar Logisztikai, Beszerzési és Készletezési Társaság - ECPv6.15.16//NONSGML v1.0//EN
CALSCALE:GREGORIAN
METHOD:PUBLISH
X-WR-CALNAME:Magyar Logisztikai, Beszerzési és Készletezési Társaság
X-ORIGINAL-URL:https://logisztika.hu
X-WR-CALDESC:Események Magyar Logisztikai, Beszerzési és Készletezési Társaság
REFRESH-INTERVAL;VALUE=DURATION:PT1H
X-Robots-Tag:noindex
X-PUBLISHED-TTL:PT1H
BEGIN:VTIMEZONE
TZID:UTC
BEGIN:STANDARD
TZOFFSETFROM:+0000
TZOFFSETTO:+0000
TZNAME:UTC
DTSTART:20200101T000000
END:STANDARD
END:VTIMEZONE
BEGIN:VEVENT
DTSTART;TZID=UTC:20210304T000000
DTEND;TZID=UTC:20210318T235959
DTSTAMP:20260423T114014
CREATED:20201214T125500Z
LAST-MODIFIED:20201214T125500Z
UID:73695-1614816000-1616111999@logisztika.hu
SUMMARY:Lean menedzsment és gyakorlati eszközök
DESCRIPTION:A képzés célja a lean szemlélet és a legfontosabb lean eszközök komplex rendszerének szimulációkkal és esettanulmányokkal támogatott megismertetése és elmélyítése\, továbbá a lean logisztikában történő felhasználási lehetőségeinek áttekintése példákon keresztül. \nA résztvevők a saját közegükben más szemlélettel\, új módszerek alkalmazásával képesek lesznek a hosszútávú folyamatos fejlődés hatékony\, fenntartható formája felé haladni\, a különböző nehézségeket többféle szemszögből megközelíteni\, és a problémák igazi okait keresni\, valamint átfogó képet kapni a lean folyamatfejlesztésről. \n \nJelentkezési határidő: 2021. 02. 22. \nKépzési napok: 2021. 03. 04. 9:00 – 17:00; \n2021. 03. 11. 9:00 – 17:00; \n2021. 03. 18. 9:00 – 17:00 \nMin-Max. csoportlétszám: 6-12 fő \nÓraszám: 24 óra (8-8-8 óra) \nHelyszín: Online \n*A változtatás jogát fenntartjuk. (Amennyiben újra engedélyezetté válna a helyszíni oktatások szervezése\, úgy az oktatóval és a résztvevőkkel közös megállapodás alapján térhetünk át offlinera. Ennek a megvalósítását előre leegyeztetjük az ügyfelekkel.) \nRészletek
URL:https://logisztika.hu/rendezveny/lean-menedzsment-es-gyakorlati-eszkozok-2/
CATEGORIES:Tréning
END:VEVENT
BEGIN:VEVENT
DTSTART;TZID=UTC:20210304T000000
DTEND;TZID=UTC:20210318T235959
DTSTAMP:20260423T114014
CREATED:20201214T125500Z
LAST-MODIFIED:20201214T125500Z
UID:83052-1614816000-1616111999@logisztika.hu
SUMMARY:Lean menedzsment és gyakorlati eszközök
DESCRIPTION:A képzés célja a lean szemlélet és a legfontosabb lean eszközök komplex rendszerének szimulációkkal és esettanulmányokkal támogatott megismertetése és elmélyítése\, továbbá a lean logisztikában történő felhasználási lehetőségeinek áttekintése példákon keresztül. \nA résztvevők a saját közegükben más szemlélettel\, új módszerek alkalmazásával képesek lesznek a hosszútávú folyamatos fejlődés hatékony\, fenntartható formája felé haladni\, a különböző nehézségeket többféle szemszögből megközelíteni\, és a problémák igazi okait keresni\, valamint átfogó képet kapni a lean folyamatfejlesztésről. \n \nJelentkezési határidő: 2021. 02. 22. \nKépzési napok: 2021. 03. 04. 9:00 – 17:00; \n2021. 03. 11. 9:00 – 17:00; \n2021. 03. 18. 9:00 – 17:00 \nMin-Max. csoportlétszám: 6-12 fő \nÓraszám: 24 óra (8-8-8 óra) \nHelyszín: Online \n*A változtatás jogát fenntartjuk. (Amennyiben újra engedélyezetté válna a helyszíni oktatások szervezése\, úgy az oktatóval és a résztvevőkkel közös megállapodás alapján térhetünk át offlinera. Ennek a megvalósítását előre leegyeztetjük az ügyfelekkel.) \nRészletek
URL:https://logisztika.hu/rendezveny/lean-menedzsment-es-gyakorlati-eszkozok-2-2/
CATEGORIES:Tréning
END:VEVENT
BEGIN:VEVENT
DTSTART;TZID=UTC:20210309T000000
DTEND;TZID=UTC:20210310T235959
DTSTAMP:20260423T114014
CREATED:20201214T123343Z
LAST-MODIFIED:20201214T123343Z
UID:73672-1615248000-1615420799@logisztika.hu
SUMMARY:Beszállítói kockázatmenedzsment
DESCRIPTION:Az üzleti élet (és folyamat) szinte minden lépése kockázatokat rejt magában\, bár jó részüknek nem tulajdonítunk nagy jelentőséget\, nem is foglalkozunk velük. A beszállítói folyamatok túlmutatnak a saját cégünk határain\, belső kontroll lehetőségein. Az itt megjelenő kockázatok kezelése vagy nem kezelése az egész ellátási lánc teljesítményét jelentősen befolyásolja\, s ez legtöbbször a beszerzés\, mint szervezet kezében összpontosul. \nHogyan lehet a potenciális kockázatokat azonosítani\, struktúrába helyezni\, mérni és kezelni? Mik ennek a folyamatnak a buktatói és ezeket hogyan lehet elkerülni? Ezekre a kérdésekre keresünk válaszokat a résztvevőkkel közösen\, e gyakorlatokkal tarkított egynapos kurzuson. \n \nJelentkezési határidő: 2021. 02. 27.\n \nKépzési napok: 2021. 03. 09. 9:00 – 13:15; \n2021. 03. 10. 9:00 – 13:15 \nMin.-Max. óraszám: 6-12 fő \nÓraszám: 8 óra (4-4 óra) \nHelyszín: Online \n*A változtatás jogát fenntartjuk. (Amennyiben újra engedélyezetté válna a helyszíni oktatások szervezése\, úgy az oktatóval és a résztvevőkkel közös megállapodás alapján térhetünk át offlinera. Ennek a megvalósítását előre leegyeztetjük az ügyfelekkel.) \nRészletek
URL:https://logisztika.hu/rendezveny/beszallitoi-kockazatmenedzsment/
CATEGORIES:Tréning
END:VEVENT
BEGIN:VEVENT
DTSTART;TZID=UTC:20210309T000000
DTEND;TZID=UTC:20210310T235959
DTSTAMP:20260423T114014
CREATED:20201214T123343Z
LAST-MODIFIED:20201214T123343Z
UID:83042-1615248000-1615420799@logisztika.hu
SUMMARY:Beszállítói kockázatmenedzsment
DESCRIPTION:Az üzleti élet (és folyamat) szinte minden lépése kockázatokat rejt magában\, bár jó részüknek nem tulajdonítunk nagy jelentőséget\, nem is foglalkozunk velük. A beszállítói folyamatok túlmutatnak a saját cégünk határain\, belső kontroll lehetőségein. Az itt megjelenő kockázatok kezelése vagy nem kezelése az egész ellátási lánc teljesítményét jelentősen befolyásolja\, s ez legtöbbször a beszerzés\, mint szervezet kezében összpontosul. \nHogyan lehet a potenciális kockázatokat azonosítani\, struktúrába helyezni\, mérni és kezelni? Mik ennek a folyamatnak a buktatói és ezeket hogyan lehet elkerülni? Ezekre a kérdésekre keresünk válaszokat a résztvevőkkel közösen\, e gyakorlatokkal tarkított egynapos kurzuson. \n \nJelentkezési határidő: 2021. 02. 27.\n \nKépzési napok: 2021. 03. 09. 9:00 – 13:15; \n2021. 03. 10. 9:00 – 13:15 \nMin.-Max. óraszám: 6-12 fő \nÓraszám: 8 óra (4-4 óra) \nHelyszín: Online \n*A változtatás jogát fenntartjuk. (Amennyiben újra engedélyezetté válna a helyszíni oktatások szervezése\, úgy az oktatóval és a résztvevőkkel közös megállapodás alapján térhetünk át offlinera. Ennek a megvalósítását előre leegyeztetjük az ügyfelekkel.) \nRészletek
URL:https://logisztika.hu/rendezveny/beszallitoi-kockazatmenedzsment-3/
CATEGORIES:Tréning
END:VEVENT
BEGIN:VEVENT
DTSTART;TZID=UTC:20210309T163000
DTEND;TZID=UTC:20210309T180000
DTSTAMP:20260423T114014
CREATED:20210302T120411Z
LAST-MODIFIED:20210302T120411Z
UID:74114-1615307400-1615312800@logisztika.hu
SUMMARY:Rugalmas gyártási koncepció Ipar 4.0 alapokon a Bosch miskolci kéziszerszám gyárában - előadás
DESCRIPTION:2021. március 9-én az MLBKT Logisztika 4.0 és a Projektmenedzsment Tagozata az Ipar 4.0 NTPSZ-el közösen tart előadást az alábbiak szerint: \n  \nAz előadás címe:\n \nRugalmas gyártási koncepció Ipar 4.0 alapokon a Bosch miskolci kéziszerszám gyárában\, avagy hogyan gyártsunk hatékonyan kisszériás termékeket a termelési terület optimális kihasználásával. \nEgy megvalósult Ipar 4.0 projekt gyakorlati tapasztalatai. \n  \nElőadó:\nFükő László\, a Robert Bosch Power Tool Kft. ügyvezető\, gyárigazgató \n \nElőadás rövid leírása: \n\nA gyár\, a koncepció és a projekt bemutatása\nAz Ipar 4.0 eszközök és a rugalmas gyártási koncepció\n\nVirtuális kerekasztal-beszélgetés (Fükő László és Pécs László) \n\nMitől volt sikeres ez a projekt?\nA projekthez kapcsolódó gyakorlati tapasztalatok projektmenedzsment szempontból\nSikerkritériumok és sikertényezők\n\n  \nAz előadóról: \nFükő László gépészmérnök tanulmányainak befejeztével a Ganz Hunslet vasúti járműgyárában helyezkedett el\, majd a győri Audi gyárban folytatta szakmai pályafutását.  2000. január 1-től a magyarországi Bosch csoport munkatársa. A Boschnál hazai és nemzetközi környezetben is bizonyította szakmai felkészültségét. 2016 óta a Robert Bosch Power Tool Elektromos Szerszámgyártó Kft. ügyvezető igazgatója\, gyárigazgatója\, valamint a kéziszerszámok és kerti gépek értékesítésével foglakozó Bosch Home & Garden üzletág gyártásért felelős elnökhelyettese is volt. \n  \nA „Rugalmas Gyártási Koncepció” című eladás során Fükő László egy Ipar 4.0 projektet mutat be\, amelyet kollégáival sikeresen vezetett be a Bosch miskolci kéziszerszám gyárában.  \n  \nIdőpont: 2021. március 9.\, 16.30-18.00 \nHelyszín: Microsoft TEAMS online platform \n(a belépéshez szükséges kódot minden jelentkezőnknek a rendezvény napján\, a délelőtti órákban küldjük) \n  \nRészvételi díj: \n\nA részvételi az MLBKT tagjai számára ingyenes\, de előzetes regisztrációhoz kötött!\nAmennyiben még nem tagunk\, de szeretne rész venni a programon\, csatlakozzon!\nRészletek és tagi csatlakozás itt → https://logisztika.hu/belepes/\nNem MLBKT tagok részére 6000\,- Ft (bruttó)\n\nJelentkezési határidő: 2021. március 9.\, 12.00 óra \n  \n \nAmennyiben a jelentkezem gomb nem működik\, itt is lehet jelentkezni: https://forms.gle/Wm9fmuX8jCoccPgx6
URL:https://logisztika.hu/rendezveny/rugalmas-gyartasi-koncepcio-ipar-4-0-alapokon-a-bosch-miskolci-keziszerszam-gyaraban-eloadas/
END:VEVENT
BEGIN:VEVENT
DTSTART;TZID=UTC:20210309T163000
DTEND;TZID=UTC:20210309T180000
DTSTAMP:20260423T114014
CREATED:20210302T120411Z
LAST-MODIFIED:20210302T120411Z
UID:83067-1615307400-1615312800@logisztika.hu
SUMMARY:Rugalmas gyártási koncepció Ipar 4.0 alapokon a Bosch miskolci kéziszerszám gyárában - előadás
DESCRIPTION:2021. március 9-én az MLBKT Logisztika 4.0 és a Projektmenedzsment Tagozata az Ipar 4.0 NTPSZ-el közösen tart előadást az alábbiak szerint: \n  \nAz előadás címe:\n \nRugalmas gyártási koncepció Ipar 4.0 alapokon a Bosch miskolci kéziszerszám gyárában\, avagy hogyan gyártsunk hatékonyan kisszériás termékeket a termelési terület optimális kihasználásával. \nEgy megvalósult Ipar 4.0 projekt gyakorlati tapasztalatai. \n  \nElőadó:\nFükő László\, a Robert Bosch Power Tool Kft. ügyvezető\, gyárigazgató \n \nElőadás rövid leírása: \n\nA gyár\, a koncepció és a projekt bemutatása\nAz Ipar 4.0 eszközök és a rugalmas gyártási koncepció\n\nVirtuális kerekasztal-beszélgetés (Fükő László és Pécs László) \n\nMitől volt sikeres ez a projekt?\nA projekthez kapcsolódó gyakorlati tapasztalatok projektmenedzsment szempontból\nSikerkritériumok és sikertényezők\n\n  \nAz előadóról: \nFükő László gépészmérnök tanulmányainak befejeztével a Ganz Hunslet vasúti járműgyárában helyezkedett el\, majd a győri Audi gyárban folytatta szakmai pályafutását.  2000. január 1-től a magyarországi Bosch csoport munkatársa. A Boschnál hazai és nemzetközi környezetben is bizonyította szakmai felkészültségét. 2016 óta a Robert Bosch Power Tool Elektromos Szerszámgyártó Kft. ügyvezető igazgatója\, gyárigazgatója\, valamint a kéziszerszámok és kerti gépek értékesítésével foglakozó Bosch Home & Garden üzletág gyártásért felelős elnökhelyettese is volt. \n  \nA „Rugalmas Gyártási Koncepció” című eladás során Fükő László egy Ipar 4.0 projektet mutat be\, amelyet kollégáival sikeresen vezetett be a Bosch miskolci kéziszerszám gyárában.  \n  \nIdőpont: 2021. március 9.\, 16.30-18.00 \nHelyszín: Microsoft TEAMS online platform \n(a belépéshez szükséges kódot minden jelentkezőnknek a rendezvény napján\, a délelőtti órákban küldjük) \n  \nRészvételi díj: \n\nA részvételi az MLBKT tagjai számára ingyenes\, de előzetes regisztrációhoz kötött!\nAmennyiben még nem tagunk\, de szeretne rész venni a programon\, csatlakozzon!\nRészletek és tagi csatlakozás itt → https://logisztika.hu/belepes/\nNem MLBKT tagok részére 6000\,- Ft (bruttó)\n\nJelentkezési határidő: 2021. március 9.\, 12.00 óra \n  \n \nAmennyiben a jelentkezem gomb nem működik\, itt is lehet jelentkezni: https://forms.gle/Wm9fmuX8jCoccPgx6
URL:https://logisztika.hu/rendezveny/rugalmas-gyartasi-koncepcio-ipar-4-0-alapokon-a-bosch-miskolci-keziszerszam-gyaraban-eloadas-2/
END:VEVENT
END:VCALENDAR