BEGIN:VCALENDAR
VERSION:2.0
PRODID:-//Magyar Logisztikai, Beszerzési és Készletezési Társaság - ECPv6.15.16//NONSGML v1.0//EN
CALSCALE:GREGORIAN
METHOD:PUBLISH
X-WR-CALNAME:Magyar Logisztikai, Beszerzési és Készletezési Társaság
X-ORIGINAL-URL:https://logisztika.hu
X-WR-CALDESC:Események Magyar Logisztikai, Beszerzési és Készletezési Társaság
REFRESH-INTERVAL;VALUE=DURATION:PT1H
X-Robots-Tag:noindex
X-PUBLISHED-TTL:PT1H
BEGIN:VTIMEZONE
TZID:UTC
BEGIN:STANDARD
TZOFFSETFROM:+0000
TZOFFSETTO:+0000
TZNAME:UTC
DTSTART:20200101T000000
END:STANDARD
END:VTIMEZONE
BEGIN:VEVENT
DTSTART;TZID=UTC:20210319T000000
DTEND;TZID=UTC:20210319T235959
DTSTAMP:20260423T152909
CREATED:20201214T124629Z
LAST-MODIFIED:20201214T124629Z
UID:73685-1616112000-1616198399@logisztika.hu
SUMMARY:Logisztikai szolgáltatások kiszervezése és újrastruktúrálása
DESCRIPTION:Logisztikai területet (teljes raktározás\, komissiózás\, fuvarszervezés\, stb.) kiszervezni nagy felelősség\, hiszen a gyárunk egyik motorját adjuk külső kezekbe. Egy ilyen stratégiai döntés kivitelezése beszerzési oldalról komoly szakmai felkészülést igényel. Döntéselőkészítőként\, döntéshozóként a legjobb megoldást kínáló partnert kell megtalálnunk\, aki nem csak a számokkal bizonyítja rátermettségét. A tréningen a teljes folyamatot tanuljuk és elemezzük gyakorlati példákon keresztül. Nagy hangsúlyt fektetünk a fenntarthatóságra és a költségoptimalizációra. \n \nJelentkezési határidő: 2021. 03. 09. \nKépzési napok: 2021. 03. 19. 8:30 – 17:00\n \nCsoportlétszám: 6-12 fő \nÓraszám: 8 óra \nHelyszín: Online \n  \n*A változtatás jogát fenntartjuk. (Amennyiben újra engedélyezetté válna a helyszíni oktatások szervezése\, úgy az oktatóval és a résztvevőkkel közös megállapodás alapján térhetünk át offlinera. Ennek a megvalósítását előre leegyeztetjük az ügyfelekkel.) \nRészletek
URL:https://logisztika.hu/rendezveny/logisztikai-szolgaltatasok-kiszervezese-es-ujrastrukturalasa/
CATEGORIES:Tréning
END:VEVENT
BEGIN:VEVENT
DTSTART;TZID=UTC:20210319T000000
DTEND;TZID=UTC:20210319T235959
DTSTAMP:20260423T152909
CREATED:20201214T124629Z
LAST-MODIFIED:20201214T124629Z
UID:83047-1616112000-1616198399@logisztika.hu
SUMMARY:Logisztikai szolgáltatások kiszervezése és újrastruktúrálása
DESCRIPTION:Logisztikai területet (teljes raktározás\, komissiózás\, fuvarszervezés\, stb.) kiszervezni nagy felelősség\, hiszen a gyárunk egyik motorját adjuk külső kezekbe. Egy ilyen stratégiai döntés kivitelezése beszerzési oldalról komoly szakmai felkészülést igényel. Döntéselőkészítőként\, döntéshozóként a legjobb megoldást kínáló partnert kell megtalálnunk\, aki nem csak a számokkal bizonyítja rátermettségét. A tréningen a teljes folyamatot tanuljuk és elemezzük gyakorlati példákon keresztül. Nagy hangsúlyt fektetünk a fenntarthatóságra és a költségoptimalizációra. \n \nJelentkezési határidő: 2021. 03. 09. \nKépzési napok: 2021. 03. 19. 8:30 – 17:00\n \nCsoportlétszám: 6-12 fő \nÓraszám: 8 óra \nHelyszín: Online \n  \n*A változtatás jogát fenntartjuk. (Amennyiben újra engedélyezetté válna a helyszíni oktatások szervezése\, úgy az oktatóval és a résztvevőkkel közös megállapodás alapján térhetünk át offlinera. Ennek a megvalósítását előre leegyeztetjük az ügyfelekkel.) \nRészletek
URL:https://logisztika.hu/rendezveny/logisztikai-szolgaltatasok-kiszervezese-es-ujrastrukturalasa-3/
CATEGORIES:Tréning
END:VEVENT
END:VCALENDAR