BEGIN:VCALENDAR
VERSION:2.0
PRODID:-//Magyar Logisztikai, Beszerzési és Készletezési Társaság - ECPv6.15.16//NONSGML v1.0//EN
CALSCALE:GREGORIAN
METHOD:PUBLISH
X-ORIGINAL-URL:https://logisztika.hu
X-WR-CALDESC:Események Magyar Logisztikai, Beszerzési és Készletezési Társaság
REFRESH-INTERVAL;VALUE=DURATION:PT1H
X-Robots-Tag:noindex
X-PUBLISHED-TTL:PT1H
BEGIN:VTIMEZONE
TZID:UTC
BEGIN:STANDARD
TZOFFSETFROM:+0000
TZOFFSETTO:+0000
TZNAME:UTC
DTSTART:20200101T000000
END:STANDARD
END:VTIMEZONE
BEGIN:VEVENT
DTSTART;TZID=UTC:20210408T000000
DTEND;TZID=UTC:20210416T235959
DTSTAMP:20260423T100753
CREATED:20201214T123009Z
LAST-MODIFIED:20201214T123009Z
UID:73667-1617840000-1618617599@logisztika.hu
SUMMARY:Kommunikáció és együttműködés
DESCRIPTION:Nincs még egy ilyen természetes\, mindenütt\, mindenkor jelen lévő\, mindenki által végzett tevékenység\, mint a kommunikáció. Ugyanakkor nincs még egy ilyen törékeny\, az emberi tényezőnek kiszolgáltatott\, anomáliákkal és csapdákkal teli\, kiszámíthatatlan\, tevékenység\, mint a kommunikáció. E két\, látszólag ellentmondásos kijelentés együtt adja a kommunikáció nagyszerűségét\, kihívásait\, rendkívüli szerepét és jelentőségét a XXI. században. Ehhez mérten szükséges újra gondolni a szervezeti kommunikációs stratégiákat\, átalakítani a csatornákat\, bővíteni az információmenedzsment eszköztárát\, egy információalapú társadalom információalapú szervezetében. \n \nJelentkezési határidő: 2021. 03. 29. \nKépzési napok: 2021. 04. 08. 8:00 – 12:00; \n2021. 04. 09. 8:00 – 12:00; \n2021. 04. 16. 8:00 – 12:00;\n \nMin-Max. csoportlétszám: 6-12 fő \nÓraszám: 16 óra (4*4 óra) \nHelyszín: Online \n*A változtatás jogát fenntartjuk. (Amennyiben újra engedélyezetté válna a helyszíni oktatások szervezése\, úgy az oktatóval és a résztvevőkkel közös megállapodás alapján térhetünk át offlinera. Ennek a megvalósítását előre leegyeztetjük az ügyfelekkel.) \nRészletek
URL:https://logisztika.hu/rendezveny/kommunikacio-es-egyuttmukodes/
CATEGORIES:Tréning
END:VEVENT
BEGIN:VEVENT
DTSTART;TZID=UTC:20210408T000000
DTEND;TZID=UTC:20210416T235959
DTSTAMP:20260423T100753
CREATED:20201214T123009Z
LAST-MODIFIED:20201214T123009Z
UID:83040-1617840000-1618617599@logisztika.hu
SUMMARY:Kommunikáció és együttműködés
DESCRIPTION:Nincs még egy ilyen természetes\, mindenütt\, mindenkor jelen lévő\, mindenki által végzett tevékenység\, mint a kommunikáció. Ugyanakkor nincs még egy ilyen törékeny\, az emberi tényezőnek kiszolgáltatott\, anomáliákkal és csapdákkal teli\, kiszámíthatatlan\, tevékenység\, mint a kommunikáció. E két\, látszólag ellentmondásos kijelentés együtt adja a kommunikáció nagyszerűségét\, kihívásait\, rendkívüli szerepét és jelentőségét a XXI. században. Ehhez mérten szükséges újra gondolni a szervezeti kommunikációs stratégiákat\, átalakítani a csatornákat\, bővíteni az információmenedzsment eszköztárát\, egy információalapú társadalom információalapú szervezetében. \n \nJelentkezési határidő: 2021. 03. 29. \nKépzési napok: 2021. 04. 08. 8:00 – 12:00; \n2021. 04. 09. 8:00 – 12:00; \n2021. 04. 16. 8:00 – 12:00;\n \nMin-Max. csoportlétszám: 6-12 fő \nÓraszám: 16 óra (4*4 óra) \nHelyszín: Online \n*A változtatás jogát fenntartjuk. (Amennyiben újra engedélyezetté válna a helyszíni oktatások szervezése\, úgy az oktatóval és a résztvevőkkel közös megállapodás alapján térhetünk át offlinera. Ennek a megvalósítását előre leegyeztetjük az ügyfelekkel.) \nRészletek
URL:https://logisztika.hu/rendezveny/kommunikacio-es-egyuttmukodes-2/
CATEGORIES:Tréning
END:VEVENT
BEGIN:VEVENT
DTSTART;TZID=UTC:20210415T080000
DTEND;TZID=UTC:20210417T170000
DTSTAMP:20260423T100753
CREATED:20210407T091906Z
LAST-MODIFIED:20210407T091906Z
UID:74434-1618473600-1618678800@logisztika.hu
SUMMARY:Szállítmányozási és fuvarozási ismeretek
DESCRIPTION:Képzésünk átfogó és gyakorlatias módon ismerteti meg a résztvevőket a szállítmányozás és fuvarozás alapfogalmaival\, a nemzetközi szállítmányozási feladatok megoldásához szükséges alapismeretekkel és összefüggésekkel\, továbbá az Incoterms klauzulák ismeretének hatásaival és szerepével ezen a területen. \n \nJelentkezési határidő: 2021.04.05.\n \nKépzési napok: 2021. április 15-17.\n \nMin.-Max. csoportlétszám: 6-12 fő  \nÓraszám: 18 óra (6-6-6 óra) \nHelyszín: Online \n  \n*A változtatás jogát fenntartjuk. (Amennyiben újra engedélyezetté válna a helyszíni oktatások szervezése\, úgy az oktatóval és a résztvevőkkel közös megállapodás alapján térhetünk át offlinera. Ennek a megvalósítását előre leegyeztetjük az ügyfelekkel.) \n\nRészletek
URL:https://logisztika.hu/rendezveny/szallitmanyozasi-es-fuvarozasi-ismeretek-4/
CATEGORIES:Tréning
END:VEVENT
BEGIN:VEVENT
DTSTART;TZID=UTC:20210415T080000
DTEND;TZID=UTC:20210417T170000
DTSTAMP:20260423T100753
CREATED:20210407T091906Z
LAST-MODIFIED:20210407T091906Z
UID:83071-1618473600-1618678800@logisztika.hu
SUMMARY:Szállítmányozási és fuvarozási ismeretek
DESCRIPTION:Képzésünk átfogó és gyakorlatias módon ismerteti meg a résztvevőket a szállítmányozás és fuvarozás alapfogalmaival\, a nemzetközi szállítmányozási feladatok megoldásához szükséges alapismeretekkel és összefüggésekkel\, továbbá az Incoterms klauzulák ismeretének hatásaival és szerepével ezen a területen. \n \nJelentkezési határidő: 2021.04.05.\n \nKépzési napok: 2021. április 15-17.\n \nMin.-Max. csoportlétszám: 6-12 fő  \nÓraszám: 18 óra (6-6-6 óra) \nHelyszín: Online \n  \n*A változtatás jogát fenntartjuk. (Amennyiben újra engedélyezetté válna a helyszíni oktatások szervezése\, úgy az oktatóval és a résztvevőkkel közös megállapodás alapján térhetünk át offlinera. Ennek a megvalósítását előre leegyeztetjük az ügyfelekkel.) \n\nRészletek
URL:https://logisztika.hu/rendezveny/szallitmanyozasi-es-fuvarozasi-ismeretek-4-2/
CATEGORIES:Tréning
END:VEVENT
BEGIN:VEVENT
DTSTART;TZID=UTC:20210416T000000
DTEND;TZID=UTC:20210416T235959
DTSTAMP:20260423T100753
CREATED:20201214T125313Z
LAST-MODIFIED:20201214T125313Z
UID:73693-1618531200-1618617599@logisztika.hu
SUMMARY:Monopol beszállítókkal való hatékony együttműködés
DESCRIPTION:Számos esetben egyetlen beszerzési forrás áll rendelkezésünkre. Ritka technológiát kínáló gyártó\, akvizíciók során nagyra nőtt beszállító\, esetleg vevő által előírt kizárólagos szállító. Ilyen esetekben a beszerző gyakran kiszolgáltatott helyzetbe kerül. Krízishelyzetben kevés az eszköztára\, amivel élni tud. Pláne akkor\, ha partnere visszaél a monopol helyzetével. A tréning ezen gyártókkal való hatékony együttműködésre ad gyakorlati megoldásokat\, kényes példákat is kielemezve. \n \nJelentkezési határidő: 2021. április 6.\n \nKépzési napok: 2021. 04. 16. 8:30 – 17:00 \n  \nCsoportlétszám: 6-12 fő \nÓraszám: 8 óra \nHelyszín: Online \n*A változtatás jogát fenntartjuk.(Amennyiben újra engedélyezetté válna a helyszíni oktatások szervezése\, úgy az oktatóval és a résztvevőkkel közös megállapodás alapján térhetünk át offlinera. Ennek a megvalósítását előre leegyeztetjük az ügyfelekkel.) \nRészletek
URL:https://logisztika.hu/rendezveny/monopol-beszallitokkal-valo-hatekony-egyuttmukodes/
CATEGORIES:Tréning
END:VEVENT
BEGIN:VEVENT
DTSTART;TZID=UTC:20210416T000000
DTEND;TZID=UTC:20210416T235959
DTSTAMP:20260423T100753
CREATED:20201214T125313Z
LAST-MODIFIED:20201214T125313Z
UID:83051-1618531200-1618617599@logisztika.hu
SUMMARY:Monopol beszállítókkal való hatékony együttműködés
DESCRIPTION:Számos esetben egyetlen beszerzési forrás áll rendelkezésünkre. Ritka technológiát kínáló gyártó\, akvizíciók során nagyra nőtt beszállító\, esetleg vevő által előírt kizárólagos szállító. Ilyen esetekben a beszerző gyakran kiszolgáltatott helyzetbe kerül. Krízishelyzetben kevés az eszköztára\, amivel élni tud. Pláne akkor\, ha partnere visszaél a monopol helyzetével. A tréning ezen gyártókkal való hatékony együttműködésre ad gyakorlati megoldásokat\, kényes példákat is kielemezve. \n \nJelentkezési határidő: 2021. április 6.\n \nKépzési napok: 2021. 04. 16. 8:30 – 17:00 \n  \nCsoportlétszám: 6-12 fő \nÓraszám: 8 óra \nHelyszín: Online \n*A változtatás jogát fenntartjuk.(Amennyiben újra engedélyezetté válna a helyszíni oktatások szervezése\, úgy az oktatóval és a résztvevőkkel közös megállapodás alapján térhetünk át offlinera. Ennek a megvalósítását előre leegyeztetjük az ügyfelekkel.) \nRészletek
URL:https://logisztika.hu/rendezveny/monopol-beszallitokkal-valo-hatekony-egyuttmukodes-3/
CATEGORIES:Tréning
END:VEVENT
END:VCALENDAR