BEGIN:VCALENDAR
VERSION:2.0
PRODID:-//Magyar Logisztikai, Beszerzési és Készletezési Társaság - ECPv6.15.16//NONSGML v1.0//EN
CALSCALE:GREGORIAN
METHOD:PUBLISH
X-WR-CALNAME:Magyar Logisztikai, Beszerzési és Készletezési Társaság
X-ORIGINAL-URL:https://logisztika.hu
X-WR-CALDESC:Események Magyar Logisztikai, Beszerzési és Készletezési Társaság
REFRESH-INTERVAL;VALUE=DURATION:PT1H
X-Robots-Tag:noindex
X-PUBLISHED-TTL:PT1H
BEGIN:VTIMEZONE
TZID:UTC
BEGIN:STANDARD
TZOFFSETFROM:+0000
TZOFFSETTO:+0000
TZNAME:UTC
DTSTART:20200101T000000
END:STANDARD
END:VTIMEZONE
BEGIN:VEVENT
DTSTART;TZID=UTC:20210427T000000
DTEND;TZID=UTC:20210428T235959
DTSTAMP:20260423T083356
CREATED:20201214T123221Z
LAST-MODIFIED:20201214T123221Z
UID:73669-1619481600-1619654399@logisztika.hu
SUMMARY:A beszállítóértékelés alapjai és kihívásai
DESCRIPTION:A beszállítók teljesítménye nagyban függ attól\, hogy a megrendelő szervezet milyen eszközrendszerrel\, módszertannal és tudással méri\, követi nyomon és értékeli a teljesítéseket. Mit érdemes előbb bevezetni: az elő- vagy az utóminősítést\, hogyan érdemes mérni\, a mérésekből hogyan lesz értékelés\, kinek és mit érdemes ebből kommunikálni. A számokkal való értékelés lehetőségei és kihívásai. Túlságosan leegyszerűsíti-e a helyzetet a jelzőlámpa módszer\, vagy éppen ellenkezőleg\, a lényeget fogja meg\, miközben egyszerű a használata? Ilyen és ehhez hasonló kérdéseket vitatunk meg és gyakorolunk ezen alapszintű kurzus során. \n \nJelentkezési határidő: 2021. 04. 17. \nKépzési napok: 2021. 04. 27. 9:00 – 13:15; \n2021. 04. 28. 9:00 – 13:15 \nCsoportlétszám: 6-12 fő \nÓraszám: 8 óra (4-4 óra) \nHelyszín: Online \n*A változtatás jogát fenntartjuk.(Amennyiben újra engedélyezetté válna a helyszíni oktatások szervezése\, úgy az oktatóval és a résztvevőkkel közös megállapodás alapján térhetünk át offlinera. Ennek a megvalósítását előre leegyeztetjük az ügyfelekkel.) \nRészletek
URL:https://logisztika.hu/rendezveny/a-beszallitoertekeles-alapjai-es-kihivasai/
CATEGORIES:Tréning
END:VEVENT
BEGIN:VEVENT
DTSTART;TZID=UTC:20210427T000000
DTEND;TZID=UTC:20210428T235959
DTSTAMP:20260423T083356
CREATED:20201214T123221Z
LAST-MODIFIED:20201214T123221Z
UID:83041-1619481600-1619654399@logisztika.hu
SUMMARY:A beszállítóértékelés alapjai és kihívásai
DESCRIPTION:A beszállítók teljesítménye nagyban függ attól\, hogy a megrendelő szervezet milyen eszközrendszerrel\, módszertannal és tudással méri\, követi nyomon és értékeli a teljesítéseket. Mit érdemes előbb bevezetni: az elő- vagy az utóminősítést\, hogyan érdemes mérni\, a mérésekből hogyan lesz értékelés\, kinek és mit érdemes ebből kommunikálni. A számokkal való értékelés lehetőségei és kihívásai. Túlságosan leegyszerűsíti-e a helyzetet a jelzőlámpa módszer\, vagy éppen ellenkezőleg\, a lényeget fogja meg\, miközben egyszerű a használata? Ilyen és ehhez hasonló kérdéseket vitatunk meg és gyakorolunk ezen alapszintű kurzus során. \n \nJelentkezési határidő: 2021. 04. 17. \nKépzési napok: 2021. 04. 27. 9:00 – 13:15; \n2021. 04. 28. 9:00 – 13:15 \nCsoportlétszám: 6-12 fő \nÓraszám: 8 óra (4-4 óra) \nHelyszín: Online \n*A változtatás jogát fenntartjuk.(Amennyiben újra engedélyezetté válna a helyszíni oktatások szervezése\, úgy az oktatóval és a résztvevőkkel közös megállapodás alapján térhetünk át offlinera. Ennek a megvalósítását előre leegyeztetjük az ügyfelekkel.) \nRészletek
URL:https://logisztika.hu/rendezveny/a-beszallitoertekeles-alapjai-es-kihivasai-2/
CATEGORIES:Tréning
END:VEVENT
BEGIN:VEVENT
DTSTART;TZID=UTC:20210428T000000
DTEND;TZID=UTC:20210429T235959
DTSTAMP:20260423T083356
CREATED:20201214T122831Z
LAST-MODIFIED:20201214T122831Z
UID:73665-1619568000-1619740799@logisztika.hu
SUMMARY:Lean szemléletű problémamegoldás a gyakorlatban
DESCRIPTION:A résztvevők az első két napon gyakorlatorientált képzésen vehetnek részt\, ahol egy komplex esettanulmány keretében tapasztalják meg a magas színvonalú problémamegoldásban rejlő lehetőségeket\, a leanes és projektmenedzsment eszközök gyakorlati használatát. A tréning további részében heti rendszerességgel mentoráció folytatódik\, mely során minden résztvevő a saját valódi munkahelyi problémáját hozza be és hétről hétre nyomonkövetjük mindenkinek a haladását. Célunk a problémák elemzésével és a gyökérokok keresésével kapcsolatos nehézségeken való átlendítés\, illetve a fejlesztések kidolgozásában való támogatás. \n \nJelentkezési határidő: 2021. 04. 18. \nKépzési napok: 2021. 04. 28. 9:00 – 17:00; \n2021. 04. 29. 9:00 – 17:00; \nmegegyezés szerinti időpontban 4*2 óra mentoráció \nMin-Max. csoportlétszám: 6-12 fő \nÓraszám: 24 óra (8-8 óra gyakorlat és 2-2-2-2 óra mentoráció) \nHelyszín: Online \n*A változtatás jogát fenntartjuk. (Amennyiben újra engedélyezetté válna a helyszíni oktatások szervezése\, úgy az oktatóval és a résztvevőkkel közös megállapodás alapján térhetünk át offlinera. Ennek a megvalósítását előre leegyeztetjük az ügyfelekkel.) \nRészletek
URL:https://logisztika.hu/rendezveny/lean-szemleletu-problemamegoldas-a-gyakorlatban/
CATEGORIES:Tréning
END:VEVENT
BEGIN:VEVENT
DTSTART;TZID=UTC:20210428T000000
DTEND;TZID=UTC:20210429T235959
DTSTAMP:20260423T083356
CREATED:20201214T122831Z
LAST-MODIFIED:20201214T122831Z
UID:83039-1619568000-1619740799@logisztika.hu
SUMMARY:Lean szemléletű problémamegoldás a gyakorlatban
DESCRIPTION:A résztvevők az első két napon gyakorlatorientált képzésen vehetnek részt\, ahol egy komplex esettanulmány keretében tapasztalják meg a magas színvonalú problémamegoldásban rejlő lehetőségeket\, a leanes és projektmenedzsment eszközök gyakorlati használatát. A tréning további részében heti rendszerességgel mentoráció folytatódik\, mely során minden résztvevő a saját valódi munkahelyi problémáját hozza be és hétről hétre nyomonkövetjük mindenkinek a haladását. Célunk a problémák elemzésével és a gyökérokok keresésével kapcsolatos nehézségeken való átlendítés\, illetve a fejlesztések kidolgozásában való támogatás. \n \nJelentkezési határidő: 2021. 04. 18. \nKépzési napok: 2021. 04. 28. 9:00 – 17:00; \n2021. 04. 29. 9:00 – 17:00; \nmegegyezés szerinti időpontban 4*2 óra mentoráció \nMin-Max. csoportlétszám: 6-12 fő \nÓraszám: 24 óra (8-8 óra gyakorlat és 2-2-2-2 óra mentoráció) \nHelyszín: Online \n*A változtatás jogát fenntartjuk. (Amennyiben újra engedélyezetté válna a helyszíni oktatások szervezése\, úgy az oktatóval és a résztvevőkkel közös megállapodás alapján térhetünk át offlinera. Ennek a megvalósítását előre leegyeztetjük az ügyfelekkel.) \nRészletek
URL:https://logisztika.hu/rendezveny/lean-szemleletu-problemamegoldas-a-gyakorlatban-2/
CATEGORIES:Tréning
END:VEVENT
BEGIN:VEVENT
DTSTART;TZID=UTC:20210428T090000
DTEND;TZID=UTC:20210428T103000
DTSTAMP:20260423T083356
CREATED:20210420T153143Z
LAST-MODIFIED:20210420T153143Z
UID:74500-1619600400-1619605800@logisztika.hu
SUMMARY:Fulfillment – Webshop logisztika / Virtuális vállalatlátogatás az iLogistic Kft-hez
DESCRIPTION:Az MLBKT E-kereskedelmi tagozata szervezésében virtuálisan ellátogatunk az iLogistic Kft-hez\, ahol Csereklyei Bálint (iLogistic Kft.\, CEO) előadásában megismerkedhetünk a raktári-\, és áru összekészítési folyamatokkal. \n  \n[divider] \nA tavaly novemberi MLBKT Kongresszuson bemutatkozott iLogistic Kft. ismertette velünk – az akkor még újdonságként ható – fulfillment szolgáltatásokat\, most viszont lehetőségünk lesz betekinteni\, hogyan is működnek a gyakorlatban. \nA program során Csereklyei Bálint és Hosszú Csilla (CEO\, Sprinter Futárszolgálat Kft.\, az MLBKT E-kereskedelmi Tagozatának vezetője) többek között arról beszélget\, hogy \n  \n\nMi is az a fulfillment szolgáltatás?\nHonnan indult a vállalkozás\, most hol tart?\nMi a leginkább sensitive része a folyamatnak?\nMi a legnagyobb kihívás?\nMitől jobb egy fulfillment szolgáltatóval dolgozni\, mint saját magunknak megoldani? Kinek lehet jó?\nVan olyan ügyfél\, akinek nem jó a fulfillment?\nMit tapasztaltatok a COVID helyzetből?\nÚj innovációk?\nMi várható a COVID után?\n\n  \nIdőpont: 2021. április 28.\, 9.00-10.30 \nHelyszín: ZOOM online platform (a belépő kódot április 27-én délután küldjük a jelentkezésben megadott e-mail címre) \nJelentkezési határidő: 2021. április 27.\, 12.00 óra \n  \nRészvételi díj: \n\nA részvételi az MLBKT tagjai számára ingyenes\, de előzetes regisztrációhoz kötött!\nAmennyiben még nem tagunk\, de szeretne ingyenesen rész venni a programon\, csatlakozzon!\nRészletek és tagi csatlakozás itt → https://logisztika.hu/belepes/\nNem MLBKT tagok részére 5000\,- Ft+áfa\n\n  \nJelentkezési határidő: 2021. április 27.\, 12.00 \n  \n \nAmennyiben a jelentkezem gomb nem működik\, itt is lehet jelentkezni: https://forms.gle/ub4RfHuiZju3Lgj66
URL:https://logisztika.hu/rendezveny/fulfillment-webshop-logisztika-virtualis-vallalatlatogatas-az-ilogistic-kft-hez/
END:VEVENT
BEGIN:VEVENT
DTSTART;TZID=UTC:20210428T090000
DTEND;TZID=UTC:20210428T103000
DTSTAMP:20260423T083356
CREATED:20210420T153143Z
LAST-MODIFIED:20210420T153143Z
UID:83076-1619600400-1619605800@logisztika.hu
SUMMARY:Fulfillment – Webshop logisztika / Virtuális vállalatlátogatás az iLogistic Kft-hez
DESCRIPTION:Az MLBKT E-kereskedelmi tagozata szervezésében virtuálisan ellátogatunk az iLogistic Kft-hez\, ahol Csereklyei Bálint (iLogistic Kft.\, CEO) előadásában megismerkedhetünk a raktári-\, és áru összekészítési folyamatokkal. \n  \n[divider] \nA tavaly novemberi MLBKT Kongresszuson bemutatkozott iLogistic Kft. ismertette velünk – az akkor még újdonságként ható – fulfillment szolgáltatásokat\, most viszont lehetőségünk lesz betekinteni\, hogyan is működnek a gyakorlatban. \nA program során Csereklyei Bálint és Hosszú Csilla (CEO\, Sprinter Futárszolgálat Kft.\, az MLBKT E-kereskedelmi Tagozatának vezetője) többek között arról beszélget\, hogy \n  \n\nMi is az a fulfillment szolgáltatás?\nHonnan indult a vállalkozás\, most hol tart?\nMi a leginkább sensitive része a folyamatnak?\nMi a legnagyobb kihívás?\nMitől jobb egy fulfillment szolgáltatóval dolgozni\, mint saját magunknak megoldani? Kinek lehet jó?\nVan olyan ügyfél\, akinek nem jó a fulfillment?\nMit tapasztaltatok a COVID helyzetből?\nÚj innovációk?\nMi várható a COVID után?\n\n  \nIdőpont: 2021. április 28.\, 9.00-10.30 \nHelyszín: ZOOM online platform (a belépő kódot április 27-én délután küldjük a jelentkezésben megadott e-mail címre) \nJelentkezési határidő: 2021. április 27.\, 12.00 óra \n  \nRészvételi díj: \n\nA részvételi az MLBKT tagjai számára ingyenes\, de előzetes regisztrációhoz kötött!\nAmennyiben még nem tagunk\, de szeretne ingyenesen rész venni a programon\, csatlakozzon!\nRészletek és tagi csatlakozás itt → https://logisztika.hu/belepes/\nNem MLBKT tagok részére 5000\,- Ft+áfa\n\n  \nJelentkezési határidő: 2021. április 27.\, 12.00 \n  \n \nAmennyiben a jelentkezem gomb nem működik\, itt is lehet jelentkezni: https://forms.gle/ub4RfHuiZju3Lgj66
URL:https://logisztika.hu/rendezveny/fulfillment-webshop-logisztika-virtualis-vallalatlatogatas-az-ilogistic-kft-hez-2/
END:VEVENT
END:VCALENDAR