BEGIN:VCALENDAR
VERSION:2.0
PRODID:-//Magyar Logisztikai, Beszerzési és Készletezési Társaság - ECPv6.15.16//NONSGML v1.0//EN
CALSCALE:GREGORIAN
METHOD:PUBLISH
X-ORIGINAL-URL:https://logisztika.hu
X-WR-CALDESC:Események Magyar Logisztikai, Beszerzési és Készletezési Társaság
REFRESH-INTERVAL;VALUE=DURATION:PT1H
X-Robots-Tag:noindex
X-PUBLISHED-TTL:PT1H
BEGIN:VTIMEZONE
TZID:UTC
BEGIN:STANDARD
TZOFFSETFROM:+0000
TZOFFSETTO:+0000
TZNAME:UTC
DTSTART:20200101T000000
END:STANDARD
END:VTIMEZONE
BEGIN:VEVENT
DTSTART;TZID=UTC:20210505T173000
DTEND;TZID=UTC:20210505T190000
DTSTAMP:20260423T083602
CREATED:20210422T083422Z
LAST-MODIFIED:20210422T083422Z
UID:74524-1620235800-1620241200@logisztika.hu
SUMMARY:Élet a Covid után - Újjáéledő ellátási láncok - Ifjúsági tagozati program
DESCRIPTION:Globális szinten jelentős változások mentek végbe a jelenleg is tartó járványhelyzet miatt. Személyesen is mindenki tapasztalhatja napról napra\, hogy miként változott a világ. \nTavaszi kurzus sorozatunk második előadásán Kócza Zsuzsanna\, a DHL üzletfejlesztési vezetője fog mesélni arról\, hogy mi változott és mire lehet számítani a jövőben a pandémiás helyzetet követően az ellátási láncok vonatkozásában. \n  \n[divider] \n  \nElőadó: Kócza Zsuzsanna\, üzletfejlesztési vezető\, DHL \nIdőpont: 2021. május 5. 17:30-19.00 \nHelyszín: ZOOM online platform (A linket a jelentkezés során megadott email címre fogjuk küldeni az előadás napján) \nJelentkezési határidő: 2021. május 5. 12:00 \n  \nRészvételi díj: \n\nA részvételi az MLBKT tagjai számára ingyenes\, de előzetes regisztrációhoz kötött!\nAmennyiben még nem vagy tag\, de szeretnél rész venni a programon\, csatlakozz!\nNappali tagozatos diákok részére az éves tagsági díj: 3.000\,- Ft.\nTovábbi részletek és tagi csatlakozás itt → https://logisztika.hu/belepes/\nNem MLBKT tagok részére 6000\,- Ft+áfa\n\n  \nAz Ifjúsági tagozatról: https://logisztika.hu/tagozatok/ifjusagi-tagozat/ \n  \nMivel is jár a tagság? \n\nKapcsolatépítési lehetőségek virtuálisan vagy személyesen\nCsatlakozási lehetőség tagozatokhoz\nIngyenes részvételi lehetőség vállalatlátogatásokon\, szakmai programokon\nKedvezményes részvételi díjak konferenciákra és képzésekre\nIngyenes kiadványok és felmérések\nKarrierszolgáltatások (állásközvetítés\, képzési tanácsadás)\n\nMindenkit szeretettel várunk! \n  \nJelentkezési határidő: 2021. május 5. 12:00 \n  \n \nHa a fenti gomb nem működik itt is lehet jelentkezni: https://forms.gle/NhbWACqqgQWogG3EA
URL:https://logisztika.hu/rendezveny/elet-a-covid-utan-ujjaeledo-ellatasi-lancok-ifjusagi-tagozati-program/
ATTACH;FMTTYPE=image/jpeg:https://logisztika.hu/wp-content/uploads/2021/04/kep-meghirdeteshez-1.jpg
END:VEVENT
BEGIN:VEVENT
DTSTART;TZID=UTC:20210505T173000
DTEND;TZID=UTC:20210505T190000
DTSTAMP:20260423T083602
CREATED:20210422T083422Z
LAST-MODIFIED:20210422T083422Z
UID:83077-1620235800-1620241200@logisztika.hu
SUMMARY:Élet a Covid után - Újjáéledő ellátási láncok - Ifjúsági tagozati program
DESCRIPTION:Globális szinten jelentős változások mentek végbe a jelenleg is tartó járványhelyzet miatt. Személyesen is mindenki tapasztalhatja napról napra\, hogy miként változott a világ. \nTavaszi kurzus sorozatunk második előadásán Kócza Zsuzsanna\, a DHL üzletfejlesztési vezetője fog mesélni arról\, hogy mi változott és mire lehet számítani a jövőben a pandémiás helyzetet követően az ellátási láncok vonatkozásában. \n  \n[divider] \n  \nElőadó: Kócza Zsuzsanna\, üzletfejlesztési vezető\, DHL \nIdőpont: 2021. május 5. 17:30-19.00 \nHelyszín: ZOOM online platform (A linket a jelentkezés során megadott email címre fogjuk küldeni az előadás napján) \nJelentkezési határidő: 2021. május 5. 12:00 \n  \nRészvételi díj: \n\nA részvételi az MLBKT tagjai számára ingyenes\, de előzetes regisztrációhoz kötött!\nAmennyiben még nem vagy tag\, de szeretnél rész venni a programon\, csatlakozz!\nNappali tagozatos diákok részére az éves tagsági díj: 3.000\,- Ft.\nTovábbi részletek és tagi csatlakozás itt → https://logisztika.hu/belepes/\nNem MLBKT tagok részére 6000\,- Ft+áfa\n\n  \nAz Ifjúsági tagozatról: https://logisztika.hu/tagozatok/ifjusagi-tagozat/ \n  \nMivel is jár a tagság? \n\nKapcsolatépítési lehetőségek virtuálisan vagy személyesen\nCsatlakozási lehetőség tagozatokhoz\nIngyenes részvételi lehetőség vállalatlátogatásokon\, szakmai programokon\nKedvezményes részvételi díjak konferenciákra és képzésekre\nIngyenes kiadványok és felmérések\nKarrierszolgáltatások (állásközvetítés\, képzési tanácsadás)\n\nMindenkit szeretettel várunk! \n  \nJelentkezési határidő: 2021. május 5. 12:00 \n  \n \nHa a fenti gomb nem működik itt is lehet jelentkezni: https://forms.gle/NhbWACqqgQWogG3EA
URL:https://logisztika.hu/rendezveny/elet-a-covid-utan-ujjaeledo-ellatasi-lancok-ifjusagi-tagozati-program-2/
ATTACH;FMTTYPE=image/jpeg:https://logisztika.hu/wp-content/uploads/2021/04/kep-meghirdeteshez-1.jpg
END:VEVENT
END:VCALENDAR