BEGIN:VCALENDAR
VERSION:2.0
PRODID:-//Magyar Logisztikai, Beszerzési és Készletezési Társaság - ECPv6.15.16//NONSGML v1.0//EN
CALSCALE:GREGORIAN
METHOD:PUBLISH
X-ORIGINAL-URL:https://logisztika.hu
X-WR-CALDESC:Események Magyar Logisztikai, Beszerzési és Készletezési Társaság
REFRESH-INTERVAL;VALUE=DURATION:PT1H
X-Robots-Tag:noindex
X-PUBLISHED-TTL:PT1H
BEGIN:VTIMEZONE
TZID:UTC
BEGIN:STANDARD
TZOFFSETFROM:+0000
TZOFFSETTO:+0000
TZNAME:UTC
DTSTART:20200101T000000
END:STANDARD
END:VTIMEZONE
BEGIN:VEVENT
DTSTART;TZID=UTC:20210506T080000
DTEND;TZID=UTC:20210507T170000
DTSTAMP:20260423T083426
CREATED:20210407T092720Z
LAST-MODIFIED:20210407T092720Z
UID:74441-1620288000-1620406800@logisztika.hu
SUMMARY:Gyűjtőszállítmányozás (fókuszban a közút)
DESCRIPTION:Képzésünk átfogó és gyakorlatias módon ismerteti meg a résztvevőkkel a gyűjtőszállítmányozás alapfogalmait\, a gyűjtőáru típusokat és jellemzőiket\, infrastruktúrát\, jogi környezetet\, a szolgáltatói típusokat és szolgáltatói együttműködési lehetőségeket\, a díjszabás kialakításának alapjait és használatának szabályait\, az okmánykitöltést és díjkalkulációt\, a szállítmányozók közötti elszámolások lehetőségeit. \n \n\n\n\n\n\nJelentkezési határidő: 2021.04.26.\n \nKépzési napok: 2021. május 6-7.\n \nMin.-Max. csoportlétszám: 6-12 fő \nÓraszám: 12 óra (6-6 óra) \nHelyszín: Online \n  \n*A változtatás jogát fenntartjuk. (Amennyiben újra engedélyezetté válna a helyszíni oktatások szervezése\, úgy az oktatóval és a résztvevőkkel közös megállapodás alapján térhetünk át offlinera. Ennek a megvalósítását előre leegyeztetjük az ügyfelekkel.) \n\n\n\n\n\n\nRészletek
URL:https://logisztika.hu/rendezveny/gyujtoszallitmanyozas-fokuszban-a-kozut/
CATEGORIES:Tréning
END:VEVENT
BEGIN:VEVENT
DTSTART;TZID=UTC:20210506T080000
DTEND;TZID=UTC:20210507T170000
DTSTAMP:20260423T083426
CREATED:20210407T092720Z
LAST-MODIFIED:20210407T092720Z
UID:83074-1620288000-1620406800@logisztika.hu
SUMMARY:Gyűjtőszállítmányozás (fókuszban a közút)
DESCRIPTION:Képzésünk átfogó és gyakorlatias módon ismerteti meg a résztvevőkkel a gyűjtőszállítmányozás alapfogalmait\, a gyűjtőáru típusokat és jellemzőiket\, infrastruktúrát\, jogi környezetet\, a szolgáltatói típusokat és szolgáltatói együttműködési lehetőségeket\, a díjszabás kialakításának alapjait és használatának szabályait\, az okmánykitöltést és díjkalkulációt\, a szállítmányozók közötti elszámolások lehetőségeit. \n \n\n\n\n\n\nJelentkezési határidő: 2021.04.26.\n \nKépzési napok: 2021. május 6-7.\n \nMin.-Max. csoportlétszám: 6-12 fő \nÓraszám: 12 óra (6-6 óra) \nHelyszín: Online \n  \n*A változtatás jogát fenntartjuk. (Amennyiben újra engedélyezetté válna a helyszíni oktatások szervezése\, úgy az oktatóval és a résztvevőkkel közös megállapodás alapján térhetünk át offlinera. Ennek a megvalósítását előre leegyeztetjük az ügyfelekkel.) \n\n\n\n\n\n\nRészletek
URL:https://logisztika.hu/rendezveny/gyujtoszallitmanyozas-fokuszban-a-kozut-3/
CATEGORIES:Tréning
END:VEVENT
END:VCALENDAR