BEGIN:VCALENDAR
VERSION:2.0
PRODID:-//Magyar Logisztikai, Beszerzési és Készletezési Társaság - ECPv6.15.16//NONSGML v1.0//EN
CALSCALE:GREGORIAN
METHOD:PUBLISH
X-WR-CALNAME:Magyar Logisztikai, Beszerzési és Készletezési Társaság
X-ORIGINAL-URL:https://logisztika.hu
X-WR-CALDESC:Események Magyar Logisztikai, Beszerzési és Készletezési Társaság
REFRESH-INTERVAL;VALUE=DURATION:PT1H
X-Robots-Tag:noindex
X-PUBLISHED-TTL:PT1H
BEGIN:VTIMEZONE
TZID:UTC
BEGIN:STANDARD
TZOFFSETFROM:+0000
TZOFFSETTO:+0000
TZNAME:UTC
DTSTART:20200101T000000
END:STANDARD
END:VTIMEZONE
BEGIN:VEVENT
DTSTART;TZID=UTC:20210510T000000
DTEND;TZID=UTC:20210518T235959
DTSTAMP:20260423T083300
CREATED:20201214T125640Z
LAST-MODIFIED:20201214T125640Z
UID:73698-1620604800-1621382399@logisztika.hu
SUMMARY:Agilis vezetés
DESCRIPTION:Napi szinten halljuk magunk körül az alábbi fogalmakat: agilitás\, változás\, lean\, SCRUM\, önszerveződés\, kanban\, és egyből a projektmenedzsmentre asszociálunk\, pedig kár lenne ennyire leszűkíteni ezt a szervezeti képességet. Hogy miért? A XXI. század szervezetében az agilitás képessége valódi versenyelőny\, mind szervezeti\, mind pedig egyéni\, csapat és menedzsment szinten. Programunk azt mutatja meg\, hogyan változtatja meg a vezetői tevékenységet ez a képesség\, milyen eredményeket várhatunk\, ha agilis vezetőként vezetjük az agilis munkatársakból álló agilis csapatunkat\, és milyen következményekkel járhat\, ha nem. \n \nJelentkezési határidő: 2021. 04. 30. \nKépzési napok: 2021. 05. 10. 8:00 – 12:00; \n2021. 05. 11. 8:00 – 12:00; \n2021. 05. 17. 8:00 – 12:00; \n2021. 05. 18. 8:00 – 12:00\n \nMin-Max. csoportlétszám: 6-12 fő \nÓraszám: 16 óra (4*4 óra) \nHelyszín: Online \n  \n*A változtatás jogát fenntartjuk. (Amennyiben újra engedélyezetté válna a helyszíni oktatások szervezése\, úgy az oktatóval és a résztvevőkkel közös megállapodás alapján térhetünk át offlinera. Ennek a megvalósítását előre leegyeztetjük az ügyfelekkel.) \nRészletek
URL:https://logisztika.hu/rendezveny/agilis-vezetes-2/
CATEGORIES:Tréning
END:VEVENT
BEGIN:VEVENT
DTSTART;TZID=UTC:20210510T000000
DTEND;TZID=UTC:20210518T235959
DTSTAMP:20260423T083300
CREATED:20201214T125640Z
LAST-MODIFIED:20201214T125640Z
UID:83053-1620604800-1621382399@logisztika.hu
SUMMARY:Agilis vezetés
DESCRIPTION:Napi szinten halljuk magunk körül az alábbi fogalmakat: agilitás\, változás\, lean\, SCRUM\, önszerveződés\, kanban\, és egyből a projektmenedzsmentre asszociálunk\, pedig kár lenne ennyire leszűkíteni ezt a szervezeti képességet. Hogy miért? A XXI. század szervezetében az agilitás képessége valódi versenyelőny\, mind szervezeti\, mind pedig egyéni\, csapat és menedzsment szinten. Programunk azt mutatja meg\, hogyan változtatja meg a vezetői tevékenységet ez a képesség\, milyen eredményeket várhatunk\, ha agilis vezetőként vezetjük az agilis munkatársakból álló agilis csapatunkat\, és milyen következményekkel járhat\, ha nem. \n \nJelentkezési határidő: 2021. 04. 30. \nKépzési napok: 2021. 05. 10. 8:00 – 12:00; \n2021. 05. 11. 8:00 – 12:00; \n2021. 05. 17. 8:00 – 12:00; \n2021. 05. 18. 8:00 – 12:00\n \nMin-Max. csoportlétszám: 6-12 fő \nÓraszám: 16 óra (4*4 óra) \nHelyszín: Online \n  \n*A változtatás jogát fenntartjuk. (Amennyiben újra engedélyezetté válna a helyszíni oktatások szervezése\, úgy az oktatóval és a résztvevőkkel közös megállapodás alapján térhetünk át offlinera. Ennek a megvalósítását előre leegyeztetjük az ügyfelekkel.) \nRészletek
URL:https://logisztika.hu/rendezveny/agilis-vezetes-2-2/
CATEGORIES:Tréning
END:VEVENT
BEGIN:VEVENT
DTSTART;TZID=UTC:20210518T163000
DTEND;TZID=UTC:20210518T180000
DTSTAMP:20260423T083300
CREATED:20210505T074610Z
LAST-MODIFIED:20210505T074610Z
UID:74620-1621355400-1621360800@logisztika.hu
SUMMARY:Az agilis menedzsment alapelvei pragmatikusan\, érthetően - MLBKT Projektmenedzsment Tagozati előadás
DESCRIPTION:Szeretettel meghívjuk az MLBKT Projektmenedzsment Tagozatának következő programjára az alábbiak szerint: \n  \nAz előadás címe\nAz agilis menedzsment alapelvei pragmatikusan\, érthetően. \n  \nElőadó\nCsutorás Zoltán\nügyvezető\, Adaptive Consulting \n \n  \nElőadás rövid leírása \nAmióta az agilis vezetési szemlélet széles körben ismertté vált\, a legtöbb vezető számára valamilyen furcsa\, ezoterikus világnak tűnik. Az agilitás úttörői hittek (és sokan máig hisznek) abban\, hogy az új szemléletet  kizárólag úgy lehet elsajátítani és bevezetni\, ha egy szervezet az új “rituálékon” keresztül megtapasztalja a másfajta működést\, és ezen élmények megváltoztatják a régi szervezeti beidegződéseket. \nBár ennek a bevezetési szemléletnek sok igazságalapja van\, sajnos nagyban hozzájárult ahhoz\, hogy túlzottan nagy figyelmet kapjanak a rituálék és túl keveset az agilitást ténylegesen működtető mögöttes alapelvek. \nEzen az előadáson az agilitást és az agilis projekteket övező misztikumot szeretnénk lebontani és érthetően megmutatni\, hogy mik azok az egyszerű alapelvek és mozgatórugók\, amik működtetik a sikeres agilis projekteket és szervezeteket. \n  \nAz előadóról \nCsutorás Zoltán az agilis vezetési módszerek alkalmazásának egyik hazai úttörője. Az Adaptive Consulting Kft. alapítójaként 2009 óta segít különböző szervezeteket az agilis szemléletmód elsajátításában. \n  \nIdőpont: 2021. május 18. 16:30-18.00 \nHelyszín: ZOOM online platform (A linket a jelentkezés során megadott email címre fogjuk küldeni az előadás napján) \nJelentkezési határidő: 2021. május 18. 11:00 \n  \nRészvételi díj: \n\nA részvétel az MLBKT tagjai számára ingyenes\, de előzetes regisztrációhoz kötött!\nAmennyiben még nem tagunk\, de szeretne ingyenesen rész venni a programon\, csatlakozzon!\nRészletek és tagi csatlakozás itt → https://logisztika.hu/belepes/\nNem MLBKT tagok részére 5000\,- Ft+áfa\n\n  \n \nHa a fenti gomb nem működik\, itt is lehet jelentkezni: https://forms.gle/ug4UdxGcofFE7jNP9
URL:https://logisztika.hu/rendezveny/az-agilis-menedzsment-alapelvei-pragmatikusan-erthetoen-mlbkt-projektmenedzsment-tagozati-eloadas/
END:VEVENT
BEGIN:VEVENT
DTSTART;TZID=UTC:20210518T163000
DTEND;TZID=UTC:20210518T180000
DTSTAMP:20260423T083300
CREATED:20210505T074610Z
LAST-MODIFIED:20210505T074610Z
UID:83078-1621355400-1621360800@logisztika.hu
SUMMARY:Az agilis menedzsment alapelvei pragmatikusan\, érthetően - MLBKT Projektmenedzsment Tagozati előadás
DESCRIPTION:Szeretettel meghívjuk az MLBKT Projektmenedzsment Tagozatának következő programjára az alábbiak szerint: \n  \nAz előadás címe\nAz agilis menedzsment alapelvei pragmatikusan\, érthetően. \n  \nElőadó\nCsutorás Zoltán\nügyvezető\, Adaptive Consulting \n \n  \nElőadás rövid leírása \nAmióta az agilis vezetési szemlélet széles körben ismertté vált\, a legtöbb vezető számára valamilyen furcsa\, ezoterikus világnak tűnik. Az agilitás úttörői hittek (és sokan máig hisznek) abban\, hogy az új szemléletet  kizárólag úgy lehet elsajátítani és bevezetni\, ha egy szervezet az új “rituálékon” keresztül megtapasztalja a másfajta működést\, és ezen élmények megváltoztatják a régi szervezeti beidegződéseket. \nBár ennek a bevezetési szemléletnek sok igazságalapja van\, sajnos nagyban hozzájárult ahhoz\, hogy túlzottan nagy figyelmet kapjanak a rituálék és túl keveset az agilitást ténylegesen működtető mögöttes alapelvek. \nEzen az előadáson az agilitást és az agilis projekteket övező misztikumot szeretnénk lebontani és érthetően megmutatni\, hogy mik azok az egyszerű alapelvek és mozgatórugók\, amik működtetik a sikeres agilis projekteket és szervezeteket. \n  \nAz előadóról \nCsutorás Zoltán az agilis vezetési módszerek alkalmazásának egyik hazai úttörője. Az Adaptive Consulting Kft. alapítójaként 2009 óta segít különböző szervezeteket az agilis szemléletmód elsajátításában. \n  \nIdőpont: 2021. május 18. 16:30-18.00 \nHelyszín: ZOOM online platform (A linket a jelentkezés során megadott email címre fogjuk küldeni az előadás napján) \nJelentkezési határidő: 2021. május 18. 11:00 \n  \nRészvételi díj: \n\nA részvétel az MLBKT tagjai számára ingyenes\, de előzetes regisztrációhoz kötött!\nAmennyiben még nem tagunk\, de szeretne ingyenesen rész venni a programon\, csatlakozzon!\nRészletek és tagi csatlakozás itt → https://logisztika.hu/belepes/\nNem MLBKT tagok részére 5000\,- Ft+áfa\n\n  \n \nHa a fenti gomb nem működik\, itt is lehet jelentkezni: https://forms.gle/ug4UdxGcofFE7jNP9
URL:https://logisztika.hu/rendezveny/az-agilis-menedzsment-alapelvei-pragmatikusan-erthetoen-mlbkt-projektmenedzsment-tagozati-eloadas-2/
END:VEVENT
END:VCALENDAR