BEGIN:VCALENDAR
VERSION:2.0
PRODID:-//Magyar Logisztikai, Beszerzési és Készletezési Társaság - ECPv6.15.16//NONSGML v1.0//EN
CALSCALE:GREGORIAN
METHOD:PUBLISH
X-WR-CALNAME:Magyar Logisztikai, Beszerzési és Készletezési Társaság
X-ORIGINAL-URL:https://logisztika.hu
X-WR-CALDESC:Események Magyar Logisztikai, Beszerzési és Készletezési Társaság
REFRESH-INTERVAL;VALUE=DURATION:PT1H
X-Robots-Tag:noindex
X-PUBLISHED-TTL:PT1H
BEGIN:VTIMEZONE
TZID:UTC
BEGIN:STANDARD
TZOFFSETFROM:+0000
TZOFFSETTO:+0000
TZNAME:UTC
DTSTART:20200101T000000
END:STANDARD
END:VTIMEZONE
BEGIN:VEVENT
DTSTART;TZID=UTC:20210520T000000
DTEND;TZID=UTC:20210521T235959
DTSTAMP:20260423T083420
CREATED:20201214T122211Z
LAST-MODIFIED:20201214T122211Z
UID:73659-1621468800-1621641599@logisztika.hu
SUMMARY:A beszerzés szakmai alapjai
DESCRIPTION:A beszerzési szakma rendkívül gyakorlatias\, mindennap tanulhatunk valami újat. Rendkívül fontos\, hogy a szakma alapjait jól sajátítsuk el\, hogy később legyen mire építeni. Egy ilyen pozícióban egy kicsinek tűnő hibának is komoly következményei lehetnek: pl. sormegállás\, számlaeltérés\, készlettöbblet\, stb. \nA bevezető tréningen megtanuljuk\, hogyan kell jó alapokra helyeznünk a saját és a vállalat hatékony működését. \n \n\n\n\n\n\n\n\n\nJelentkezési határidő: 2021. 05. 14.\n \nKépzési napok: 2021. 05. 20.  \n2021. 05. 21.  \nCsoportlétszám: 6-12 fő \nÓraszám: 16 óra (8 óra – 8 óra) \nHelyszín: Online \n\n\n\n\n\n\n\n\n\n*A változtatás jogát fenntartjuk. (Amennyiben újra engedélyezetté válna a helyszíni oktatások szervezése\, úgy az oktatóval és a résztvevőkkel közös megállapodás alapján térhetünk át offlinera. Ennek a megvalósítását előre leegyeztetjük az ügyfelekkel.) \n\n\nRészletek\n\n\n\n\n\n\n\n\n\n\n\n\n 
URL:https://logisztika.hu/rendezveny/a-beszerzes-szakmai-alapjai/
CATEGORIES:Tréning
END:VEVENT
BEGIN:VEVENT
DTSTART;TZID=UTC:20210520T000000
DTEND;TZID=UTC:20210521T235959
DTSTAMP:20260423T083420
CREATED:20201214T122211Z
LAST-MODIFIED:20201214T122211Z
UID:83036-1621468800-1621641599@logisztika.hu
SUMMARY:A beszerzés szakmai alapjai
DESCRIPTION:A beszerzési szakma rendkívül gyakorlatias\, mindennap tanulhatunk valami újat. Rendkívül fontos\, hogy a szakma alapjait jól sajátítsuk el\, hogy később legyen mire építeni. Egy ilyen pozícióban egy kicsinek tűnő hibának is komoly következményei lehetnek: pl. sormegállás\, számlaeltérés\, készlettöbblet\, stb. \nA bevezető tréningen megtanuljuk\, hogyan kell jó alapokra helyeznünk a saját és a vállalat hatékony működését. \n \n\n\n\n\n\n\n\n\nJelentkezési határidő: 2021. 05. 14.\n \nKépzési napok: 2021. 05. 20.  \n2021. 05. 21.  \nCsoportlétszám: 6-12 fő \nÓraszám: 16 óra (8 óra – 8 óra) \nHelyszín: Online \n\n\n\n\n\n\n\n\n\n*A változtatás jogát fenntartjuk. (Amennyiben újra engedélyezetté válna a helyszíni oktatások szervezése\, úgy az oktatóval és a résztvevőkkel közös megállapodás alapján térhetünk át offlinera. Ennek a megvalósítását előre leegyeztetjük az ügyfelekkel.) \n\n\nRészletek\n\n\n\n\n\n\n\n\n\n\n\n\n 
URL:https://logisztika.hu/rendezveny/a-beszerzes-szakmai-alapjai-3/
CATEGORIES:Tréning
END:VEVENT
BEGIN:VEVENT
DTSTART;TZID=UTC:20210520T000000
DTEND;TZID=UTC:20210603T235959
DTSTAMP:20260423T083420
CREATED:20201214T123459Z
LAST-MODIFIED:20201214T123459Z
UID:83043-1621468800-1622764799@logisztika.hu
SUMMARY:Logisztikai folyamatok mérése és hatékonysága
DESCRIPTION:Képzés célja\, hogy a képzést elvégző megismerje a normarendszer építésének szükségességét és elsajátítsa a normaidő meghatározásához szükséges eszközöket. A képzés résztvevője keretrendszert és módszereket kap ahhoz\, hogy a saját vállalatánál\, a saját folyamataiban hosszútávon fenn tudja tartani az általa szabatosan felépített normaidőrendszert. A normaidőrendszer bevezetésével elérhető a standardmunkavégzés\, a hatékonyabb kapacitás elosztás\, mérhetően fejleszthetővé válnak a folyamatok\, továbbá az eredmények tervezhetősége nagyobb megbízhatóságúvá válik. \n \nJelentkezési határidő: 2021. 05. 10. \nKépzési napok: 2021. 05. 20.; \n2021. 05. 27.; \n2021. 06. 03 \nMin-Max. csoportlétszám: 6-12 fő \nÓraszám: 24 óra (8-8-8 óra) \nHelyszín: Online \n*A változtatás jogát fenntartjuk. (Amennyiben újra engedélyezetté válna a helyszíni oktatások szervezése\, úgy az oktatóval és a résztvevőkkel közös megállapodás alapján térhetünk át offlinera. Ennek a megvalósítását előre leegyeztetjük az ügyfelekkel.) \nRészletek
URL:https://logisztika.hu/rendezveny/logisztikai-folyamatok-merese-es-hatekonysaga-3/
CATEGORIES:Tréning
END:VEVENT
BEGIN:VEVENT
DTSTART;TZID=UTC:20210520T000000
DTEND;TZID=UTC:20210603T235959
DTSTAMP:20260423T083420
CREATED:20201214T123459Z
LAST-MODIFIED:20201214T123459Z
UID:73674-1621468800-1622764799@logisztika.hu
SUMMARY:Logisztikai folyamatok mérése és hatékonysága
DESCRIPTION:Képzés célja\, hogy a képzést elvégző megismerje a normarendszer építésének szükségességét és elsajátítsa a normaidő meghatározásához szükséges eszközöket. A képzés résztvevője keretrendszert és módszereket kap ahhoz\, hogy a saját vállalatánál\, a saját folyamataiban hosszútávon fenn tudja tartani az általa szabatosan felépített normaidőrendszert. A normaidőrendszer bevezetésével elérhető a standardmunkavégzés\, a hatékonyabb kapacitás elosztás\, mérhetően fejleszthetővé válnak a folyamatok\, továbbá az eredmények tervezhetősége nagyobb megbízhatóságúvá válik. \n \nJelentkezési határidő: 2021. 05. 10. \nKépzési napok: 2021. 05. 20.; \n2021. 05. 27.; \n2021. 06. 03 \nMin-Max. csoportlétszám: 6-12 fő \nÓraszám: 24 óra (8-8-8 óra) \nHelyszín: Online \n*A változtatás jogát fenntartjuk. (Amennyiben újra engedélyezetté válna a helyszíni oktatások szervezése\, úgy az oktatóval és a résztvevőkkel közös megállapodás alapján térhetünk át offlinera. Ennek a megvalósítását előre leegyeztetjük az ügyfelekkel.) \nRészletek
URL:https://logisztika.hu/rendezveny/logisztikai-folyamatok-merese-es-hatekonysaga/
CATEGORIES:Tréning
END:VEVENT
END:VCALENDAR