BEGIN:VCALENDAR
VERSION:2.0
PRODID:-//Magyar Logisztikai, Beszerzési és Készletezési Társaság - ECPv6.15.16//NONSGML v1.0//EN
CALSCALE:GREGORIAN
METHOD:PUBLISH
X-ORIGINAL-URL:https://logisztika.hu
X-WR-CALDESC:Események Magyar Logisztikai, Beszerzési és Készletezési Társaság
REFRESH-INTERVAL;VALUE=DURATION:PT1H
X-Robots-Tag:noindex
X-PUBLISHED-TTL:PT1H
BEGIN:VTIMEZONE
TZID:UTC
BEGIN:STANDARD
TZOFFSETFROM:+0000
TZOFFSETTO:+0000
TZNAME:UTC
DTSTART:20200101T000000
END:STANDARD
END:VTIMEZONE
BEGIN:VEVENT
DTSTART;TZID=UTC:20210607T080000
DTEND;TZID=UTC:20210608T170000
DTSTAMP:20260423T071332
CREATED:20210407T092222Z
LAST-MODIFIED:20210407T092222Z
UID:74436-1623052800-1623171600@logisztika.hu
SUMMARY:Ellátási lánc menedzsment
DESCRIPTION:Képzésünk a vállalaton belüli komplex logisztikai rendszer koncepcióját kiterjeszti  a reálfolyamatok mentén együttműködő partnerekre\, azaz az ellátási láncra. Azokat a menedzsment kérdéseket és eszközöket tárgyaljuk\, melyek a reálfolyamatok mentén együttműködő vállalatok\, azaz az ellátási láncok\, tágabb értelemben üzleti hálózatok hatékony menedzsmentjét célozzák. \n \n\n\n\n\n\nJelentkezési határidő: 2021.05.28.\n \nKépzési napok: 2021. június 7-8. \nMin.-Max. csoportlétszám: 6-12 fő \nÓraszám: 12 óra (6-6 óra) \nHelyszín: Online \n\n\n\n\n\n\n\n\n\n\n\n*A változtatás jogát fenntartjuk. (Amennyiben újra engedélyezetté válna a helyszíni oktatások szervezése\, úgy az oktatóval és a résztvevőkkel közös megállapodás alapján térhetünk át offlinera. Ennek a megvalósítását előre leegyeztetjük az ügyfelekkel.) \n\n\n\n\n\n\nRészletek
URL:https://logisztika.hu/rendezveny/ellatasi-lanc-menedzsment-2/
CATEGORIES:Tréning
END:VEVENT
BEGIN:VEVENT
DTSTART;TZID=UTC:20210607T080000
DTEND;TZID=UTC:20210608T170000
DTSTAMP:20260423T071332
CREATED:20210407T092222Z
LAST-MODIFIED:20210407T092222Z
UID:83072-1623052800-1623171600@logisztika.hu
SUMMARY:Ellátási lánc menedzsment
DESCRIPTION:Képzésünk a vállalaton belüli komplex logisztikai rendszer koncepcióját kiterjeszti  a reálfolyamatok mentén együttműködő partnerekre\, azaz az ellátási láncra. Azokat a menedzsment kérdéseket és eszközöket tárgyaljuk\, melyek a reálfolyamatok mentén együttműködő vállalatok\, azaz az ellátási láncok\, tágabb értelemben üzleti hálózatok hatékony menedzsmentjét célozzák. \n \n\n\n\n\n\nJelentkezési határidő: 2021.05.28.\n \nKépzési napok: 2021. június 7-8. \nMin.-Max. csoportlétszám: 6-12 fő \nÓraszám: 12 óra (6-6 óra) \nHelyszín: Online \n\n\n\n\n\n\n\n\n\n\n\n*A változtatás jogát fenntartjuk. (Amennyiben újra engedélyezetté válna a helyszíni oktatások szervezése\, úgy az oktatóval és a résztvevőkkel közös megállapodás alapján térhetünk át offlinera. Ennek a megvalósítását előre leegyeztetjük az ügyfelekkel.) \n\n\n\n\n\n\nRészletek
URL:https://logisztika.hu/rendezveny/ellatasi-lanc-menedzsment-2-2/
CATEGORIES:Tréning
END:VEVENT
END:VCALENDAR