BEGIN:VCALENDAR
VERSION:2.0
PRODID:-//Magyar Logisztikai, Beszerzési és Készletezési Társaság - ECPv6.15.16//NONSGML v1.0//EN
CALSCALE:GREGORIAN
METHOD:PUBLISH
X-ORIGINAL-URL:https://logisztika.hu
X-WR-CALDESC:Események Magyar Logisztikai, Beszerzési és Készletezési Társaság
REFRESH-INTERVAL;VALUE=DURATION:PT1H
X-Robots-Tag:noindex
X-PUBLISHED-TTL:PT1H
BEGIN:VTIMEZONE
TZID:UTC
BEGIN:STANDARD
TZOFFSETFROM:+0000
TZOFFSETTO:+0000
TZNAME:UTC
DTSTART:20200101T000000
END:STANDARD
END:VTIMEZONE
BEGIN:VEVENT
DTSTART;TZID=UTC:20210610T080000
DTEND;TZID=UTC:20210618T170000
DTSTAMP:20260423T071456
CREATED:20210407T093008Z
LAST-MODIFIED:20210407T093008Z
UID:74444-1623312000-1624035600@logisztika.hu
SUMMARY:Lean menedzsment a szolgáltatásban
DESCRIPTION:Képzésünk átfogó és gyakorlatias módon ismerteti meg  a lean alapfogalmait mindazokkal\, akik a szolgáltatási szektorban\, egészségügyi\, oktatási és irodai területen tevékenykednek és szeretnék a lean szolgáltatásban alkalmazható eszközeit\, módszereit\, lehetőségeit megismerni és alkalmazni mindennapi munkájuk során. \n \n\n\n\n\n\nJelentkezési határidő: 2021.05.31. \nKépzési napok: 2021. június 10-11. és 18. \nMin-Max. csoportlétszám: 6-12 fő \nÓraszám: 16 óra (6-6-4 óra) \nHelyszín: Online \n  \n*A változtatás jogát fenntartjuk. (Amennyiben újra engedélyezetté válna a helyszíni oktatások szervezése\, úgy az oktatóval és a résztvevőkkel közös megállapodás alapján térhetünk át offlinera. Ennek a megvalósítását előre leegyeztetjük az ügyfelekkel.) \n\n\n\n\n\n\nRészletek
URL:https://logisztika.hu/rendezveny/lean-menedzsment-a-szolgaltatasban-2/
CATEGORIES:Tréning
END:VEVENT
BEGIN:VEVENT
DTSTART;TZID=UTC:20210610T080000
DTEND;TZID=UTC:20210618T170000
DTSTAMP:20260423T071456
CREATED:20210407T093008Z
LAST-MODIFIED:20210407T093008Z
UID:83075-1623312000-1624035600@logisztika.hu
SUMMARY:Lean menedzsment a szolgáltatásban
DESCRIPTION:Képzésünk átfogó és gyakorlatias módon ismerteti meg  a lean alapfogalmait mindazokkal\, akik a szolgáltatási szektorban\, egészségügyi\, oktatási és irodai területen tevékenykednek és szeretnék a lean szolgáltatásban alkalmazható eszközeit\, módszereit\, lehetőségeit megismerni és alkalmazni mindennapi munkájuk során. \n \n\n\n\n\n\nJelentkezési határidő: 2021.05.31. \nKépzési napok: 2021. június 10-11. és 18. \nMin-Max. csoportlétszám: 6-12 fő \nÓraszám: 16 óra (6-6-4 óra) \nHelyszín: Online \n  \n*A változtatás jogát fenntartjuk. (Amennyiben újra engedélyezetté válna a helyszíni oktatások szervezése\, úgy az oktatóval és a résztvevőkkel közös megállapodás alapján térhetünk át offlinera. Ennek a megvalósítását előre leegyeztetjük az ügyfelekkel.) \n\n\n\n\n\n\nRészletek
URL:https://logisztika.hu/rendezveny/lean-menedzsment-a-szolgaltatasban-2-2/
CATEGORIES:Tréning
END:VEVENT
BEGIN:VEVENT
DTSTART;TZID=UTC:20210615T163000
DTEND;TZID=UTC:20210615T180000
DTSTAMP:20260423T071456
CREATED:20210525T123910Z
LAST-MODIFIED:20210525T123910Z
UID:74744-1623774600-1623780000@logisztika.hu
SUMMARY:Szervezeti konfliktuskezelés - MLBKT Projektmenedzsment Tagozati előadás
DESCRIPTION:Szeretettel meghívjuk az MLBKT Projektmenedzsment Tagozatának következő programjára az alábbiak szerint: \n  \nAz előadás címe \nHogyan lehet szisztematikusan és informálisan a szervezeti konfliktusokat kezelni? \nSzervezeti ombuds-személy mindenre válaszol. \n  \nElőadó \nMosonyi Diana- Szervezeti ombuds egyesület-SZOE elnöke \n \n  \nElőadás rövid leírása \nKi az a szervezeti ombuds-személy\, mit csinál\, miért van szükség rá?\nAz előadás ezeken a válaszokon túl\, kitér a szervezeti ombuds tevékenység kiegészitő funkciójára\, amellyel a vezetőség és a HR munkjátát segíti a hatékonyság és a produktivitás növekedés érdekében.  \nAz interaktív előadás célja az ombuds tevékenység és a személetmód megismerésén túl\, egy kis személyes reflektálás is. \nA nyítottság és a befogadás elengedtetlen része lesz az előadásnak.  \n  \nAz előadóról \nMosonyi Diana a Szervezeti Ombuds Egyesület Elnöke és alapítója. Az Egyesült Államokban elsajátított szervezeti ombuds tudását hozta haza\, és az új szemlélettel a hazai vállalatokat támogatja. Küldetése egyéni és szervezeti szinten is harmonikus konfliktusok megteremtése.  \n  \nIdőpont: 2021. június 15. 16:30-18.00 \nHelyszín: ZOOM online platform (A linket a jelentkezés során megadott email címre fogjuk küldeni az előadás napján) \nJelentkezési határidő: 2021. június 14.\, 24.00 \n  \nRészvételi díj: \n\nA részvétel az MLBKT tagjai számára ingyenes\, de előzetes regisztrációhoz kötött!\nAmennyiben még nem tagunk\, de szeretne ingyenesen rész venni a programon\, csatlakozzon!\nRészletek és tagi csatlakozás itt → https://logisztika.hu/belepes/\nNem MLBKT tagok részére 5000\,- Ft+áfa\n\n  \n \n  \nHa a gomb nem működik\, itt is lehet jelentkezni: https://forms.gle/phcQNFNZ2i16L8gE9 \n 
URL:https://logisztika.hu/rendezveny/szervezeti-konfliktuskezeles-mlbkt-projektmenedzsment-tagozati-eloadas/
END:VEVENT
BEGIN:VEVENT
DTSTART;TZID=UTC:20210615T163000
DTEND;TZID=UTC:20210615T180000
DTSTAMP:20260423T071456
CREATED:20210525T123910Z
LAST-MODIFIED:20210525T123910Z
UID:83082-1623774600-1623780000@logisztika.hu
SUMMARY:Szervezeti konfliktuskezelés - MLBKT Projektmenedzsment Tagozati előadás
DESCRIPTION:Szeretettel meghívjuk az MLBKT Projektmenedzsment Tagozatának következő programjára az alábbiak szerint: \n  \nAz előadás címe \nHogyan lehet szisztematikusan és informálisan a szervezeti konfliktusokat kezelni? \nSzervezeti ombuds-személy mindenre válaszol. \n  \nElőadó \nMosonyi Diana- Szervezeti ombuds egyesület-SZOE elnöke \n \n  \nElőadás rövid leírása \nKi az a szervezeti ombuds-személy\, mit csinál\, miért van szükség rá?\nAz előadás ezeken a válaszokon túl\, kitér a szervezeti ombuds tevékenység kiegészitő funkciójára\, amellyel a vezetőség és a HR munkjátát segíti a hatékonyság és a produktivitás növekedés érdekében.  \nAz interaktív előadás célja az ombuds tevékenység és a személetmód megismerésén túl\, egy kis személyes reflektálás is. \nA nyítottság és a befogadás elengedtetlen része lesz az előadásnak.  \n  \nAz előadóról \nMosonyi Diana a Szervezeti Ombuds Egyesület Elnöke és alapítója. Az Egyesült Államokban elsajátított szervezeti ombuds tudását hozta haza\, és az új szemlélettel a hazai vállalatokat támogatja. Küldetése egyéni és szervezeti szinten is harmonikus konfliktusok megteremtése.  \n  \nIdőpont: 2021. június 15. 16:30-18.00 \nHelyszín: ZOOM online platform (A linket a jelentkezés során megadott email címre fogjuk küldeni az előadás napján) \nJelentkezési határidő: 2021. június 14.\, 24.00 \n  \nRészvételi díj: \n\nA részvétel az MLBKT tagjai számára ingyenes\, de előzetes regisztrációhoz kötött!\nAmennyiben még nem tagunk\, de szeretne ingyenesen rész venni a programon\, csatlakozzon!\nRészletek és tagi csatlakozás itt → https://logisztika.hu/belepes/\nNem MLBKT tagok részére 5000\,- Ft+áfa\n\n  \n \n  \nHa a gomb nem működik\, itt is lehet jelentkezni: https://forms.gle/phcQNFNZ2i16L8gE9 \n 
URL:https://logisztika.hu/rendezveny/szervezeti-konfliktuskezeles-mlbkt-projektmenedzsment-tagozati-eloadas-2/
END:VEVENT
END:VCALENDAR