BEGIN:VCALENDAR
VERSION:2.0
PRODID:-//Magyar Logisztikai, Beszerzési és Készletezési Társaság - ECPv6.15.16//NONSGML v1.0//EN
CALSCALE:GREGORIAN
METHOD:PUBLISH
X-WR-CALNAME:Magyar Logisztikai, Beszerzési és Készletezési Társaság
X-ORIGINAL-URL:https://logisztika.hu
X-WR-CALDESC:Események Magyar Logisztikai, Beszerzési és Készletezési Társaság
REFRESH-INTERVAL;VALUE=DURATION:PT1H
X-Robots-Tag:noindex
X-PUBLISHED-TTL:PT1H
BEGIN:VTIMEZONE
TZID:UTC
BEGIN:STANDARD
TZOFFSETFROM:+0000
TZOFFSETTO:+0000
TZNAME:UTC
DTSTART:20200101T000000
END:STANDARD
END:VTIMEZONE
BEGIN:VEVENT
DTSTART;TZID=UTC:20210730T000000
DTEND;TZID=UTC:20210730T235959
DTSTAMP:20260423T041255
CREATED:20210713T113603Z
LAST-MODIFIED:20210713T113603Z
UID:75262-1627603200-1627689599@logisztika.hu
SUMMARY:Adatvezérelt ellátásilánc-menedzsment szakirányú továbbképzés - Jelentkezési határidő
DESCRIPTION:[gview file=”https://logisztika.hu/wp-content/uploads/2021/07/Adatvezerelt_ellatasilanc-menedzsment_MLBTK_logoval.pdf”]
URL:https://logisztika.hu/rendezveny/adatvezerelt-ellatasilanc-menedzsment-szakiranyu-tovabbkepzes/
CATEGORIES:Tréning
END:VEVENT
BEGIN:VEVENT
DTSTART;TZID=UTC:20210730T000000
DTEND;TZID=UTC:20210730T235959
DTSTAMP:20260423T041255
CREATED:20210713T113603Z
LAST-MODIFIED:20210713T113603Z
UID:83089-1627603200-1627689599@logisztika.hu
SUMMARY:Adatvezérelt ellátásilánc-menedzsment szakirányú továbbképzés - Jelentkezési határidő
DESCRIPTION:[gview file=”https://logisztika.hu/wp-content/uploads/2021/07/Adatvezerelt_ellatasilanc-menedzsment_MLBTK_logoval.pdf”]
URL:https://logisztika.hu/rendezveny/adatvezerelt-ellatasilanc-menedzsment-szakiranyu-tovabbkepzes-2/
CATEGORIES:Tréning
END:VEVENT
END:VCALENDAR