BEGIN:VCALENDAR
VERSION:2.0
PRODID:-//Magyar Logisztikai, Beszerzési és Készletezési Társaság - ECPv6.15.16//NONSGML v1.0//EN
CALSCALE:GREGORIAN
METHOD:PUBLISH
X-ORIGINAL-URL:https://logisztika.hu
X-WR-CALDESC:Események Magyar Logisztikai, Beszerzési és Készletezési Társaság
REFRESH-INTERVAL;VALUE=DURATION:PT1H
X-Robots-Tag:noindex
X-PUBLISHED-TTL:PT1H
BEGIN:VTIMEZONE
TZID:UTC
BEGIN:STANDARD
TZOFFSETFROM:+0000
TZOFFSETTO:+0000
TZNAME:UTC
DTSTART:20200101T000000
END:STANDARD
END:VTIMEZONE
BEGIN:VEVENT
DTSTART;TZID=UTC:20210906T000000
DTEND;TZID=UTC:20210923T235959
DTSTAMP:20260423T023035
CREATED:20210818T074424Z
LAST-MODIFIED:20210818T074424Z
UID:75518-1630886400-1632441599@logisztika.hu
SUMMARY:Projektmenedzsment a logisztikában
DESCRIPTION:Programunk a szervezeti és logisztikai projektek irányításához\, működtetéséhez\, menedzseléséhez kapcsolódó ismereteket\, módszereket és technikákat tartalmazza\, s fő célja ezek gyakorlati szintű elsajátítása.\nFentiek mellett fontosnak tartjuk azt\, hogy a projektmenedzser és a projekt tagok személyes kompetenciái is fejlődjenek\, hiszen a projekt menedzselése és a projektben való részvétel magában foglalja a projekt tagok/projekt team vezetését\, illetve egy erős team munkában való együttműködés képességét is. Ebből kiindulva kapott minősített helyet programunkban az emberi tényező kezelése\, a kommunikációs eszközök alkalmazása\, a projekt team tevékenysége\, a projekten belüli és kívüli konfliktusok kezelése. \n \n\n\n\n\n\n\n\n\n\n\nJelentkezési határidő: 2021. 08. 26. \nKépzési napok: 2021. 09. 06.\, 09.\, 20. és 23. \nMin-Max. csoportlétszám: 6-12 fő \nÓraszám: 16 óra \nHelyszín: Online \n\n\n\n\n\n\n\n\n\n\n\n\n\n  \n*Képzéseinket a mindenkori aktuális szabályozásnak és a résztvevők igényeinek megfelelően valósítjuk meg. A változtatás jogát fenntartjuk! \nRészletek >>
URL:https://logisztika.hu/rendezveny/projektmenedzsment-a-logisztikaban-2/
CATEGORIES:Tréning
END:VEVENT
BEGIN:VEVENT
DTSTART;TZID=UTC:20210906T000000
DTEND;TZID=UTC:20210923T235959
DTSTAMP:20260423T023035
CREATED:20210818T074424Z
LAST-MODIFIED:20210818T074424Z
UID:83107-1630886400-1632441599@logisztika.hu
SUMMARY:Projektmenedzsment a logisztikában
DESCRIPTION:Programunk a szervezeti és logisztikai projektek irányításához\, működtetéséhez\, menedzseléséhez kapcsolódó ismereteket\, módszereket és technikákat tartalmazza\, s fő célja ezek gyakorlati szintű elsajátítása.\nFentiek mellett fontosnak tartjuk azt\, hogy a projektmenedzser és a projekt tagok személyes kompetenciái is fejlődjenek\, hiszen a projekt menedzselése és a projektben való részvétel magában foglalja a projekt tagok/projekt team vezetését\, illetve egy erős team munkában való együttműködés képességét is. Ebből kiindulva kapott minősített helyet programunkban az emberi tényező kezelése\, a kommunikációs eszközök alkalmazása\, a projekt team tevékenysége\, a projekten belüli és kívüli konfliktusok kezelése. \n \n\n\n\n\n\n\n\n\n\n\nJelentkezési határidő: 2021. 08. 26. \nKépzési napok: 2021. 09. 06.\, 09.\, 20. és 23. \nMin-Max. csoportlétszám: 6-12 fő \nÓraszám: 16 óra \nHelyszín: Online \n\n\n\n\n\n\n\n\n\n\n\n\n\n  \n*Képzéseinket a mindenkori aktuális szabályozásnak és a résztvevők igényeinek megfelelően valósítjuk meg. A változtatás jogát fenntartjuk! \nRészletek >>
URL:https://logisztika.hu/rendezveny/projektmenedzsment-a-logisztikaban-2-2/
CATEGORIES:Tréning
END:VEVENT
BEGIN:VEVENT
DTSTART;TZID=UTC:20210915T170000
DTEND;TZID=UTC:20210915T183000
DTSTAMP:20260423T023035
CREATED:20210907T174825Z
LAST-MODIFIED:20210907T174825Z
UID:75654-1631725200-1631730600@logisztika.hu
SUMMARY:A COVID mentális hatásai az Y és Z generációra - Meghívó tagozati programra
DESCRIPTION:Az MLBKT Szoftveres Megoldások Tagozata\, az Oktatói Tagozata és az Ifjúsági Tagozata az alábbi közös szervezésű programra vár minden érdeklődőt: \nA COVID mentális hatásai az Y és Z generációra \n  \nEgy rendhagyó kerekasztal-beszélgetés keretében a koronavírus és az online oktatás által okozott mentális problémákra világítunk rá az Y és Z generációnál. \nSzó lesz a hallgatók mentálhigiénés gondozása során felmerült kérdésekről\, illetve ebben a témában\, az egyetemen végzett felmérések tapasztalatairól. \n  \nMindenkit szeretnénk megszólaltatni\, aki a témában érintett: \n  \n\nNémeth Marietta\, Hallgatói Támogatás Vezető\, Budapesti Corvinus Egyetem\ndr. Nagy Judit – az MLBKT Oktatói Tagozat vezetője\, egyetemi docens\, Budapesti Corvinus Egyetem\nGörbe Polina – az MLBKT Ifjúsági Tagozat vezetője\, Széchenyi István Egyetem\nKovács Eszter Csilla – a HÖOK képviselője\nKatona Boglárka – az MLBKT Ifjúsági Tagozat vezetőségi tagja\, a BME hallgatója\n\n  \nModerátor: Gábor Orsolya – az MLBKT Szoftveres Megoldások Tagozat vezetője\, az iData Kft. marketing vezetője \n  \nAz eseményt hibrid formában rendezzük. Korlátozott létszámban lehetőség van a helyszínen csatlakozni a programhoz\, de az eseményt online is közvetítjük az MLBKT Youtube csatornáján. \n  \nIdőpont: 2021. szeptember 15. | 17.00 – 18.30 \nHelyszín: \n\nszemélyesen: Hungropharma székház\, MLBKT titkársága (1061 Budapest\, Király u. 12.)\, 252-es tárgyalóterem\, vagy\nonline az MLBKT Youtube csatornáján.\n\nFontos\, hogy a Hungaropharma épületébe kizárólag védettségi igazolvány birtokában\, homlokon/csuklón történő testhőmérséklet mérést követően\, orrot és szájat eltakaró maszkban lehetséges a belépés.\nA maszkot a Hungaropharma közös helyiségeiben\, az udvaron viselni kell\, de a tárgyalóteremben\, közös megegyezéssel levehető. \nMinden online jelentkezőnek a programot megelőzően küldjük a hozzáférés linkjét. \n  \nRészvételi díj: \n\nminden MLBKT tag részére INGYENES\nnem tagok részére a tagdíj befizetése után ingyenes. Csatlakozzon tagságunkhoz: https://logisztika.hu/belepes/\n\n  \n \nAmennyiben a jelentkezem gomb nem működik\, itt is lehet jelentkezni: https://forms.gle/jmPxVXmtjr4pk7QJ7 \n  \nJelentkezési határidő: 2021. szeptember 14.\, 12.00 óra
URL:https://logisztika.hu/rendezveny/a-covid-mentalis-hatasai-az-y-es-z-generaciora-meghivo-tagozati-programra/
END:VEVENT
BEGIN:VEVENT
DTSTART;TZID=UTC:20210915T170000
DTEND;TZID=UTC:20210915T183000
DTSTAMP:20260423T023035
CREATED:20210907T174825Z
LAST-MODIFIED:20210907T174825Z
UID:83113-1631725200-1631730600@logisztika.hu
SUMMARY:A COVID mentális hatásai az Y és Z generációra - Meghívó tagozati programra
DESCRIPTION:Az MLBKT Szoftveres Megoldások Tagozata\, az Oktatói Tagozata és az Ifjúsági Tagozata az alábbi közös szervezésű programra vár minden érdeklődőt: \nA COVID mentális hatásai az Y és Z generációra \n  \nEgy rendhagyó kerekasztal-beszélgetés keretében a koronavírus és az online oktatás által okozott mentális problémákra világítunk rá az Y és Z generációnál. \nSzó lesz a hallgatók mentálhigiénés gondozása során felmerült kérdésekről\, illetve ebben a témában\, az egyetemen végzett felmérések tapasztalatairól. \n  \nMindenkit szeretnénk megszólaltatni\, aki a témában érintett: \n  \n\nNémeth Marietta\, Hallgatói Támogatás Vezető\, Budapesti Corvinus Egyetem\ndr. Nagy Judit – az MLBKT Oktatói Tagozat vezetője\, egyetemi docens\, Budapesti Corvinus Egyetem\nGörbe Polina – az MLBKT Ifjúsági Tagozat vezetője\, Széchenyi István Egyetem\nKovács Eszter Csilla – a HÖOK képviselője\nKatona Boglárka – az MLBKT Ifjúsági Tagozat vezetőségi tagja\, a BME hallgatója\n\n  \nModerátor: Gábor Orsolya – az MLBKT Szoftveres Megoldások Tagozat vezetője\, az iData Kft. marketing vezetője \n  \nAz eseményt hibrid formában rendezzük. Korlátozott létszámban lehetőség van a helyszínen csatlakozni a programhoz\, de az eseményt online is közvetítjük az MLBKT Youtube csatornáján. \n  \nIdőpont: 2021. szeptember 15. | 17.00 – 18.30 \nHelyszín: \n\nszemélyesen: Hungropharma székház\, MLBKT titkársága (1061 Budapest\, Király u. 12.)\, 252-es tárgyalóterem\, vagy\nonline az MLBKT Youtube csatornáján.\n\nFontos\, hogy a Hungaropharma épületébe kizárólag védettségi igazolvány birtokában\, homlokon/csuklón történő testhőmérséklet mérést követően\, orrot és szájat eltakaró maszkban lehetséges a belépés.\nA maszkot a Hungaropharma közös helyiségeiben\, az udvaron viselni kell\, de a tárgyalóteremben\, közös megegyezéssel levehető. \nMinden online jelentkezőnek a programot megelőzően küldjük a hozzáférés linkjét. \n  \nRészvételi díj: \n\nminden MLBKT tag részére INGYENES\nnem tagok részére a tagdíj befizetése után ingyenes. Csatlakozzon tagságunkhoz: https://logisztika.hu/belepes/\n\n  \n \nAmennyiben a jelentkezem gomb nem működik\, itt is lehet jelentkezni: https://forms.gle/jmPxVXmtjr4pk7QJ7 \n  \nJelentkezési határidő: 2021. szeptember 14.\, 12.00 óra
URL:https://logisztika.hu/rendezveny/a-covid-mentalis-hatasai-az-y-es-z-generaciora-meghivo-tagozati-programra-2/
END:VEVENT
END:VCALENDAR