BEGIN:VCALENDAR
VERSION:2.0
PRODID:-//Magyar Logisztikai, Beszerzési és Készletezési Társaság - ECPv6.15.16//NONSGML v1.0//EN
CALSCALE:GREGORIAN
METHOD:PUBLISH
X-ORIGINAL-URL:https://logisztika.hu
X-WR-CALDESC:Események Magyar Logisztikai, Beszerzési és Készletezési Társaság
REFRESH-INTERVAL;VALUE=DURATION:PT1H
X-Robots-Tag:noindex
X-PUBLISHED-TTL:PT1H
BEGIN:VTIMEZONE
TZID:UTC
BEGIN:STANDARD
TZOFFSETFROM:+0000
TZOFFSETTO:+0000
TZNAME:UTC
DTSTART:20200101T000000
END:STANDARD
END:VTIMEZONE
BEGIN:VEVENT
DTSTART;TZID=UTC:20210920T000000
DTEND;TZID=UTC:20211105T235959
DTSTAMP:20260423T005456
CREATED:20210817T120727Z
LAST-MODIFIED:20210817T120727Z
UID:75462-1632096000-1636156799@logisztika.hu
SUMMARY:Folyamatok modellezése és fejlesztése
DESCRIPTION:A folyamatszemlélet és a vizsgált területek folyamatainak megértéséhez az egyik leghatékonyabb kulcs eszköz a folyamatábrázolási technikák magabiztos alkalmazása. A tréning során különböző fókuszú és több\, különböző típusú eszközt ismernek meg és gyakorolnak be a résztvevők. \n \nJelentkezési határidő: 2021. 09. 10. \nKépzési napok: 2021. 09. 20.\, 22.\, 24. és 10. 08.\, 22.\, 11. 05. (utókövetés) \nMin-Max. csoportlétszám: 6-12 fő \nÓraszám: 24 óra (8-8-8 óra) \nHelyszín: Online \n*Képzéseinket a mindenkori aktuális szabályozásnak és a résztvevők igényeinek megfelelően valósítjuk meg. A változtatás jogát fenntartjuk! \nRészletek
URL:https://logisztika.hu/rendezveny/folyamatok-modellezese-es-fejlesztese/
CATEGORIES:Tréning
END:VEVENT
BEGIN:VEVENT
DTSTART;TZID=UTC:20210920T000000
DTEND;TZID=UTC:20211105T235959
DTSTAMP:20260423T005456
CREATED:20210817T120727Z
LAST-MODIFIED:20210817T120727Z
UID:83091-1632096000-1636156799@logisztika.hu
SUMMARY:Folyamatok modellezése és fejlesztése
DESCRIPTION:A folyamatszemlélet és a vizsgált területek folyamatainak megértéséhez az egyik leghatékonyabb kulcs eszköz a folyamatábrázolási technikák magabiztos alkalmazása. A tréning során különböző fókuszú és több\, különböző típusú eszközt ismernek meg és gyakorolnak be a résztvevők. \n \nJelentkezési határidő: 2021. 09. 10. \nKépzési napok: 2021. 09. 20.\, 22.\, 24. és 10. 08.\, 22.\, 11. 05. (utókövetés) \nMin-Max. csoportlétszám: 6-12 fő \nÓraszám: 24 óra (8-8-8 óra) \nHelyszín: Online \n*Képzéseinket a mindenkori aktuális szabályozásnak és a résztvevők igényeinek megfelelően valósítjuk meg. A változtatás jogát fenntartjuk! \nRészletek
URL:https://logisztika.hu/rendezveny/folyamatok-modellezese-es-fejlesztese-2/
CATEGORIES:Tréning
END:VEVENT
BEGIN:VEVENT
DTSTART;TZID=UTC:20211007T000000
DTEND;TZID=UTC:20211008T235959
DTSTAMP:20260423T005456
CREATED:20210818T061256Z
LAST-MODIFIED:20210818T061256Z
UID:75478-1633564800-1633737599@logisztika.hu
SUMMARY:Szállítmányozási és fuvarozási ismeretek
DESCRIPTION:Képzésünk átfogó és gyakorlatias módon ismerteti meg a résztvevőket a szállítmányozás és fuvarozás alapfogalmaival\, a nemzetközi szállítmányozási feladatok megoldásához szükséges alapismeretekkel és összefüggésekkel\, továbbá az Incoterms klauzulák ismeretének hatásaival és szerepével ezen a területen. \n \nJelentkezési határidő: 2021. 09. 27.\n \nKépzési napok: 2021. 10. 07-08.\n \nMin.-Max. csoportlétszám: 6-12 fő  \nÓraszám: 18 óra (6-6-6 óra) \nHelyszín: Online \n  \n  \n*Képzéseinket a mindenkori aktuális szabályozásnak és a résztvevők igényeinek megfelelően valósítjuk meg. A változtatás jogát fenntartjuk! \n\nRészletek
URL:https://logisztika.hu/rendezveny/szallitmanyozasi-es-fuvarozasi-ismeretek-5/
CATEGORIES:Tréning
END:VEVENT
BEGIN:VEVENT
DTSTART;TZID=UTC:20211007T000000
DTEND;TZID=UTC:20211008T235959
DTSTAMP:20260423T005456
CREATED:20210818T061256Z
LAST-MODIFIED:20210818T061256Z
UID:83097-1633564800-1633737599@logisztika.hu
SUMMARY:Szállítmányozási és fuvarozási ismeretek
DESCRIPTION:Képzésünk átfogó és gyakorlatias módon ismerteti meg a résztvevőket a szállítmányozás és fuvarozás alapfogalmaival\, a nemzetközi szállítmányozási feladatok megoldásához szükséges alapismeretekkel és összefüggésekkel\, továbbá az Incoterms klauzulák ismeretének hatásaival és szerepével ezen a területen. \n \nJelentkezési határidő: 2021. 09. 27.\n \nKépzési napok: 2021. 10. 07-08.\n \nMin.-Max. csoportlétszám: 6-12 fő  \nÓraszám: 18 óra (6-6-6 óra) \nHelyszín: Online \n  \n  \n*Képzéseinket a mindenkori aktuális szabályozásnak és a résztvevők igényeinek megfelelően valósítjuk meg. A változtatás jogát fenntartjuk! \n\nRészletek
URL:https://logisztika.hu/rendezveny/szallitmanyozasi-es-fuvarozasi-ismeretek-5-2/
CATEGORIES:Tréning
END:VEVENT
END:VCALENDAR