BEGIN:VCALENDAR
VERSION:2.0
PRODID:-//Magyar Logisztikai, Beszerzési és Készletezési Társaság - ECPv6.15.16//NONSGML v1.0//EN
CALSCALE:GREGORIAN
METHOD:PUBLISH
X-ORIGINAL-URL:https://logisztika.hu
X-WR-CALDESC:Események Magyar Logisztikai, Beszerzési és Készletezési Társaság
REFRESH-INTERVAL;VALUE=DURATION:PT1H
X-Robots-Tag:noindex
X-PUBLISHED-TTL:PT1H
BEGIN:VTIMEZONE
TZID:UTC
BEGIN:STANDARD
TZOFFSETFROM:+0000
TZOFFSETTO:+0000
TZNAME:UTC
DTSTART:20200101T000000
END:STANDARD
END:VTIMEZONE
BEGIN:VEVENT
DTSTART;TZID=UTC:20210920T000000
DTEND;TZID=UTC:20211105T235959
DTSTAMP:20260423T005538
CREATED:20210817T120727Z
LAST-MODIFIED:20210817T120727Z
UID:75462-1632096000-1636156799@logisztika.hu
SUMMARY:Folyamatok modellezése és fejlesztése
DESCRIPTION:A folyamatszemlélet és a vizsgált területek folyamatainak megértéséhez az egyik leghatékonyabb kulcs eszköz a folyamatábrázolási technikák magabiztos alkalmazása. A tréning során különböző fókuszú és több\, különböző típusú eszközt ismernek meg és gyakorolnak be a résztvevők. \n \nJelentkezési határidő: 2021. 09. 10. \nKépzési napok: 2021. 09. 20.\, 22.\, 24. és 10. 08.\, 22.\, 11. 05. (utókövetés) \nMin-Max. csoportlétszám: 6-12 fő \nÓraszám: 24 óra (8-8-8 óra) \nHelyszín: Online \n*Képzéseinket a mindenkori aktuális szabályozásnak és a résztvevők igényeinek megfelelően valósítjuk meg. A változtatás jogát fenntartjuk! \nRészletek
URL:https://logisztika.hu/rendezveny/folyamatok-modellezese-es-fejlesztese/
CATEGORIES:Tréning
END:VEVENT
BEGIN:VEVENT
DTSTART;TZID=UTC:20210920T000000
DTEND;TZID=UTC:20211105T235959
DTSTAMP:20260423T005538
CREATED:20210817T120727Z
LAST-MODIFIED:20210817T120727Z
UID:83091-1632096000-1636156799@logisztika.hu
SUMMARY:Folyamatok modellezése és fejlesztése
DESCRIPTION:A folyamatszemlélet és a vizsgált területek folyamatainak megértéséhez az egyik leghatékonyabb kulcs eszköz a folyamatábrázolási technikák magabiztos alkalmazása. A tréning során különböző fókuszú és több\, különböző típusú eszközt ismernek meg és gyakorolnak be a résztvevők. \n \nJelentkezési határidő: 2021. 09. 10. \nKépzési napok: 2021. 09. 20.\, 22.\, 24. és 10. 08.\, 22.\, 11. 05. (utókövetés) \nMin-Max. csoportlétszám: 6-12 fő \nÓraszám: 24 óra (8-8-8 óra) \nHelyszín: Online \n*Képzéseinket a mindenkori aktuális szabályozásnak és a résztvevők igényeinek megfelelően valósítjuk meg. A változtatás jogát fenntartjuk! \nRészletek
URL:https://logisztika.hu/rendezveny/folyamatok-modellezese-es-fejlesztese-2/
CATEGORIES:Tréning
END:VEVENT
BEGIN:VEVENT
DTSTART;TZID=UTC:20211011T000000
DTEND;TZID=UTC:20211108T235959
DTSTAMP:20260423T005538
CREATED:20210817T114844Z
LAST-MODIFIED:20210817T114844Z
UID:75459-1633910400-1636415999@logisztika.hu
SUMMARY:Lean menedzsment és gyakorlati eszközök
DESCRIPTION:A képzés célja a lean szemlélet és a legfontosabb lean eszközök komplex rendszerének szimulációkkal és esettanulmányokkal támogatott megismertetése és elmélyítése\, továbbá a lean logisztikában történő felhasználási lehetőségeinek áttekintése példákon keresztül. \nA résztvevők a saját közegükben más szemlélettel\, új módszerek alkalmazásával képesek lesznek a hosszútávú folyamatos fejlődés hatékony\, fenntartható formája felé haladni\, a különböző nehézségeket többféle szemszögből megközelíteni\, és a problémák igazi okait keresni\, valamint átfogó képet kapni a lean folyamatfejlesztésről. \n \nJelentkezési határidő: 2021. 09. 27. \nKépzési napok: 2021. 10. 11.\, 18.\, 25. és 11. 08. \nMin-Max. csoportlétszám: 6-12 fő \nÓraszám: 24 óra (8-8-8 óra) \nHelyszín: Online \n*Képzéseinket a mindenkori aktuális szabályozásnak és a résztvevők igényeinek megfelelően valósítjuk meg. A változtatás jogát fenntartjuk! \nRészletek
URL:https://logisztika.hu/rendezveny/lean-menedzsment-es-gyakorlati-eszkozok-3/
CATEGORIES:Tréning
END:VEVENT
BEGIN:VEVENT
DTSTART;TZID=UTC:20211011T000000
DTEND;TZID=UTC:20211108T235959
DTSTAMP:20260423T005538
CREATED:20210817T114844Z
LAST-MODIFIED:20210817T114844Z
UID:83090-1633910400-1636415999@logisztika.hu
SUMMARY:Lean menedzsment és gyakorlati eszközök
DESCRIPTION:A képzés célja a lean szemlélet és a legfontosabb lean eszközök komplex rendszerének szimulációkkal és esettanulmányokkal támogatott megismertetése és elmélyítése\, továbbá a lean logisztikában történő felhasználási lehetőségeinek áttekintése példákon keresztül. \nA résztvevők a saját közegükben más szemlélettel\, új módszerek alkalmazásával képesek lesznek a hosszútávú folyamatos fejlődés hatékony\, fenntartható formája felé haladni\, a különböző nehézségeket többféle szemszögből megközelíteni\, és a problémák igazi okait keresni\, valamint átfogó képet kapni a lean folyamatfejlesztésről. \n \nJelentkezési határidő: 2021. 09. 27. \nKépzési napok: 2021. 10. 11.\, 18.\, 25. és 11. 08. \nMin-Max. csoportlétszám: 6-12 fő \nÓraszám: 24 óra (8-8-8 óra) \nHelyszín: Online \n*Képzéseinket a mindenkori aktuális szabályozásnak és a résztvevők igényeinek megfelelően valósítjuk meg. A változtatás jogát fenntartjuk! \nRészletek
URL:https://logisztika.hu/rendezveny/lean-menedzsment-es-gyakorlati-eszkozok-3-2/
CATEGORIES:Tréning
END:VEVENT
BEGIN:VEVENT
DTSTART;TZID=UTC:20211028T000000
DTEND;TZID=UTC:20211102T235959
DTSTAMP:20260423T005538
CREATED:20210902T114654Z
LAST-MODIFIED:20210902T114654Z
UID:75627-1635379200-1635897599@logisztika.hu
SUMMARY:Beszállítóértékelés alapjai és kihívásai
DESCRIPTION:A beszállítók teljesítménye nagyban függ attól\, hogy a megrendelő szervezet milyen eszközrendszerrel\, módszertannal és tudással méri\, követi nyomon és értékeli a teljesítéseket. Mit érdemes előbb bevezetni: az elő- vagy az utóminősítést\, hogyan érdemes mérni\, a mérésekből hogyan lesz értékelés\, kinek és mit érdemes ebből kommunikálni. A számokkal való értékelés lehetőségei és kihívásai. Túlságosan leegyszerűsíti-e a helyzetet a jelzőlámpa módszer\, vagy éppen ellenkezőleg\, a lényeget fogja meg\, miközben egyszerű a használata? Ilyen és ehhez hasonló kérdéseket vitatunk meg és gyakorolunk ezen alapszintű kurzus során. \n \n\n\n\n\n\n\n\n\n\n\nJelentkezési határidő: 2021. 10. 18. \nKépzési napok: 2021. 10. 28. és 11. 02. \nCsoportlétszám: 6-12 fő \nÓraszám: 8 óra \nHelyszín: Budapest belváros \n\n\n\n\n\n\n\n\n\n\n\n\n\n*A változtatás jogát fenntartjuk. (Ha újra visszatérne a home office\, a képzéseket online formában is meg tudjuk tartani. Ennek a megvalósítását előre leegyeztetjük az ügyfelekkel.) \nRészletek >>
URL:https://logisztika.hu/rendezveny/beszallitoertekeles-alapjai-es-kihivasai-2/
END:VEVENT
BEGIN:VEVENT
DTSTART;TZID=UTC:20211028T000000
DTEND;TZID=UTC:20211102T235959
DTSTAMP:20260423T005538
CREATED:20210902T114654Z
LAST-MODIFIED:20210902T114654Z
UID:83111-1635379200-1635897599@logisztika.hu
SUMMARY:Beszállítóértékelés alapjai és kihívásai
DESCRIPTION:A beszállítók teljesítménye nagyban függ attól\, hogy a megrendelő szervezet milyen eszközrendszerrel\, módszertannal és tudással méri\, követi nyomon és értékeli a teljesítéseket. Mit érdemes előbb bevezetni: az elő- vagy az utóminősítést\, hogyan érdemes mérni\, a mérésekből hogyan lesz értékelés\, kinek és mit érdemes ebből kommunikálni. A számokkal való értékelés lehetőségei és kihívásai. Túlságosan leegyszerűsíti-e a helyzetet a jelzőlámpa módszer\, vagy éppen ellenkezőleg\, a lényeget fogja meg\, miközben egyszerű a használata? Ilyen és ehhez hasonló kérdéseket vitatunk meg és gyakorolunk ezen alapszintű kurzus során. \n \n\n\n\n\n\n\n\n\n\n\nJelentkezési határidő: 2021. 10. 18. \nKépzési napok: 2021. 10. 28. és 11. 02. \nCsoportlétszám: 6-12 fő \nÓraszám: 8 óra \nHelyszín: Budapest belváros \n\n\n\n\n\n\n\n\n\n\n\n\n\n*A változtatás jogát fenntartjuk. (Ha újra visszatérne a home office\, a képzéseket online formában is meg tudjuk tartani. Ennek a megvalósítását előre leegyeztetjük az ügyfelekkel.) \nRészletek >>
URL:https://logisztika.hu/rendezveny/beszallitoertekeles-alapjai-es-kihivasai-2-2/
END:VEVENT
BEGIN:VEVENT
DTSTART;TZID=UTC:20211029T000000
DTEND;TZID=UTC:20211105T235959
DTSTAMP:20260423T005538
CREATED:20210817T130648Z
LAST-MODIFIED:20210817T130648Z
UID:75474-1635465600-1636156799@logisztika.hu
SUMMARY:Logisztikai kontrolling
DESCRIPTION:A logisztikai szakembereknek gyakran a szűkebben vett szakmai ismereteken túl olyan tudásra is szükségük van\, amellyel a logisztikai vezetői döntéseket alátámasztó kalkulációk készítésére is képesek lesznek\, ehhez pedig ismerniük kell az alapvető költség elszámolási eljárásokat\, érteniük kell a logisztikai költségek viselkedésének természetét\, ismerniük a logisztikai tevékenység eredményességét és hatékonyságát mérő nem pénzügyi mutatószámokat\, illetve tisztában kell lenniük ezek szerepével a különböző teljesítménymérési rendszerekben. \nHáromnapos logisztikai kontrolling kurzusunk gyakorlatias módon\, logisztikai példákon keresztül közelíti meg a témát. \n \n\n\n\n\n\n\n\n\nJelentkezési határidő: 2021. 10. 19.\n \nKépzési napok: 2021. 10. 29. és 11. 04-05. \nMin.-Max. óraszám: 6-12 fő \nÓraszám: 24 óra \nHelyszín: Budapest belváros \n\n\n\n\n\n\n\n\n\n\n\n*Képzéseinket a mindenkori aktuális szabályozásnak és a résztvevők igényeinek megfelelően valósítjuk meg. A változtatás jogát fenntartjuk! \nRészletek >>
URL:https://logisztika.hu/rendezveny/logisztikai-kontrolling-3/
CATEGORIES:Tréning
END:VEVENT
BEGIN:VEVENT
DTSTART;TZID=UTC:20211029T000000
DTEND;TZID=UTC:20211105T235959
DTSTAMP:20260423T005538
CREATED:20210817T130648Z
LAST-MODIFIED:20210817T130648Z
UID:83096-1635465600-1636156799@logisztika.hu
SUMMARY:Logisztikai kontrolling
DESCRIPTION:A logisztikai szakembereknek gyakran a szűkebben vett szakmai ismereteken túl olyan tudásra is szükségük van\, amellyel a logisztikai vezetői döntéseket alátámasztó kalkulációk készítésére is képesek lesznek\, ehhez pedig ismerniük kell az alapvető költség elszámolási eljárásokat\, érteniük kell a logisztikai költségek viselkedésének természetét\, ismerniük a logisztikai tevékenység eredményességét és hatékonyságát mérő nem pénzügyi mutatószámokat\, illetve tisztában kell lenniük ezek szerepével a különböző teljesítménymérési rendszerekben. \nHáromnapos logisztikai kontrolling kurzusunk gyakorlatias módon\, logisztikai példákon keresztül közelíti meg a témát. \n \n\n\n\n\n\n\n\n\nJelentkezési határidő: 2021. 10. 19.\n \nKépzési napok: 2021. 10. 29. és 11. 04-05. \nMin.-Max. óraszám: 6-12 fő \nÓraszám: 24 óra \nHelyszín: Budapest belváros \n\n\n\n\n\n\n\n\n\n\n\n*Képzéseinket a mindenkori aktuális szabályozásnak és a résztvevők igényeinek megfelelően valósítjuk meg. A változtatás jogát fenntartjuk! \nRészletek >>
URL:https://logisztika.hu/rendezveny/logisztikai-kontrolling-3-2/
CATEGORIES:Tréning
END:VEVENT
END:VCALENDAR