BEGIN:VCALENDAR
VERSION:2.0
PRODID:-//Magyar Logisztikai, Beszerzési és Készletezési Társaság - ECPv6.15.16//NONSGML v1.0//EN
CALSCALE:GREGORIAN
METHOD:PUBLISH
X-WR-CALNAME:Magyar Logisztikai, Beszerzési és Készletezési Társaság
X-ORIGINAL-URL:https://logisztika.hu
X-WR-CALDESC:Események Magyar Logisztikai, Beszerzési és Készletezési Társaság
REFRESH-INTERVAL;VALUE=DURATION:PT1H
X-Robots-Tag:noindex
X-PUBLISHED-TTL:PT1H
BEGIN:VTIMEZONE
TZID:UTC
BEGIN:STANDARD
TZOFFSETFROM:+0000
TZOFFSETTO:+0000
TZNAME:UTC
DTSTART:20200101T000000
END:STANDARD
END:VTIMEZONE
BEGIN:VEVENT
DTSTART;TZID=UTC:20211105T000000
DTEND;TZID=UTC:20211115T235959
DTSTAMP:20260422T232253
CREATED:20210818T064842Z
LAST-MODIFIED:20210818T064842Z
UID:75483-1636070400-1637020799@logisztika.hu
SUMMARY:Lean menedzsment a szolgáltatásban
DESCRIPTION:Képzésünk átfogó és gyakorlatias módon ismerteti meg  a lean alapfogalmait mindazokkal\, akik a szolgáltatási szektorban\, egészségügyi\, oktatási és irodai területen tevékenykednek és szeretnék a lean szolgáltatásban alkalmazható eszközeit\, módszereit\, lehetőségeit megismerni és alkalmazni mindennapi munkájuk során. \n \n\n\n\n\n\nJelentkezési határidő: 2021. 10. 26. \nKépzési napok: 2021. 11. 05.\, 08. és 15. \nMin-Max. csoportlétszám: 6-12 fő \nÓraszám: 16 óra (6-6-4 óra) \nHelyszín: Online \n  \n*Képzéseinket a mindenkori aktuális szabályozásnak és a résztvevők igényeinek megfelelően valósítjuk meg. A változtatás jogát fenntartjuk! \n\n\n\n\n\n\nRészletek
URL:https://logisztika.hu/rendezveny/lean-menedzsment-a-szolgaltatasban-3/
CATEGORIES:Tréning
END:VEVENT
BEGIN:VEVENT
DTSTART;TZID=UTC:20211105T000000
DTEND;TZID=UTC:20211115T235959
DTSTAMP:20260422T232253
CREATED:20210818T064842Z
LAST-MODIFIED:20210818T064842Z
UID:83099-1636070400-1637020799@logisztika.hu
SUMMARY:Lean menedzsment a szolgáltatásban
DESCRIPTION:Képzésünk átfogó és gyakorlatias módon ismerteti meg  a lean alapfogalmait mindazokkal\, akik a szolgáltatási szektorban\, egészségügyi\, oktatási és irodai területen tevékenykednek és szeretnék a lean szolgáltatásban alkalmazható eszközeit\, módszereit\, lehetőségeit megismerni és alkalmazni mindennapi munkájuk során. \n \n\n\n\n\n\nJelentkezési határidő: 2021. 10. 26. \nKépzési napok: 2021. 11. 05.\, 08. és 15. \nMin-Max. csoportlétszám: 6-12 fő \nÓraszám: 16 óra (6-6-4 óra) \nHelyszín: Online \n  \n*Képzéseinket a mindenkori aktuális szabályozásnak és a résztvevők igényeinek megfelelően valósítjuk meg. A változtatás jogát fenntartjuk! \n\n\n\n\n\n\nRészletek
URL:https://logisztika.hu/rendezveny/lean-menedzsment-a-szolgaltatasban-3-2/
CATEGORIES:Tréning
END:VEVENT
BEGIN:VEVENT
DTSTART;TZID=UTC:20211110T000000
DTEND;TZID=UTC:20211112T235959
DTSTAMP:20260422T232253
CREATED:20210517T083142Z
LAST-MODIFIED:20210517T083142Z
UID:74703-1636502400-1636761599@logisztika.hu
SUMMARY:29. MLBKT Kongresszus
DESCRIPTION:Azonnali reakciók – hosszú távú hatások: főszerepben a logisztika\n2021. november 10-12. – Az év supply chain eseménye\n\nAz MLBKT 29. éves kongresszusa a szakma legnagyobb találkozóhelye. Az elmúlt években a rendezvény 3 napján mintegy 500\, ellátási láncban dolgozó szakember\, vezető és 100 egyetemi hallgató fordult meg. \nElőadói felhívás >>\nTovábbi részletek hamarosan!
URL:https://logisztika.hu/rendezveny/29-mlbkt-kongresszus/
END:VEVENT
BEGIN:VEVENT
DTSTART;TZID=UTC:20211110T000000
DTEND;TZID=UTC:20211112T235959
DTSTAMP:20260422T232253
CREATED:20210517T083142Z
LAST-MODIFIED:20210517T083142Z
UID:83080-1636502400-1636761599@logisztika.hu
SUMMARY:29. MLBKT Kongresszus
DESCRIPTION:Azonnali reakciók – hosszú távú hatások: főszerepben a logisztika\n2021. november 10-12. – Az év supply chain eseménye\n\nAz MLBKT 29. éves kongresszusa a szakma legnagyobb találkozóhelye. Az elmúlt években a rendezvény 3 napján mintegy 500\, ellátási láncban dolgozó szakember\, vezető és 100 egyetemi hallgató fordult meg. \nElőadói felhívás >>\nTovábbi részletek hamarosan!
URL:https://logisztika.hu/rendezveny/29-mlbkt-kongresszus-2/
END:VEVENT
END:VCALENDAR