BEGIN:VCALENDAR
VERSION:2.0
PRODID:-//Magyar Logisztikai, Beszerzési és Készletezési Társaság - ECPv6.15.16//NONSGML v1.0//EN
CALSCALE:GREGORIAN
METHOD:PUBLISH
X-ORIGINAL-URL:https://logisztika.hu
X-WR-CALDESC:Események Magyar Logisztikai, Beszerzési és Készletezési Társaság
REFRESH-INTERVAL;VALUE=DURATION:PT1H
X-Robots-Tag:noindex
X-PUBLISHED-TTL:PT1H
BEGIN:VTIMEZONE
TZID:UTC
BEGIN:STANDARD
TZOFFSETFROM:+0000
TZOFFSETTO:+0000
TZNAME:UTC
DTSTART:20200101T000000
END:STANDARD
END:VTIMEZONE
BEGIN:VEVENT
DTSTART;TZID=UTC:20211117T000000
DTEND;TZID=UTC:20211118T235959
DTSTAMP:20260422T232354
CREATED:20210902T113255Z
LAST-MODIFIED:20210902T113255Z
UID:83109-1637107200-1637279999@logisztika.hu
SUMMARY:Vámismeretek
DESCRIPTION:Újragondolt tréningünkön rávezetjük résztvevőinket a vámszakmai kérdések összefüggéseire és számos gyakorlati feladattal\, esettanulmánnyal adunk hasznos segítséget ahhoz\, hogy megalapozott döntéseket tudjanak hozni a vám- vagy ahhoz kapcsolódó területeken. A két nap alatt áttekintjük a brexit kapcsán jelenleg felmerülő nehézségeket is. \n \n\n\n\n\n\nJelentkezési határidő: 2021. 11. 07. \nKépzési napok: 2021. 11. 17-18. \nMin.-Max. csoportlétszám: 6-12 fő \nÓraszám: 16 óra (8-8 óra) \nHelyszín: Online \n  \n*A változtatás jogát fenntartjuk. (Amennyiben újra engedélyezetté válna a helyszíni oktatások szervezése\, úgy az oktatóval és a résztvevőkkel közös megállapodás alapján térhetünk át offlinera. Ennek a megvalósítását előre leegyeztetjük az ügyfelekkel.) \n\n\n\n\n\n\nRészletek
URL:https://logisztika.hu/rendezveny/vamismeretek-8-2/
CATEGORIES:Tréning
END:VEVENT
BEGIN:VEVENT
DTSTART;TZID=UTC:20211117T000000
DTEND;TZID=UTC:20211118T235959
DTSTAMP:20260422T232354
CREATED:20210902T113255Z
LAST-MODIFIED:20210902T113255Z
UID:75623-1637107200-1637279999@logisztika.hu
SUMMARY:Vámismeretek
DESCRIPTION:Újragondolt tréningünkön rávezetjük résztvevőinket a vámszakmai kérdések összefüggéseire és számos gyakorlati feladattal\, esettanulmánnyal adunk hasznos segítséget ahhoz\, hogy megalapozott döntéseket tudjanak hozni a vám- vagy ahhoz kapcsolódó területeken. A két nap alatt áttekintjük a brexit kapcsán jelenleg felmerülő nehézségeket is. \n \n\n\n\n\n\nJelentkezési határidő: 2021. 11. 07. \nKépzési napok: 2021. 11. 17-18. \nMin.-Max. csoportlétszám: 6-12 fő \nÓraszám: 16 óra (8-8 óra) \nHelyszín: Online \n  \n*A változtatás jogát fenntartjuk. (Amennyiben újra engedélyezetté válna a helyszíni oktatások szervezése\, úgy az oktatóval és a résztvevőkkel közös megállapodás alapján térhetünk át offlinera. Ennek a megvalósítását előre leegyeztetjük az ügyfelekkel.) \n\n\n\n\n\n\nRészletek
URL:https://logisztika.hu/rendezveny/vamismeretek-8/
CATEGORIES:Tréning
END:VEVENT
BEGIN:VEVENT
DTSTART;TZID=UTC:20211117T000000
DTEND;TZID=UTC:20211126T235959
DTSTAMP:20260422T232354
CREATED:20210817T125747Z
LAST-MODIFIED:20210817T125747Z
UID:75472-1637107200-1637971199@logisztika.hu
SUMMARY:Járattervezés
DESCRIPTION:Átfogó\, gyakorlati megközelítésű oktatás\, gyakorlati példák felhasználásával\, közös feladatmegoldásokkal segít megérteni a szállításszervezés összetevőit\, költségeit\, eredményeit és kapcsolatát az együttműködő területekkel. A képzés főbb kulcsszavai: járatszerkesztés\, flottamenedzsment\, áruszállítás. \n \nJelentkezési határidő: 2021. 11. 07. \nKépzési napok: 2021. 11. 17-19. és 24-26. \nCsoportlétszám: 6-12 fő \nÓraszám: 8 óra (4-4 óra) \nHelyszín: Online \n*Képzéseinket a mindenkori aktuális szabályozásnak és a résztvevők igényeinek megfelelően valósítjuk meg. A változtatás jogát fenntartjuk! \nRészletek
URL:https://logisztika.hu/rendezveny/jarattervezes/
CATEGORIES:Tréning
END:VEVENT
BEGIN:VEVENT
DTSTART;TZID=UTC:20211117T000000
DTEND;TZID=UTC:20211126T235959
DTSTAMP:20260422T232354
CREATED:20210817T125747Z
LAST-MODIFIED:20210817T125747Z
UID:83095-1637107200-1637971199@logisztika.hu
SUMMARY:Járattervezés
DESCRIPTION:Átfogó\, gyakorlati megközelítésű oktatás\, gyakorlati példák felhasználásával\, közös feladatmegoldásokkal segít megérteni a szállításszervezés összetevőit\, költségeit\, eredményeit és kapcsolatát az együttműködő területekkel. A képzés főbb kulcsszavai: járatszerkesztés\, flottamenedzsment\, áruszállítás. \n \nJelentkezési határidő: 2021. 11. 07. \nKépzési napok: 2021. 11. 17-19. és 24-26. \nCsoportlétszám: 6-12 fő \nÓraszám: 8 óra (4-4 óra) \nHelyszín: Online \n*Képzéseinket a mindenkori aktuális szabályozásnak és a résztvevők igényeinek megfelelően valósítjuk meg. A változtatás jogát fenntartjuk! \nRészletek
URL:https://logisztika.hu/rendezveny/jarattervezes-2/
CATEGORIES:Tréning
END:VEVENT
BEGIN:VEVENT
DTSTART;TZID=UTC:20211118T000000
DTEND;TZID=UTC:20211119T235959
DTSTAMP:20260422T232354
CREATED:20210818T073937Z
LAST-MODIFIED:20210818T073937Z
UID:75515-1637193600-1637366399@logisztika.hu
SUMMARY:Beszállítói tárgyalás felsőfokon
DESCRIPTION:Egy jól sikerült tárgyalás komoly mérföldkő egy cég életében: stratégiai együttműködések jöhetnek létre\, régóta fennálló ellentétek oldódhatnak fel\, költséget csökkenthetünk/tartalékot képezhetünk\, stb. Egy hiányos vagy gyenge felkészülés azonban beláthatatlan következményekkel járhat. Gyakorlatorientált tárgyalási tréningünkkel abban segítünk partnereinknek\, hogy a tárgyalások kimenetele mindkét fél számára a lehető legjobb megoldást jelentse rövid és hosszútávon egyaránt. \n \nJelentkezési határidő: 2021. 11. 08. \nKépzési napok: 2021. 11. 18-19. \nCsoportlétszám: 6-12 fő \nÓraszám: 16 óra (8-8 óra) \nHelyszín: Online \n  \n\n*Képzéseinket a mindenkori aktuális szabályozásnak és a résztvevők igényeinek megfelelően valósítjuk meg. A változtatás jogát fenntartjuk! \nRészletek
URL:https://logisztika.hu/rendezveny/beszallitoi-targyalas-felsofokon-3/
CATEGORIES:Tréning
END:VEVENT
BEGIN:VEVENT
DTSTART;TZID=UTC:20211118T000000
DTEND;TZID=UTC:20211119T235959
DTSTAMP:20260422T232354
CREATED:20210818T073937Z
LAST-MODIFIED:20210818T073937Z
UID:83106-1637193600-1637366399@logisztika.hu
SUMMARY:Beszállítói tárgyalás felsőfokon
DESCRIPTION:Egy jól sikerült tárgyalás komoly mérföldkő egy cég életében: stratégiai együttműködések jöhetnek létre\, régóta fennálló ellentétek oldódhatnak fel\, költséget csökkenthetünk/tartalékot képezhetünk\, stb. Egy hiányos vagy gyenge felkészülés azonban beláthatatlan következményekkel járhat. Gyakorlatorientált tárgyalási tréningünkkel abban segítünk partnereinknek\, hogy a tárgyalások kimenetele mindkét fél számára a lehető legjobb megoldást jelentse rövid és hosszútávon egyaránt. \n \nJelentkezési határidő: 2021. 11. 08. \nKépzési napok: 2021. 11. 18-19. \nCsoportlétszám: 6-12 fő \nÓraszám: 16 óra (8-8 óra) \nHelyszín: Online \n  \n\n*Képzéseinket a mindenkori aktuális szabályozásnak és a résztvevők igényeinek megfelelően valósítjuk meg. A változtatás jogát fenntartjuk! \nRészletek
URL:https://logisztika.hu/rendezveny/beszallitoi-targyalas-felsofokon-3-2/
CATEGORIES:Tréning
END:VEVENT
END:VCALENDAR