BEGIN:VCALENDAR
VERSION:2.0
PRODID:-//Magyar Logisztikai, Beszerzési és Készletezési Társaság - ECPv6.15.16//NONSGML v1.0//EN
CALSCALE:GREGORIAN
METHOD:PUBLISH
X-ORIGINAL-URL:https://logisztika.hu
X-WR-CALDESC:Események Magyar Logisztikai, Beszerzési és Készletezési Társaság
REFRESH-INTERVAL;VALUE=DURATION:PT1H
X-Robots-Tag:noindex
X-PUBLISHED-TTL:PT1H
BEGIN:VTIMEZONE
TZID:UTC
BEGIN:STANDARD
TZOFFSETFROM:+0000
TZOFFSETTO:+0000
TZNAME:UTC
DTSTART:20210101T000000
END:STANDARD
END:VTIMEZONE
BEGIN:VEVENT
DTSTART;TZID=UTC:20220216T163000
DTEND;TZID=UTC:20220216T180000
DTSTAMP:20260422T190847
CREATED:20220208T124414Z
LAST-MODIFIED:20220208T124414Z
UID:76718-1645029000-1645034400@logisztika.hu
SUMMARY:Korok\, szervezeti kihívások és kor-szerű szervezeti és vezetési megoldások - MLBKT Projektmenedzsment Tagozati előadás
DESCRIPTION:Szeretettel meghívjuk az MLBKT Projektmenedzsment Tagozati programra az alábbiak szerint: \n  \nAz előadás címe:\n \nKorok\, szervezeti kihívások és kor-szerű szervezeti és vezetési megoldások \n  \nElőadó: \nSzatmáriné dr. Balogh Mária \nCímzetes főiskolai tanár\, Munka- és pályatanácsadó szakpszichológus\, Munka- és szervezet szakpszichológus\, kiképzett tréner\, licenccel rendelkező Coaching pszichológus \n \n  \nElőadás rövid leírása: \nAz előadásban ön végig követheti a különböző korszakokhoz és szervezeti fejlődési fázisokhoz igazodó szervezeti és vezetési megoldásokat egy újszerű rendszer- és fejlődésszemlélet alapján. A korszakokhoz különböző alapértékek\, motivációk\, vezetési módszerek és szervezeti működésmódok illeszkednek. Ezek alapján ön képes lesz: \n\nbeazonosítani egy szervezet\, egy projekt alapműködési mintáit\,\nmegérteni a nehézségeket és elakadásokat\,\nmeghatározni a szervezet természetes fejlődéséhez és tudatos fejlesztéséhez szükséges célokat\,\nfelülvizsgálni a vezetési módszereket\,\nmotivációs eszközöket hozzárendelni\, amelyek segíthetik a változások megvalósítását.\n\n  \nAz előadóról: \nSzervezetfejlesztési és vezetési tanácsadóként\, személyzetfejlesztőként 29 éve támogatja a cég- és HR vezetőket abban\, hogy a problémák és a kihívások azonosításán túl kialakítsák és megvalósítsák fejlesztési koncepciójukat a stratégiaalkotástól és rendszerfejlesztéstől a csoportos beavatkozásokon (pl. tréningek\, csoportos alkotó workshopok és coachingok) keresztül az egyéni fejlesztésekig (pl. karriertervezés\, vezetői coaching). \nOktatott már a DE\, a SZE\, a BME\, az ELTE\, BKF keretei között kommunikációt és tárgyalástechnikát\, munkahelyi képzés és készségfejlesztés c. tantárgyat\, mediációt\, vezetett tanácsadási készségfejlesztő tréningeket. Jelenleg a BCE Projektmenedzsment specialista szakon problémamegoldás csoportos alkotástechnikai módszereit és vezetési ismereteket tanít sok gyakorlattal fűszerezve. Krízistanácsadóként is támogat cégeket a válság idején. \n  \nIdőpont: 2022. február 16.\, 16.30-18.00 \nHelyszín: ZOOM online platform \n(a belépéshez szükséges kódot minden jelentkezőnknek a rendezvény napján\, a délelőtti órákban küldjük) \n  \nRészvételi díj: \n\nA részvétel az MLBKT tagjai számára ingyenes\, de előzetes regisztrációhoz kötött!\nAzon nem MLBKT tagok részére\, akik a jelentkezéssel egyidejűleg csatlakoznak a tagsághoz\, a tagdíj befizetésével a részvétel ingyenes. Tagsági regisztráció itt >>> https://logisztika.hu/belepes/\nNem MLBKT tagok részére 8.000\,- Ft+áfa\n\n  \nJelentkezési határidő: 2022. február 15. 24.00 óra \n  \n \nAmennyiben a fenti jelentkezem gomb nem működik\, itt is lehet jelentkezni: \nhttp://ugyfelkapu.logisztika.hu/auth/wizard?eventId=29 \n  \nAz esemény létrejöttét támogatta
URL:https://logisztika.hu/rendezveny/korok-szervezeti-kihivasok-es-kor-szeru-szervezeti-es-vezetesi-megoldasok-mlbkt-projektmenedzsment-tagozati-eloadas/
END:VEVENT
BEGIN:VEVENT
DTSTART;TZID=UTC:20220216T163000
DTEND;TZID=UTC:20220216T180000
DTSTAMP:20260422T190847
CREATED:20220208T124414Z
LAST-MODIFIED:20220208T124414Z
UID:83130-1645029000-1645034400@logisztika.hu
SUMMARY:Korok\, szervezeti kihívások és kor-szerű szervezeti és vezetési megoldások - MLBKT Projektmenedzsment Tagozati előadás
DESCRIPTION:Szeretettel meghívjuk az MLBKT Projektmenedzsment Tagozati programra az alábbiak szerint: \n  \nAz előadás címe:\n \nKorok\, szervezeti kihívások és kor-szerű szervezeti és vezetési megoldások \n  \nElőadó: \nSzatmáriné dr. Balogh Mária \nCímzetes főiskolai tanár\, Munka- és pályatanácsadó szakpszichológus\, Munka- és szervezet szakpszichológus\, kiképzett tréner\, licenccel rendelkező Coaching pszichológus \n \n  \nElőadás rövid leírása: \nAz előadásban ön végig követheti a különböző korszakokhoz és szervezeti fejlődési fázisokhoz igazodó szervezeti és vezetési megoldásokat egy újszerű rendszer- és fejlődésszemlélet alapján. A korszakokhoz különböző alapértékek\, motivációk\, vezetési módszerek és szervezeti működésmódok illeszkednek. Ezek alapján ön képes lesz: \n\nbeazonosítani egy szervezet\, egy projekt alapműködési mintáit\,\nmegérteni a nehézségeket és elakadásokat\,\nmeghatározni a szervezet természetes fejlődéséhez és tudatos fejlesztéséhez szükséges célokat\,\nfelülvizsgálni a vezetési módszereket\,\nmotivációs eszközöket hozzárendelni\, amelyek segíthetik a változások megvalósítását.\n\n  \nAz előadóról: \nSzervezetfejlesztési és vezetési tanácsadóként\, személyzetfejlesztőként 29 éve támogatja a cég- és HR vezetőket abban\, hogy a problémák és a kihívások azonosításán túl kialakítsák és megvalósítsák fejlesztési koncepciójukat a stratégiaalkotástól és rendszerfejlesztéstől a csoportos beavatkozásokon (pl. tréningek\, csoportos alkotó workshopok és coachingok) keresztül az egyéni fejlesztésekig (pl. karriertervezés\, vezetői coaching). \nOktatott már a DE\, a SZE\, a BME\, az ELTE\, BKF keretei között kommunikációt és tárgyalástechnikát\, munkahelyi képzés és készségfejlesztés c. tantárgyat\, mediációt\, vezetett tanácsadási készségfejlesztő tréningeket. Jelenleg a BCE Projektmenedzsment specialista szakon problémamegoldás csoportos alkotástechnikai módszereit és vezetési ismereteket tanít sok gyakorlattal fűszerezve. Krízistanácsadóként is támogat cégeket a válság idején. \n  \nIdőpont: 2022. február 16.\, 16.30-18.00 \nHelyszín: ZOOM online platform \n(a belépéshez szükséges kódot minden jelentkezőnknek a rendezvény napján\, a délelőtti órákban küldjük) \n  \nRészvételi díj: \n\nA részvétel az MLBKT tagjai számára ingyenes\, de előzetes regisztrációhoz kötött!\nAzon nem MLBKT tagok részére\, akik a jelentkezéssel egyidejűleg csatlakoznak a tagsághoz\, a tagdíj befizetésével a részvétel ingyenes. Tagsági regisztráció itt >>> https://logisztika.hu/belepes/\nNem MLBKT tagok részére 8.000\,- Ft+áfa\n\n  \nJelentkezési határidő: 2022. február 15. 24.00 óra \n  \n \nAmennyiben a fenti jelentkezem gomb nem működik\, itt is lehet jelentkezni: \nhttp://ugyfelkapu.logisztika.hu/auth/wizard?eventId=29 \n  \nAz esemény létrejöttét támogatta
URL:https://logisztika.hu/rendezveny/korok-szervezeti-kihivasok-es-kor-szeru-szervezeti-es-vezetesi-megoldasok-mlbkt-projektmenedzsment-tagozati-eloadas-2/
END:VEVENT
END:VCALENDAR