BEGIN:VCALENDAR
VERSION:2.0
PRODID:-//Magyar Logisztikai, Beszerzési és Készletezési Társaság - ECPv6.15.16//NONSGML v1.0//EN
CALSCALE:GREGORIAN
METHOD:PUBLISH
X-ORIGINAL-URL:https://logisztika.hu
X-WR-CALDESC:Események Magyar Logisztikai, Beszerzési és Készletezési Társaság
REFRESH-INTERVAL;VALUE=DURATION:PT1H
X-Robots-Tag:noindex
X-PUBLISHED-TTL:PT1H
BEGIN:VTIMEZONE
TZID:UTC
BEGIN:STANDARD
TZOFFSETFROM:+0000
TZOFFSETTO:+0000
TZNAME:UTC
DTSTART:20210101T000000
END:STANDARD
END:VTIMEZONE
BEGIN:VEVENT
DTSTART;TZID=UTC:20220217T160000
DTEND;TZID=UTC:20220217T173000
DTSTAMP:20260422T190743
CREATED:20220204T103726Z
LAST-MODIFIED:20220204T103726Z
UID:76686-1645113600-1645119000@logisztika.hu
SUMMARY:B2VK tagozati program - IPARÁGVÁLTÁS a beszerzők életében
DESCRIPTION:Az MLBKT Beszerzők és Beszerzési Vezetők Klubja szeretettel meghívja az \nIPARÁGVÁLTÁS a beszerzők életében\ncímű tagozati eseményre. \n  \nSzakmának tekinted a beszerzést és szereted is csinálni\, de azt érzed\, hogy a jelenlegi iparágadban már nem tudsz újat tanulni? \nEsetleg gondolkoztál jelentkezni egy másik iparágba beszerzőnek\, de nem tudod\, hogy milyen kihívások várnak rád? \nVagy direktről indirektre\, esetleg fordítva váltanál\, de nem ismered még a váltás okozta különbségeket? \nHa ezeket a kérdéseket Te is felteszed magadban\, akkor szeretettel várunk egy interaktív teams kerekasztal beszélgetés keretében\, ahol négy ezeken átesett vezető vendégünkkel segítünk Neked a választ megkapni. \n  \nAz esemény formája: Microsoft Teams meeting \nAz esemény időpontja: 2022.02.17. 16:00-17:30 \n\nLegyenek napra kész szakmai ismeretei első kézből! Vegyen részt Ön is! \nJelentkezési határidő: 2022. február 16. 12:00 \nTovábbi részletek az eseményről >>>
URL:https://logisztika.hu/rendezveny/76686/
END:VEVENT
BEGIN:VEVENT
DTSTART;TZID=UTC:20220217T160000
DTEND;TZID=UTC:20220217T173000
DTSTAMP:20260422T190743
CREATED:20220204T103726Z
LAST-MODIFIED:20220204T103726Z
UID:83128-1645113600-1645119000@logisztika.hu
SUMMARY:B2VK tagozati program - IPARÁGVÁLTÁS a beszerzők életében
DESCRIPTION:Az MLBKT Beszerzők és Beszerzési Vezetők Klubja szeretettel meghívja az \nIPARÁGVÁLTÁS a beszerzők életében\ncímű tagozati eseményre. \n  \nSzakmának tekinted a beszerzést és szereted is csinálni\, de azt érzed\, hogy a jelenlegi iparágadban már nem tudsz újat tanulni? \nEsetleg gondolkoztál jelentkezni egy másik iparágba beszerzőnek\, de nem tudod\, hogy milyen kihívások várnak rád? \nVagy direktről indirektre\, esetleg fordítva váltanál\, de nem ismered még a váltás okozta különbségeket? \nHa ezeket a kérdéseket Te is felteszed magadban\, akkor szeretettel várunk egy interaktív teams kerekasztal beszélgetés keretében\, ahol négy ezeken átesett vezető vendégünkkel segítünk Neked a választ megkapni. \n  \nAz esemény formája: Microsoft Teams meeting \nAz esemény időpontja: 2022.02.17. 16:00-17:30 \n\nLegyenek napra kész szakmai ismeretei első kézből! Vegyen részt Ön is! \nJelentkezési határidő: 2022. február 16. 12:00 \nTovábbi részletek az eseményről >>>
URL:https://logisztika.hu/rendezveny/76686-2/
END:VEVENT
END:VCALENDAR