BEGIN:VCALENDAR
VERSION:2.0
PRODID:-//Magyar Logisztikai, Beszerzési és Készletezési Társaság - ECPv6.15.16//NONSGML v1.0//EN
CALSCALE:GREGORIAN
METHOD:PUBLISH
X-WR-CALNAME:Magyar Logisztikai, Beszerzési és Készletezési Társaság
X-ORIGINAL-URL:https://logisztika.hu
X-WR-CALDESC:Események Magyar Logisztikai, Beszerzési és Készletezési Társaság
REFRESH-INTERVAL;VALUE=DURATION:PT1H
X-Robots-Tag:noindex
X-PUBLISHED-TTL:PT1H
BEGIN:VTIMEZONE
TZID:UTC
BEGIN:STANDARD
TZOFFSETFROM:+0000
TZOFFSETTO:+0000
TZNAME:UTC
DTSTART:20210101T000000
END:STANDARD
END:VTIMEZONE
BEGIN:VEVENT
DTSTART;TZID=UTC:20220223T163000
DTEND;TZID=UTC:20220223T180000
DTSTAMP:20260422T190736
CREATED:20220216T064711Z
LAST-MODIFIED:20220216T064711Z
UID:76819-1645633800-1645639200@logisztika.hu
SUMMARY:A lean\, mint professzionális gondolkodásmód alapjai - Meghívó Lean tagozati előadásra
DESCRIPTION:Az MLBKT Lean Tagozata szeretettel meghívja Önt egy három előadásból álló interaktív eseménysorozatra. \n  \nA előadások egymásra épülnek\, ezért érdemes már az első alkalomtól részt venni! \nAz alapoktól indulunk egészen a gyakorlatban való alkalmazásig! \nAz előadásokon bárki részt vehet! \n  \nAz eseménysorozaton való részvételt olyan lean iránt érdeklődőknek ajánljuk\, akik szeretnék megismerni ezt az értékteremtő szemléletet\, a lean alapelvek szerint tervezik átalakítani gyártási\, vagy szolgáltatási folyamataikat\, vagy akár otthoni környezetükben szeretnék a mindennapi tevékenységüket veszteségminimalizáló módon végezni. \nA sorozat azon szakemberek számára is értékes tudást ad\, akik már ismerik a lean gondolkodásmódot és szeretnék ismereteiket továbbfejleszteni\, valamint a lean eszközök előnyeit gyakorlati példákon megtapasztalni. \nMindhárom alkalom során kiemelt szerepet kapnak az életszerű példák\, az interaktív feladatok. Az előadások során lehetőséget biztosítunk a közös gondolkodásra\, teret adva a vélemények\, tapasztalatok megosztására. \n  \n1. előadás: A lean\, mint professzionális gondolkodásmód alapjai \nIdőpont: 2022. február 23. 16.30 – 18.00 \nTéma: A lean\, mint értékteremtő gondolkodásmód erejének és elméleti alapjainak megismerése\, gyakorlati példákkal szemléltetve. \n  \nTovábbi részletek és jelentkezés itt >>> \nhttps://logisztika.hu/2022/02/09/a-lean-mint-professzionalis-gondolkodasmod-alapjai-meghivo-lean-tagozati-eloadasra/
URL:https://logisztika.hu/rendezveny/a-lean-mint-professzionalis-gondolkodasmod-alapjai-meghivo-lean-tagozati-eloadasra/
END:VEVENT
BEGIN:VEVENT
DTSTART;TZID=UTC:20220223T163000
DTEND;TZID=UTC:20220223T180000
DTSTAMP:20260422T190736
CREATED:20220216T064711Z
LAST-MODIFIED:20220216T064711Z
UID:83131-1645633800-1645639200@logisztika.hu
SUMMARY:A lean\, mint professzionális gondolkodásmód alapjai - Meghívó Lean tagozati előadásra
DESCRIPTION:Az MLBKT Lean Tagozata szeretettel meghívja Önt egy három előadásból álló interaktív eseménysorozatra. \n  \nA előadások egymásra épülnek\, ezért érdemes már az első alkalomtól részt venni! \nAz alapoktól indulunk egészen a gyakorlatban való alkalmazásig! \nAz előadásokon bárki részt vehet! \n  \nAz eseménysorozaton való részvételt olyan lean iránt érdeklődőknek ajánljuk\, akik szeretnék megismerni ezt az értékteremtő szemléletet\, a lean alapelvek szerint tervezik átalakítani gyártási\, vagy szolgáltatási folyamataikat\, vagy akár otthoni környezetükben szeretnék a mindennapi tevékenységüket veszteségminimalizáló módon végezni. \nA sorozat azon szakemberek számára is értékes tudást ad\, akik már ismerik a lean gondolkodásmódot és szeretnék ismereteiket továbbfejleszteni\, valamint a lean eszközök előnyeit gyakorlati példákon megtapasztalni. \nMindhárom alkalom során kiemelt szerepet kapnak az életszerű példák\, az interaktív feladatok. Az előadások során lehetőséget biztosítunk a közös gondolkodásra\, teret adva a vélemények\, tapasztalatok megosztására. \n  \n1. előadás: A lean\, mint professzionális gondolkodásmód alapjai \nIdőpont: 2022. február 23. 16.30 – 18.00 \nTéma: A lean\, mint értékteremtő gondolkodásmód erejének és elméleti alapjainak megismerése\, gyakorlati példákkal szemléltetve. \n  \nTovábbi részletek és jelentkezés itt >>> \nhttps://logisztika.hu/2022/02/09/a-lean-mint-professzionalis-gondolkodasmod-alapjai-meghivo-lean-tagozati-eloadasra/
URL:https://logisztika.hu/rendezveny/a-lean-mint-professzionalis-gondolkodasmod-alapjai-meghivo-lean-tagozati-eloadasra-2/
END:VEVENT
END:VCALENDAR