BEGIN:VCALENDAR
VERSION:2.0
PRODID:-//Magyar Logisztikai, Beszerzési és Készletezési Társaság - ECPv6.15.16//NONSGML v1.0//EN
CALSCALE:GREGORIAN
METHOD:PUBLISH
X-WR-CALNAME:Magyar Logisztikai, Beszerzési és Készletezési Társaság
X-ORIGINAL-URL:https://logisztika.hu
X-WR-CALDESC:Események Magyar Logisztikai, Beszerzési és Készletezési Társaság
REFRESH-INTERVAL;VALUE=DURATION:PT1H
X-Robots-Tag:noindex
X-PUBLISHED-TTL:PT1H
BEGIN:VTIMEZONE
TZID:UTC
BEGIN:STANDARD
TZOFFSETFROM:+0000
TZOFFSETTO:+0000
TZNAME:UTC
DTSTART:20210101T000000
END:STANDARD
END:VTIMEZONE
BEGIN:VEVENT
DTSTART;TZID=UTC:20220420T163000
DTEND;TZID=UTC:20220420T180000
DTSTAMP:20260422T160802
CREATED:20220316T125333Z
LAST-MODIFIED:20220316T125333Z
UID:83136-1650472200-1650477600@logisztika.hu
SUMMARY:Projektmenedzsment helye\, szerepe és kapcsolatai a változásmenedzsment folyamatában - MLBKT Projektmenedzsment Tagozati előadás
DESCRIPTION:Szeretettel meghívjuk az MLBKT Projektmenedzsment Tagozat programjára az alábbiak szerint: \n  \nAz előadás címe:\n \nProjektmenedzsment helye\, szerepe és kapcsolatai a változásmenedzsment folyamatában \n Előadó:\nPécs László\nProject manager – Alstom Transport Hungary Zrt.\n \n \nElőadás rövid leírása: \nEgy professzionális változtatási folyamat öt fő szakaszból épül fel. Az első az Érzékelés\, a második Előkészítés\, döntés és a változtatás bejelentése\, a harmadik a Változtatási döntést megvalósító projekt\, a negyedik a Mérés\, értékelés visszacsatolás\, az ötödik a Változtatás megerősítése és továbbfejlesztése szakasz. A folyamatból is jól látható\, hogy a változási folyamat egy nagyobb\, átfogóbb és hosszabb\, amelynek egy kisebb és rövidebb\, de fontos része a változtatási döntést végrehajtó projekt menedzselése. Ebből is következik\, hogy a változásmenedzsment egyáltalán nem választható el a projektmenedzsment szakterülettől\, szakértelemtől.  A projektmenedzsment szorosan illeszkedik a változtatás folyamatába\, nem lehet professzionális változtatást megvalósítani professzionális projektmenedzsment nélkül. Sikeres projektmenedzsment nélkül nincs sikeres változtatási folyamat sem. \n\nAz előadásban bemutatásra kerül:\n\na változtatás folyamata\,\nprojektmenedzsment helye\, szerepe és kapcsolata a változtatás folyamatában\,\na siker egyik kulcsa a mindenki számára érthető változtatási stratégia és a megfelelő változásvezetési taktika megalkotása\,\nváltoztatás megélésének folyamata\, változtatás fogadtatásának típusai\,\nmit kell tennie a vezetőnek\, hogy a határozatlanok\, a szkeptikusok\, és az elutasítók a változtatás mellé álljanak\,\nváltoztatási folyamat és a változtatási döntést végrehajtó projekt sikertényezői.\n\n\n\n  \nAz előadóról: \nMérnöki-\, és gazdasági felsőfokú tanulmányait Magyarországon és Franciaországban végezte. IPMA minősített szenior projektmenedzser. Hazai és külföldi multinacionális cégeknél szerzett közép és felsővezetői tapasztalatokat\, több mint 25 éve vezet hazai\, valamint nemzetközi csapatokat\, szervezeteket\, projekteket. \nFő szakmai területei: változásmenedzsment\, projektmenedzsment\, valamint kockázatmenedzsment. \n2009-ben a Magyar Logisztikai\, Beszerzési és Készletezési Társaság Év Beszerzési Menedzserének választották. Tagja a Magyar Projektmenedzsment Szövetségnek\, Magyar Logisztikai\, Beszerzési és Készletezési Társaságnak\, a Beszerzési Vezetők Klubjának\, HTE Projektmenedzsment Szakosztálynak\, valamint a MediKlaszternek. \nVállalatvezetői munkája mellett a Magyar Agrár- és Éléttudományi Egyetem Szent István Campus „Változásmenedzsment az üzleti életben” tantárgy előadója. \n  \nIdőpont: 2022. április 20.\, 16.30-18.00 \nHelyszín: ZOOM online platform \n(a belépéshez szükséges kódot minden jelentkezőnknek a rendezvény napján\, a délelőtti órákban küldjük) \n  \nRészvételi díj: \n\nA részvétel az MLBKT tagjai számára ingyenes\, de előzetes regisztrációhoz kötött!\nAzon nem MLBKT tagok részére\, akik a jelentkezéssel egyidejűleg csatlakoznak a tagsághoz\, a tagdíj befizetésével a részvétel ingyenes. Tagsági regisztráció itt >>> https://logisztika.hu/belepes/\nNem MLBKT tagok részére 8.000\,- Ft+áfa\n\n  \nJelentkezési határidő: 2022. április 19.\, 24.00 óra \n  \n \nAmennyiben a fenti jelentkezem gomb nem működik\, itt is lehet jelentkezni:\nhttps://ugyfelkapu.logisztika.hu/auth/wizard?eventId=49 \n  \nAz esemény létrejöttét támogatta
URL:https://logisztika.hu/rendezveny/projektmenedzsment-helye-szerepe-es-kapcsolatai-a-valtozasmenedzsment-folyamataban-mlbkt-projektmenedzsment-tagozati-eloadas-2/
END:VEVENT
BEGIN:VEVENT
DTSTART;TZID=UTC:20220420T163000
DTEND;TZID=UTC:20220420T180000
DTSTAMP:20260422T160802
CREATED:20220316T125333Z
LAST-MODIFIED:20221114T080107Z
UID:77041-1650472200-1650477600@logisztika.hu
SUMMARY:Projektmenedzsment helye\, szerepe és kapcsolatai a változásmenedzsment folyamatában - MLBKT Projektmenedzsment Tagozati előadás
DESCRIPTION:Szeretettel meghívjuk az MLBKT Projektmenedzsment Tagozat programjára az alábbiak szerint: \n \nAz előadás címe:\n \nProjektmenedzsment helye\, szerepe és kapcsolatai a változásmenedzsment folyamatában \n Előadó:\nPécs László\nProject manager – Alstom Transport Hungary Zrt.\n \n\n\nElőadás rövid leírása:\n\nEgy professzionális változtatási folyamat öt fő szakaszból épül fel. Az első az Érzékelés\, a második Előkészítés\, döntés és a változtatás bejelentése\, a harmadik a Változtatási döntést megvalósító projekt\, a negyedik a Mérés\, értékelés visszacsatolás\, az ötödik a Változtatás megerősítése és továbbfejlesztése szakasz. A folyamatból is jól látható\, hogy a változási folyamat egy nagyobb\, átfogóbb és hosszabb\, amelynek egy kisebb és rövidebb\, de fontos része a változtatási döntést végrehajtó projekt menedzselése. Ebből is következik\, hogy a változásmenedzsment egyáltalán nem választható el a projektmenedzsment szakterülettől\, szakértelemtől.  A projektmenedzsment szorosan illeszkedik a változtatás folyamatába\, nem lehet professzionális változtatást megvalósítani professzionális projektmenedzsment nélkül. Sikeres projektmenedzsment nélkül nincs sikeres változtatási folyamat sem.\n\n 	Az előadásban bemutatásra kerül:\n\n 	a változtatás folyamata\,\n 	projektmenedzsment helye\, szerepe és kapcsolata a változtatás folyamatában\,\n 	a siker egyik kulcsa a mindenki számára érthető változtatási stratégia és a megfelelő változásvezetési taktika megalkotása\,\n 	változtatás megélésének folyamata\, változtatás fogadtatásának típusai\,\n 	mit kell tennie a vezetőnek\, hogy a határozatlanok\, a szkeptikusok\, és az elutasítók a változtatás mellé álljanak\,\n 	változtatási folyamat és a változtatási döntést végrehajtó projekt sikertényezői.\n\n\n\n \n\nAz előadóról:\n\nMérnöki-\, és gazdasági felsőfokú tanulmányait Magyarországon és Franciaországban végezte. IPMA minősített szenior projektmenedzser. Hazai és külföldi multinacionális cégeknél szerzett közép és felsővezetői tapasztalatokat\, több mint 25 éve vezet hazai\, valamint nemzetközi csapatokat\, szervezeteket\, projekteket.\n\nFő szakmai területei: változásmenedzsment\, projektmenedzsment\, valamint kockázatmenedzsment.\n\n2009-ben a Magyar Logisztikai\, Beszerzési és Készletezési Társaság Év Beszerzési Menedzserének választották. Tagja a Magyar Projektmenedzsment Szövetségnek\, Magyar Logisztikai\, Beszerzési és Készletezési Társaságnak\, a Beszerzési Vezetők Klubjának\, HTE Projektmenedzsment Szakosztálynak\, valamint a MediKlaszternek.\n\nVállalatvezetői munkája mellett a Magyar Agrár- és Éléttudományi Egyetem Szent István Campus „Változásmenedzsment az üzleti életben” tantárgy előadója.\n\n \n\nIdőpont: 2022. április 20.\, 16.30-18.00\n\nHelyszín: ZOOM online platform\n\n(a belépéshez szükséges kódot minden jelentkezőnknek a rendezvény napján\, a délelőtti órákban küldjük)\n\n \n\nRészvételi díj:\n\n 	A részvétel az MLBKT tagjai számára ingyenes\, de előzetes regisztrációhoz kötött!\n 	Azon nem MLBKT tagok részére\, akik a jelentkezéssel egyidejűleg csatlakoznak a tagsághoz\, a tagdíj befizetésével a részvétel ingyenes. Tagsági regisztráció itt >>> https://logisztika.hu/belepes/\n 	Nem MLBKT tagok részére 8.000\,- Ft+áfa\n\n \n\nJelentkezési határidő: 2022. április 19.\, 24.00 óra\n\n \n\n\n\nAmennyiben a fenti jelentkezem gomb nem működik\, itt is lehet jelentkezni:\nhttps://ugyfelkapu.logisztika.hu/auth/wizard?eventId=49\n\n \nAz esemény létrejöttét támogatta
URL:https://logisztika.hu/rendezveny/projektmenedzsment-helye-szerepe-es-kapcsolatai-a-valtozasmenedzsment-folyamataban-mlbkt-projektmenedzsment-tagozati-eloadas/
END:VEVENT
END:VCALENDAR