BEGIN:VCALENDAR
VERSION:2.0
PRODID:-//Magyar Logisztikai, Beszerzési és Készletezési Társaság - ECPv6.15.16//NONSGML v1.0//EN
CALSCALE:GREGORIAN
METHOD:PUBLISH
X-ORIGINAL-URL:https://logisztika.hu
X-WR-CALDESC:Események Magyar Logisztikai, Beszerzési és Készletezési Társaság
REFRESH-INTERVAL;VALUE=DURATION:PT1H
X-Robots-Tag:noindex
X-PUBLISHED-TTL:PT1H
BEGIN:VTIMEZONE
TZID:UTC
BEGIN:STANDARD
TZOFFSETFROM:+0000
TZOFFSETTO:+0000
TZNAME:UTC
DTSTART:20210101T000000
END:STANDARD
END:VTIMEZONE
BEGIN:VEVENT
DTSTART;TZID=UTC:20220511T090000
DTEND;TZID=UTC:20220511T090000
DTSTAMP:20260422T143753
CREATED:20220106T101038Z
LAST-MODIFIED:20230427T060024Z
UID:76402-1652259600-1652259600@logisztika.hu
SUMMARY:Beszerzési Konferencia
DESCRIPTION:beszerzesikonferencia.hu \nHiánypótló megoldások – 20 éves a BVK\, 10 éves a Beszerzési Konferencia \n2022. május 11.\nHillside Offices\, Fundamenta Konferencia Központ\, Budapest\n  \n\nAz MLBKT\, a magyar ellátási lánc szakemberek\, logisztikusok és beszerzők legnagyobb szakmai szervezete tagozatával\, a Beszerzők és Beszerzési Vezetők Klubjával közösen\, 10. alkalommal szervezi meg egész napos\, izgalmas\, interaktív konferenciáját. Szeretettel látjuk Önt is\, ha munkájából vagy érdeklődéséből adódóan fogékony a beszerzési trendek\, legjobb gyakorlatok iránt\, és szívesen kapcsolódik be a professzionális eszmecserékbe. Sőt! Idén dupla örömünk adódik az ünneplésre\, 20. évfordulóját ünnepli az MLBKT Beszerzési Vezetők Klubja. \n\n\nAz elmúlt időszak és az utóbbi évek eseményei kapcsán a gazdaság számos területén tapasztalhattunk meg olyan banális hiányállapotokat\, amelyek a korábbi években a normális gazdasági körülmények között eszünkbe sem jutottak volna. \nA chiphiány csak egy a sok elem közül\, amely magával rántotta szinte a teljes ellátási láncot és számos kihívás elé állította a beszerzői szakmát. \nA Covid második éve egyre inkább világossá teszi\, hogy kialakult egyfajta új világrend. Nagy kérdések\, hogy mit kezdünk a hiánnyal\, az időszakos lezárásokkal\, ugyanakkor a felgyorsult információáramlással. Van\, aki elfogadja\, van\, aki nem. Ki fogja ezt megfizetni\, mi legyen ezután a savinggel? Mi legyen az olyan új/régi kihívásokkal\, mint az e-mobilitás\, fenntarthatóság\, üzleti morál? Beszéljünk róla együtt május 11-én! \n\nTavaszi konferenciánkon terítékre kerülnek napjaink aktuális témái: \n\n\nVan-e energiánk? – az energiapiac beszerzési és más kihívásai\n\n\nMilyen hatással vannak a műanyagok beszerzési\, ellátási\, fenntarthatósági kihívásai mindennapi életünkre\n\n\nÁrkontroll féktelen környezetben\n\nKerekasztalbeszélgetések meghatározó hazai vállalatok beszerzési vezetőivel\nés még sok aktuális kérdés\n\nJelentkezési határidő: 2022. május 3. \nRészletek és jelentkezés >>> beszerzesikonferencia.hu
URL:https://logisztika.hu/rendezveny/beszerzesi-konferencia-2/
CATEGORIES:Beszerzők és Beszerzési Vezetők Klubja,Konferencia
END:VEVENT
BEGIN:VEVENT
DTSTART;TZID=UTC:20220511T090000
DTEND;TZID=UTC:20220511T090000
DTSTAMP:20260422T143753
CREATED:20220106T101038Z
LAST-MODIFIED:20220106T101038Z
UID:83123-1652259600-1652259600@logisztika.hu
SUMMARY:Beszerzési Konferencia
DESCRIPTION:beszerzesikonferencia.hu \nHiánypótló megoldások – 20 éves a BVK\, 10 éves a Beszerzési Konferencia \n2022. május 11.\nHillside Offices\, Fundamenta Konferencia Központ\, Budapest\n  \n\nAz MLBKT\, a magyar ellátási lánc szakemberek\, logisztikusok és beszerzők legnagyobb szakmai szervezete tagozatával\, a Beszerzők és Beszerzési Vezetők Klubjával közösen\, 10. alkalommal szervezi meg egész napos\, izgalmas\, interaktív konferenciáját. Szeretettel látjuk Önt is\, ha munkájából vagy érdeklődéséből adódóan fogékony a beszerzési trendek\, legjobb gyakorlatok iránt\, és szívesen kapcsolódik be a professzionális eszmecserékbe. Sőt! Idén dupla örömünk adódik az ünneplésre\, 20. évfordulóját ünnepli az MLBKT Beszerzési Vezetők Klubja. \n\n\nAz elmúlt időszak és az utóbbi évek eseményei kapcsán a gazdaság számos területén tapasztalhattunk meg olyan banális hiányállapotokat\, amelyek a korábbi években a normális gazdasági körülmények között eszünkbe sem jutottak volna. \nA chiphiány csak egy a sok elem közül\, amely magával rántotta szinte a teljes ellátási láncot és számos kihívás elé állította a beszerzői szakmát. \nA Covid második éve egyre inkább világossá teszi\, hogy kialakult egyfajta új világrend. Nagy kérdések\, hogy mit kezdünk a hiánnyal\, az időszakos lezárásokkal\, ugyanakkor a felgyorsult információáramlással. Van\, aki elfogadja\, van\, aki nem. Ki fogja ezt megfizetni\, mi legyen ezután a savinggel? Mi legyen az olyan új/régi kihívásokkal\, mint az e-mobilitás\, fenntarthatóság\, üzleti morál? Beszéljünk róla együtt május 11-én! \n\nTavaszi konferenciánkon terítékre kerülnek napjaink aktuális témái: \n\n\nVan-e energiánk? – az energiapiac beszerzési és más kihívásai\n\n\nMilyen hatással vannak a műanyagok beszerzési\, ellátási\, fenntarthatósági kihívásai mindennapi életünkre\n\n\nÁrkontroll féktelen környezetben\n\nKerekasztalbeszélgetések meghatározó hazai vállalatok beszerzési vezetőivel\nés még sok aktuális kérdés\n\nJelentkezési határidő: 2022. május 3. \nRészletek és jelentkezés >>> beszerzesikonferencia.hu
URL:https://logisztika.hu/rendezveny/beszerzesi-konferencia-2-2/
END:VEVENT
END:VCALENDAR