BEGIN:VCALENDAR
VERSION:2.0
PRODID:-//Magyar Logisztikai, Beszerzési és Készletezési Társaság - ECPv6.15.16//NONSGML v1.0//EN
CALSCALE:GREGORIAN
METHOD:PUBLISH
X-WR-CALNAME:Magyar Logisztikai, Beszerzési és Készletezési Társaság
X-ORIGINAL-URL:https://logisztika.hu
X-WR-CALDESC:Események Magyar Logisztikai, Beszerzési és Készletezési Társaság
REFRESH-INTERVAL;VALUE=DURATION:PT1H
X-Robots-Tag:noindex
X-PUBLISHED-TTL:PT1H
BEGIN:VTIMEZONE
TZID:UTC
BEGIN:STANDARD
TZOFFSETFROM:+0000
TZOFFSETTO:+0000
TZNAME:UTC
DTSTART:20210101T000000
END:STANDARD
END:VTIMEZONE
BEGIN:VEVENT
DTSTART;TZID=UTC:20220531T163000
DTEND;TZID=UTC:20220531T180000
DTSTAMP:20260422T130538
CREATED:20220520T093319Z
LAST-MODIFIED:20230427T061017Z
UID:77756-1654014600-1654020000@logisztika.hu
SUMMARY:Gyártásban\, szolgáltatásban és a hétköznapokban is használható lean eszközök\, módszerek megismerése - Meghívó Lean tagozati előadásra
DESCRIPTION:Az MLBKT Lean Tagozata szeretettel meghívja Önt egy három előadásból álló interaktív eseménysorozatának 2. előadására. \n  \nAz eseménysorozaton való részvételt olyan lean iránt érdeklődőknek ajánljuk\, akik szeretnék megismerni ezt az értékteremtő szemléletet\, a lean alapelvek szerint tervezik átalakítani gyártási\, vagy szolgáltatási folyamataikat\, vagy akár otthoni környezetükben szeretnék a mindennapi tevékenységüket veszteségminimalizáló módon végezni. \nA sorozat azon szakemberek számára is értékes tudást ad\, akik már ismerik a lean gondolkodásmódot és szeretnék ismereteiket továbbfejleszteni\, valamint a lean eszközök előnyeit gyakorlati példákon megtapasztalni. \nMinden alkalom során kiemelt szerepet kapnak az életszerű példák\, az interaktív feladatok. Az előadások során lehetőséget biztosítunk a közös gondolkodásra\, teret adva a vélemények\, tapasztalatok megosztására. \n  \n2. előadás: Lean eszközök\, módszerek megismerése \nIdőpont: 2022. május 31. \nTéma: A gyártásban\, szolgáltatásban\, irodában vagy akár a hétköznapi életben is egyaránt használható lean eszközök megismerése interaktív feladatokon keresztül. \n  \nA második előadás tematikája: \nGyártásban\, szolgáltatásban és a hétköznapokban is használható lean eszközök\, módszerek megismerése \n16.30 – 16.35 – Köszöntés\, a program ismertetése \n16.35 – 16.50 – Lean alapok ismétlése \n16.50 – 17.50 – Lean eszközök\, módszerek megismerése\, interaktív feladat\nVizuális menedzsment\, 5S\, kanban\, poka-yoke \n17.50 – 18.00 – Tapasztalatok megosztása\, a program zárása \n  \nIdőpont: 2022. május 31.\, 16.30-18.00 \nHelyszín: ZOOM online platform (a belépő kódot minden jelentkezőnek az előadás napján küldjük a regisztrációban megadott e-mail címre) \nElőadó: Gedei Erika\, MLBKT Lean Tagozat\, tagozatvezető \nJelentkezési határidő: 2022. május 30.\, 24.00 \n  \nTovábbi tudnivalók és jelentkezés:\nhttps://logisztika.hu/2022/05/20/gyartasban-szolgaltatasban-es-a-hetkoznapokban-is-hasznalhato-lean-eszkozok-modszerek-megismerese-meghivo-lean-tagozati-eloadasra/ \nGyártásban\, szolgáltatásban és a hétköznapokban is használható lean eszközök\, módszerek megismerése – Meghívó Lean tagozati előadásra \n \n  \nAz esemény létrejöttét támogatta
URL:https://logisztika.hu/rendezveny/gyartasban-szolgaltatasban-es-a-hetkoznapokban-is-hasznalhato-lean-eszkozok-modszerek-megismerese-meghivo-lean-tagozati-eloadasra/
CATEGORIES:Lean tagozat
END:VEVENT
BEGIN:VEVENT
DTSTART;TZID=UTC:20220531T163000
DTEND;TZID=UTC:20220531T180000
DTSTAMP:20260422T130538
CREATED:20220520T093319Z
LAST-MODIFIED:20220520T093319Z
UID:83148-1654014600-1654020000@logisztika.hu
SUMMARY:Gyártásban\, szolgáltatásban és a hétköznapokban is használható lean eszközök\, módszerek megismerése - Meghívó Lean tagozati előadásra
DESCRIPTION:Az MLBKT Lean Tagozata szeretettel meghívja Önt egy három előadásból álló interaktív eseménysorozatának 2. előadására. \n  \nAz eseménysorozaton való részvételt olyan lean iránt érdeklődőknek ajánljuk\, akik szeretnék megismerni ezt az értékteremtő szemléletet\, a lean alapelvek szerint tervezik átalakítani gyártási\, vagy szolgáltatási folyamataikat\, vagy akár otthoni környezetükben szeretnék a mindennapi tevékenységüket veszteségminimalizáló módon végezni. \nA sorozat azon szakemberek számára is értékes tudást ad\, akik már ismerik a lean gondolkodásmódot és szeretnék ismereteiket továbbfejleszteni\, valamint a lean eszközök előnyeit gyakorlati példákon megtapasztalni. \nMinden alkalom során kiemelt szerepet kapnak az életszerű példák\, az interaktív feladatok. Az előadások során lehetőséget biztosítunk a közös gondolkodásra\, teret adva a vélemények\, tapasztalatok megosztására. \n  \n2. előadás: Lean eszközök\, módszerek megismerése \nIdőpont: 2022. május 31. \nTéma: A gyártásban\, szolgáltatásban\, irodában vagy akár a hétköznapi életben is egyaránt használható lean eszközök megismerése interaktív feladatokon keresztül. \n  \nA második előadás tematikája: \nGyártásban\, szolgáltatásban és a hétköznapokban is használható lean eszközök\, módszerek megismerése \n16.30 – 16.35 – Köszöntés\, a program ismertetése \n16.35 – 16.50 – Lean alapok ismétlése \n16.50 – 17.50 – Lean eszközök\, módszerek megismerése\, interaktív feladat\nVizuális menedzsment\, 5S\, kanban\, poka-yoke \n17.50 – 18.00 – Tapasztalatok megosztása\, a program zárása \n  \nIdőpont: 2022. május 31.\, 16.30-18.00 \nHelyszín: ZOOM online platform (a belépő kódot minden jelentkezőnek az előadás napján küldjük a regisztrációban megadott e-mail címre) \nElőadó: Gedei Erika\, MLBKT Lean Tagozat\, tagozatvezető \nJelentkezési határidő: 2022. május 30.\, 24.00 \n  \nTovábbi tudnivalók és jelentkezés:\nhttps://logisztika.hu/2022/05/20/gyartasban-szolgaltatasban-es-a-hetkoznapokban-is-hasznalhato-lean-eszkozok-modszerek-megismerese-meghivo-lean-tagozati-eloadasra/ \nGyártásban\, szolgáltatásban és a hétköznapokban is használható lean eszközök\, módszerek megismerése – Meghívó Lean tagozati előadásra \n \n  \nAz esemény létrejöttét támogatta
URL:https://logisztika.hu/rendezveny/gyartasban-szolgaltatasban-es-a-hetkoznapokban-is-hasznalhato-lean-eszkozok-modszerek-megismerese-meghivo-lean-tagozati-eloadasra-2/
END:VEVENT
END:VCALENDAR