BEGIN:VCALENDAR
VERSION:2.0
PRODID:-//Magyar Logisztikai, Beszerzési és Készletezési Társaság - ECPv6.15.16//NONSGML v1.0//EN
CALSCALE:GREGORIAN
METHOD:PUBLISH
X-ORIGINAL-URL:https://logisztika.hu
X-WR-CALDESC:Események Magyar Logisztikai, Beszerzési és Készletezési Társaság
REFRESH-INTERVAL;VALUE=DURATION:PT1H
X-Robots-Tag:noindex
X-PUBLISHED-TTL:PT1H
BEGIN:VTIMEZONE
TZID:UTC
BEGIN:STANDARD
TZOFFSETFROM:+0000
TZOFFSETTO:+0000
TZNAME:UTC
DTSTART:20210101T000000
END:STANDARD
END:VTIMEZONE
BEGIN:VEVENT
DTSTART;TZID=UTC:20221019T000000
DTEND;TZID=UTC:20221021T235959
DTSTAMP:20260422T064555
CREATED:20220601T095855Z
LAST-MODIFIED:20221129T132556Z
UID:77894-1666137600-1666396799@logisztika.hu
SUMMARY:30. MLBKT Kongresszus
DESCRIPTION:FIGYELEM!!!\n\nÚJ IDŐPONTBAN AZ ÉV SUPPLY CHAIN ESEMÉNYE!!!\n\n \n\nA KONGRESSZUS FŐ TÉMAKÖREI:\n\n 	Globális ellátási láncok helyzete az aktuális környezeti és társadalmi kihívások tükrében\n 	Életképes ellátási láncok (mitől életképes egy ellátási lánc?) – bevált gyakorlatok\n 	ESG és fenntarthatóság – a mi felelősségünk\n 	Tervezzük erőforrásainkat\, de okosan!\n 	Beszerzés – stratégiától a megvalósításig – új szerepkörök?\n 	Kockázatkezelés és ami azon túl van\n 	Ipar 4.0 és a logisztikai folyamatok automatizációja és digitalizációja\n 	Globális szállítási láncok és lokális válaszok\n 	Fókuszban a munkaerő: hogyan lehet megfelelni a gyorsan változó környezet elvárásainak\n 	Az én „leg” projektem 2022: Use cases\, sikersztorik és tanulságok\, „kedvenc kudarcom\, amiből a legtöbbet tanultam”\n\nAnnyi változás történik nap\, mint nap\, hogy szinte lehetetlen megjósolni\, mi lesz “hot topic” októberben.  Ebben a gyorsan változó környezetben mi továbbra is abban hiszünk\, hogy folytatni kell a szorosabb együttműködést az ellátási láncok mentén\, a beszállítók és a szolgáltatók irányában is; automatizálni és digitalizálni kell\, amit szükséges és lehetséges\, de mindenekelőtt biztosítani kell a fenntartható működést – gazdaságilag\, társadalmilag és környezetileg egyaránt. \nMindenesetre mi már nagyon készülünk a 30. jubileumi kongresszusra\, hogy személyesen találkozzunk újra.
URL:https://logisztika.hu/rendezveny/30-mlbkt-kongresszus/
CATEGORIES:Konferencia
ATTACH;FMTTYPE=image/jpeg:https://logisztika.hu/wp-content/uploads/2022/04/MLBKT_Key_Visual660x330.jpg
END:VEVENT
BEGIN:VEVENT
DTSTART;TZID=UTC:20221019T000000
DTEND;TZID=UTC:20221021T235959
DTSTAMP:20260422T064555
CREATED:20220601T095855Z
LAST-MODIFIED:20220601T095855Z
UID:83151-1666137600-1666396799@logisztika.hu
SUMMARY:30. MLBKT Kongresszus
DESCRIPTION:FIGYELEM!!! \nÚJ IDŐPONTBAN AZ ÉV SUPPLY CHAIN ESEMÉNYE!!! \n  \nA KONGRESSZUS FŐ TÉMAKÖREI: \n\nGlobális ellátási láncok helyzete az aktuális környezeti és társadalmi kihívások tükrében\nÉletképes ellátási láncok (mitől életképes egy ellátási lánc?) – bevált gyakorlatok\nESG és fenntarthatóság – a mi felelősségünk\nTervezzük erőforrásainkat\, de okosan!\nBeszerzés – stratégiától a megvalósításig – új szerepkörök?\nKockázatkezelés és ami azon túl van\nIpar 4.0 és a logisztikai folyamatok automatizációja és digitalizációja\nGlobális szállítási láncok és lokális válaszok\nFókuszban a munkaerő: hogyan lehet megfelelni a gyorsan változó környezet elvárásainak\nAz én „leg” projektem 2022: Use cases\, sikersztorik és tanulságok\, „kedvenc kudarcom\, amiből a legtöbbet tanultam”\n\nAnnyi változás történik nap\, mint nap\, hogy szinte lehetetlen megjósolni\, mi lesz “hot topic” októberben.  Ebben a gyorsan változó környezetben mi továbbra is abban hiszünk\, hogy folytatni kell a szorosabb együttműködést az ellátási láncok mentén\, a beszállítók és a szolgáltatók irányában is; automatizálni és digitalizálni kell\, amit szükséges és lehetséges\, de mindenekelőtt biztosítani kell a fenntartható működést – gazdaságilag\, társadalmilag és környezetileg egyaránt. \nMindenesetre mi már nagyon készülünk a 30. jubileumi kongresszusra\, hogy személyesen találkozzunk újra.
URL:https://logisztika.hu/rendezveny/30-mlbkt-kongresszus-2/
CATEGORIES:Konferencia
ATTACH;FMTTYPE=image/jpeg:https://logisztika.hu/wp-content/uploads/2022/04/MLBKT_Key_Visual660x330.jpg
END:VEVENT
END:VCALENDAR