BEGIN:VCALENDAR
VERSION:2.0
PRODID:-//Magyar Logisztikai, Beszerzési és Készletezési Társaság - ECPv6.15.16//NONSGML v1.0//EN
CALSCALE:GREGORIAN
METHOD:PUBLISH
X-WR-CALNAME:Magyar Logisztikai, Beszerzési és Készletezési Társaság
X-ORIGINAL-URL:https://logisztika.hu
X-WR-CALDESC:Események Magyar Logisztikai, Beszerzési és Készletezési Társaság
REFRESH-INTERVAL;VALUE=DURATION:PT1H
X-Robots-Tag:noindex
X-PUBLISHED-TTL:PT1H
BEGIN:VTIMEZONE
TZID:UTC
BEGIN:STANDARD
TZOFFSETFROM:+0000
TZOFFSETTO:+0000
TZNAME:UTC
DTSTART:20220101T000000
END:STANDARD
END:VTIMEZONE
BEGIN:VEVENT
DTSTART;TZID=UTC:20230131T170000
DTEND;TZID=UTC:20230131T183000
DTSTAMP:20260422T003308
CREATED:20230119T095219Z
LAST-MODIFIED:20230427T061001Z
UID:79076-1675184400-1675189800@logisztika.hu
SUMMARY:A tervezés lean eszközei és az ügyféligény felmérés gyakorlata - Lean Tagozat előadása
DESCRIPTION:Az előadás címe: A célkitűzés és tervezés fontossága\, megvalósításának lean eszközei\, ügyféligény felmérés \nElőadó: Gedei Erika\, az MLBKT Lean Tagozatának vezetője \nIdőpont: 2023. január 31.\, 17.00-18.30 \nHelyszín: Online\, MS Teams (A csatlakozáshoz szükséges belépő kódot az előadás napján küldjük minden jelentkezőnknek.) \n  \nNapjaink turbulens világában bekövetkező hirtelen változások miatt úgy érezhetjük\, hogy a céljaink eléréshez kidolgozott működési terv helyett inkább a folyamatos alkalmazkodásra kell fókuszálnunk. Ebben a dinamikusan változó világban a hagyományos módszerekkel való tervezés nem biztos\, hogy hatékonyan működik. Olyan lean szemléletű megközelítésre\, eszközökre van szükség\, amely az ügyféligény ismeretében a jelen állapotból kiindulva segítik a vállalatot\, szervezetet\, egyént a kitűzött céljai elérésében\, miközben a cél elérését hátráltató váratlan akadályokkal is foglalkozik. Az előadás során kitérünk az ügyféligény megértésének szerepére\, mely napjainkra kulcsfontosságúvá vált. \nKiket várunk? \nAz előadás mindenki számára hasznos\, aki lean szemlélettel szeretné megvalósítani a tervezett céljait az előtte álló időszakban\, a mindennapi tevékenységeit szeretné hatékonyan\, célorientáltan végezni\, miközben folyamatosan foglalkozik az eléje gördülő akadályokkal. Az előadáson bárki\, bármely területről\, előképzettség nélkül részt vehet. \nMire számíthat? \nA résztvevők olyan lean gondolkodásmódot ismerhetnek meg\, amely együttesen segíti őket a céljaik elérésében és a váratlan eseményekre való reagálásban is. Hiszünk a közös értékteremtésben\, ezért Tagozatunk az éves programterv elkészítéséhez egy rövid ügyféligény felmérés keretében számít az előadáson részt vevők közreműködésére. Az esemény végén – egy interaktív felület segítségével – lehetőséget biztosítunk javaslatok megosztására a Tagozat jövőbeni eseményeire vonatkozóan. \n  \nTovábbi részletek és jelentkezés itt >>> \nhttps://logisztika.hu/2023/01/19/a-tervezes-lean-eszkozei-es-az-ugyfeligeny-felmeres-gyakorlata-lean-tagozat-eloadasa/
URL:https://logisztika.hu/rendezveny/a-tervezes-lean-eszkozei-es-az-ugyfeligeny-felmeres-gyakorlata-lean-tagozat-eloadasa/
CATEGORIES:Lean tagozat,Tagozati program
END:VEVENT
END:VCALENDAR