BEGIN:VCALENDAR
VERSION:2.0
PRODID:-//Magyar Logisztikai, Beszerzési és Készletezési Társaság - ECPv6.15.16//NONSGML v1.0//EN
CALSCALE:GREGORIAN
METHOD:PUBLISH
X-WR-CALNAME:Magyar Logisztikai, Beszerzési és Készletezési Társaság
X-ORIGINAL-URL:https://logisztika.hu
X-WR-CALDESC:Események Magyar Logisztikai, Beszerzési és Készletezési Társaság
REFRESH-INTERVAL;VALUE=DURATION:PT1H
X-Robots-Tag:noindex
X-PUBLISHED-TTL:PT1H
BEGIN:VTIMEZONE
TZID:UTC
BEGIN:STANDARD
TZOFFSETFROM:+0000
TZOFFSETTO:+0000
TZNAME:UTC
DTSTART:20220101T000000
END:STANDARD
END:VTIMEZONE
BEGIN:VEVENT
DTSTART;TZID=UTC:20230215T163000
DTEND;TZID=UTC:20230215T180000
DTSTAMP:20260422T003414
CREATED:20230202T091005Z
LAST-MODIFIED:20230427T060826Z
UID:79202-1676478600-1676484000@logisztika.hu
SUMMARY:Karbonlábnyom – mit jelent ez az ALTEO mindennapjaiban
DESCRIPTION:Az MLBKT FENNTARTHATÓSÁG TAGOZATA szeretettel meghívja Önt a következő webináriumra\n \n \nKarbonlábnyom – mit jelent ez az ALTEO mindennapjaiban  \n \nIdőpont: 2023. február 15.\, 16.30-18.00 \n \nElőadó: Szabó Beatrix\, ALTEO\, Fenntarthatósági és EBK igazgató \nHelyszín: IFUA Horváth & Partners iroda\, 1117 Budapest\, Buda-Part tér 2. \nAz eseményt hibrid formában szervezzük. \nA helyszínre érkezők maximális létszáma: 40 fő \n \nAz előadás során bepillantást nyerhet az ALTEO mint a hazai piac egy fontos energetikai szereplőjének mindennapi gyakorlatába és megtudhatja\, mit tesz a vállalat  karbonlábnyoma csökkentése érdekében. Mely szervezeti egységek jelentik a fő hajtóerőt és mely szervezeti egységek végzik napi munkájuk során a karbonlábnyom csökkentése érdekében munkájukat. Megtudhatja a célkitűzéseket és azok eléréséhez végzett tevékenységeket. A felvezető előadást követően pedig a résztvevők közötti beszélgetésben más vállalatok gyakorlatát is megismerheti. \n  \nKiket várunk? \nAz ellátási láncban dolgozó logisztikusokat és beszerzőket akiket vagy már foglalkoztat a téma vagy már a mindennapjaik része. \n \nMire számíthat? \nEgy a témában vezető tapasztalattal bíró vállalat gyakorlatának megismerését valamint a résztvevők közötti tapsztalatcserét. 
URL:https://logisztika.hu/rendezveny/karbonlabnyom-mit-jelent-ez-az-alteo-mindennapjaiban/
CATEGORIES:Fenntarthatósági Tagozat,Tagozati program
END:VEVENT
END:VCALENDAR