BEGIN:VCALENDAR
VERSION:2.0
PRODID:-//Magyar Logisztikai, Beszerzési és Készletezési Társaság - ECPv6.15.16//NONSGML v1.0//EN
CALSCALE:GREGORIAN
METHOD:PUBLISH
X-ORIGINAL-URL:https://logisztika.hu
X-WR-CALDESC:Események Magyar Logisztikai, Beszerzési és Készletezési Társaság
REFRESH-INTERVAL;VALUE=DURATION:PT1H
X-Robots-Tag:noindex
X-PUBLISHED-TTL:PT1H
BEGIN:VTIMEZONE
TZID:UTC
BEGIN:STANDARD
TZOFFSETFROM:+0000
TZOFFSETTO:+0000
TZNAME:UTC
DTSTART:20220101T000000
END:STANDARD
END:VTIMEZONE
BEGIN:VEVENT
DTSTART;TZID=UTC:20230223T091500
DTEND;TZID=UTC:20230223T113000
DTSTAMP:20260422T003506
CREATED:20230208T082814Z
LAST-MODIFIED:20230208T082814Z
UID:79247-1677143700-1677151800@logisztika.hu
SUMMARY:Vállalatlátogatás Üllőre az Euronics robotizált raktárbázisára
DESCRIPTION:Új vállalatlátogatásunkon résztvevőink megismerkedhetnek az Euronics Műszaki Áruházlánc modern\, többek között AI által vezérelt árumozgató robotokat használó üllői automata raktárának működésével. Az 1\,6 milliárd forintos beruházás eredményeként 11 százalékkal nőtt a cég bevétele. A rakodótér megduplázódott és az árukiadás 30 százalékkal gyorsabbá vált.   \nA gazdaságosabb és hatékonyabb üzemeltetésű 28 ezer négyzetméteres hipermodern raktárban\, mintegy 30 ezer féle\, összesen 300-400 ezer darab termék tárolása vált lehetővé. \n  \n[divider] \n  \nIdőpont: 2023.február  23. 9:15 – 11:30\n \nHelyszín: Üllő\, K-Sped krt. 17\, 2225\n \n  \nPROGRAM \n9:15-9:30  Érkezés\, köszöntés\n9:30-10:00  Köszöntő\, az Euronics Műszaki Áruházlánc bemutatása\,  Azurák Zsolt\, Beszerzési igazgató\n10:00-10:30 Az automatizált raktár és logisztika bemutatása\, Tóth Attila\, Logisztikai igazgató / + Q&A\n10:30-11:30 Raktárlátogatás\n \n  \nRészvételi díj: \n\nMLBKT tagok részére ingyenes\nNem MLBKT tagok részére\, akik a jelentkezéssel egyidejűleg csatlakoznak a tagsághoz\, a tagsági díj befizetésével a részvétel ingyenes. Tagsági regisztráció itt >>> https://logisztika.hu/belepes/\nNem MLBKT tagok részére: 20.000\,- Ft + ÁFA\n\n  \nHa még nem tagunk\, de szeretne részt venni Társaságunk eseményein\, csatlakozzon az MLBKT tagjainak sorába még ma és a jövőben ingyenesen vagy kedvezményes áron vehet részt a programjainkon! \n*Az EURONICS fenntartja annak jogát\, hogy versenytársak részvételét elutasítsa. \n  \nMaximális létszám: 24 fő \nA vállalatlátogatásra a létszámkeret betelt\, jelentkezési szándéka esetén kérjük írjon emailt az (Benesch Anita\, anita.benesch@logisztika.hu) címre\, várólistára tudjuk felvenni a jelentkezését és lemondás esetén értesíteni fogjuk! \n 
URL:https://logisztika.hu/rendezveny/vallalatlatogatas-ullore-az-euronics-robotizalt-raktarbazisara/
CATEGORIES:Vállalatlátogatás
END:VEVENT
END:VCALENDAR