BEGIN:VCALENDAR
VERSION:2.0
PRODID:-//Magyar Logisztikai, Beszerzési és Készletezési Társaság - ECPv6.15.16//NONSGML v1.0//EN
CALSCALE:GREGORIAN
METHOD:PUBLISH
X-ORIGINAL-URL:https://logisztika.hu
X-WR-CALDESC:Események Magyar Logisztikai, Beszerzési és Készletezési Társaság
REFRESH-INTERVAL;VALUE=DURATION:PT1H
X-Robots-Tag:noindex
X-PUBLISHED-TTL:PT1H
BEGIN:VTIMEZONE
TZID:UTC
BEGIN:STANDARD
TZOFFSETFROM:+0000
TZOFFSETTO:+0000
TZNAME:UTC
DTSTART:20220101T000000
END:STANDARD
END:VTIMEZONE
BEGIN:VEVENT
DTSTART;TZID=UTC:20230328T160000
DTEND;TZID=UTC:20230328T173000
DTSTAMP:20260421T214729
CREATED:20230309T091833Z
LAST-MODIFIED:20230309T091833Z
UID:79517-1680019200-1680024600@logisztika.hu
SUMMARY:Gyógyszeripari válaszok az energetikai helyzetre
DESCRIPTION:Az MLBKT Gyógyszeripari Tagozata meghívja alábbi programjára: \nGyógyszeripari válaszok az energetikai helyzetre \n Időpont: 2023. március 28.\, 16.00-17.30 \n  \nA programot hibrid formában szervezzük! \n  \nHelyszín\, személyes részvétel esetén: IFUA Horváth & Partners iroda (1117 Budapest\, Buda-Part tér 2.) – max. 16 fő \n(Parkolási lehetőség: BudaPart-Kopaszi-gát\, 1117 Budapest\, Kopaszi-gát) \nOnline formában: MS Teams – korlátlan résztvevői létszám \n  \nModerátor:  Sorossy Sándor\, associate partner\, IFUA Horváth & Partners \n  \nPanelbeszélgetők: \n\nMeleg Gábor\, műszaki igazgató\, Hungaropharma Zrt.\nKerekes Zsolt\, energia főosztály\, Richter Gedeon Nyrt.\nSzilágyi Gyula\, logisztikai igazgató\, EGIS Gyógyszergyár Zrt.\n\n  \nTéma aktualitása \nAz elmúlt egy-két év eddig nem tapasztalt változásokat hozott az energetikában. Ellátási nehézségekkel és nagy mértékű áremeléssel szembesülnek a vállalatok. A gyógyszeriparnak – a többi iparághoz hasonlóan – reagálnia kellett a kialakult helyzetre\, a már megvalósított megoldások és a további elképzelések megismerése segítheti a továbblépést. \n  \nProgram: \n\nTémafelvetés\nPanelbeszélgetés\nKérdések/válaszok\n\n  \nKiket várunk? \nA programra bárki jelentkezhet. A beszélgetésben résztvevő mindhárom vállalat olyan nagy gyógyszeripari vállalat\, akiknek tapasztalatai jól hasznosíthatóak a gyártói vagy nagykereskedelmi működésben. \n  \nMit sajátíthat el? \nFő cél az\, hogy az együtt gondolkodás és az elhangzó ötletek lendületet\, lehetőséget adjanak az érintetteknek a problémáik feloldására. \n  \nTovábbi részletek és jelentkezés >>>\nhttps://logisztika.hu/2023/03/09/gyogyszeripari-valaszok-az-energetikai-helyzetre/
URL:https://logisztika.hu/rendezveny/gyogyszeripari-valaszok-az-energetikai-helyzetre/
CATEGORIES:Tagozati program
END:VEVENT
END:VCALENDAR