BEGIN:VCALENDAR
VERSION:2.0
PRODID:-//Magyar Logisztikai, Beszerzési és Készletezési Társaság - ECPv6.15.16//NONSGML v1.0//EN
CALSCALE:GREGORIAN
METHOD:PUBLISH
X-ORIGINAL-URL:https://logisztika.hu
X-WR-CALDESC:Események Magyar Logisztikai, Beszerzési és Készletezési Társaság
REFRESH-INTERVAL;VALUE=DURATION:PT1H
X-Robots-Tag:noindex
X-PUBLISHED-TTL:PT1H
BEGIN:VTIMEZONE
TZID:UTC
BEGIN:STANDARD
TZOFFSETFROM:+0000
TZOFFSETTO:+0000
TZNAME:UTC
DTSTART:20220101T000000
END:STANDARD
END:VTIMEZONE
BEGIN:VEVENT
DTSTART;TZID=UTC:20230425T170000
DTEND;TZID=UTC:20230425T183000
DTSTAMP:20260421T214648
CREATED:20230329T134757Z
LAST-MODIFIED:20230427T055020Z
UID:83157-1682442000-1682447400@logisztika.hu
SUMMARY:LEAN SZAKMAI FÓRUM
DESCRIPTION:LEAN SZAKMAI FÓRUM \nSzakmai feltöltődés\, tapasztalatcsere\, kapcsolatépítési lehetőség \n \n2023. április 25.\, 17.00-18.30 \n \nModerátorok:  \nGedei Erika\, az MLBKT Lean Tagozatának vezetője \nMüller Péter\, az MLBKT Lean Tagozatának projektvezetője \n \nHelyszín: 1061 Budapest\, Király utca 12.\, MLBKT tiktárság\, 252-es tárgyaló (Hungaropharma Székház) \n \nMiért aktuális a téma? \nNapjainkban\, a lean szemlélet\, a lean eszközök és módszerek alkalmazhatóságának igénye és lehetősége az életünk minden területén megjelenik. A lean\, mint professzionális gondolkodásmód alkalmazásának létjogosultsága\, a veszteségmentes működés és folyamataink folyamatos fejlesztése nem csupán a gyártás és a termelés területén\, hanem a szolgáltató szektorban\, irodai környezetben\, sőt\, a hétköznapi tevékenységeinkben is egyaránt fellelhető. \n \nA Lean szakmai fórum nagyszerű alkalom arra\, hogy a lean szemlélet vagy az eszközök alkalmazásában szerepet vállaló szakemberek és a lean iránt érdeklődő kezdő résztvevők\, meg tudják osztani egymással tapasztalataikat\, sikereiket\, kihívásaikat\, akár a gyártás\, szolgáltatás területéről vagy a hétköznapi életből hozott saját példán keresztül\, amelyből a programon jelenlévők megismerhetik a legjobb gyakorlatokat\, valamint inspirálódhatnak. \n \nKiket várunk? \nA programra minden Lean Tagozati tagot szeretettel várunk! \nA program fő célja az\, hogy a januári ügyféligényfelmérés során felmerült igénynek eleget téve\, a Lean Tagozat olyan lehetőséget biztosítson\, ahol a tagok személyesen találkozhatnak\, megismerhetik egymást\, valamint megoszthatják egymással lean tevékenységgel\, projekttel kapcsolatos tapasztalataikat kötetlen szakmai beszélgetés formájában. \nA közös értékteremtés és tudásmegosztás megvalósítása érdekében arra bíztatjuk a lean tapasztalatot szívesen megosztó résztvevőket\, hogy hozzanak magukkal lean szemlélet vagy eszközök alkalmazásában szerzett gyakorlati tapasztalatot – projektet\, folyamatot\, tevékenységet\, sikerélményt\, kihívást – a programon való bemutatáshoz. \n  \nMire számíthat? \nA program során saját tapasztalatokon keresztül mutatjuk be a lean gyakorlati megvalósítását\, kérdéseit\, valamint lehetőség nyílik lean bevezetéssel\, eszközök alkalmazásával\, folyamatok fejlesztésével vagy veszteségcsökkentéssel kapcsolatos konstruktív szakmai párbeszédre. \nA Lean szakmai fórum nem más\, mint egy óra szakmai feltöltődés\, jó lean gyakorlatok és tapasztalatok megosztása egymással és remek lehetőség a kapcsolati háló szélesítésére\, valamint inspirálódásra. \n \nTovábbi részletek és jelentkezés >>>\n\nhttps://logisztika.hu/2023/03/29/meghivo-lean-szakmai-forumra/
URL:https://logisztika.hu/rendezveny/lean-szakmai-forum/
CATEGORIES:Lean tagozat,Tagozati program
END:VEVENT
END:VCALENDAR