BEGIN:VCALENDAR
VERSION:2.0
PRODID:-//Magyar Logisztikai, Beszerzési és Készletezési Társaság - ECPv6.15.16//NONSGML v1.0//EN
CALSCALE:GREGORIAN
METHOD:PUBLISH
X-ORIGINAL-URL:https://logisztika.hu
X-WR-CALDESC:Események Magyar Logisztikai, Beszerzési és Készletezési Társaság
REFRESH-INTERVAL;VALUE=DURATION:PT1H
X-Robots-Tag:noindex
X-PUBLISHED-TTL:PT1H
BEGIN:VTIMEZONE
TZID:Europe/Helsinki
BEGIN:DAYLIGHT
TZOFFSETFROM:+0200
TZOFFSETTO:+0300
TZNAME:EEST
DTSTART:20220327T010000
END:DAYLIGHT
BEGIN:STANDARD
TZOFFSETFROM:+0300
TZOFFSETTO:+0200
TZNAME:EET
DTSTART:20221030T010000
END:STANDARD
BEGIN:DAYLIGHT
TZOFFSETFROM:+0200
TZOFFSETTO:+0300
TZNAME:EEST
DTSTART:20230326T010000
END:DAYLIGHT
BEGIN:STANDARD
TZOFFSETFROM:+0300
TZOFFSETTO:+0200
TZNAME:EET
DTSTART:20231029T010000
END:STANDARD
BEGIN:DAYLIGHT
TZOFFSETFROM:+0200
TZOFFSETTO:+0300
TZNAME:EEST
DTSTART:20240331T010000
END:DAYLIGHT
BEGIN:STANDARD
TZOFFSETFROM:+0300
TZOFFSETTO:+0200
TZNAME:EET
DTSTART:20241027T010000
END:STANDARD
END:VTIMEZONE
BEGIN:VEVENT
DTSTART;TZID=Europe/Helsinki:20230504T163000
DTEND;TZID=Europe/Helsinki:20230504T180000
DTSTAMP:20260421T201300
CREATED:20230426T092211Z
LAST-MODIFIED:20230502T071839Z
UID:83920-1683217800-1683223200@logisztika.hu
SUMMARY:A boldogság és a sikeresség összefüggése – Projektmenedzsment Tagozat előadása
DESCRIPTION:Az örömteli és boldog életvitel keresése mindig aktuális téma. A munkánkkal\, munkahelyünkön töltjük az éberen töltött életünk idejének 30-40%-át\, így kulcsfontosságú\, hogy ott hogyan érezzük ott magunkat.
URL:https://logisztika.hu/rendezveny/a-boldogsag-es-a-sikeresseg-osszefuggese-projektmenedzsment-tagozat-eloadasa/
LOCATION:MS TEAMS
CATEGORIES:Projektmenedzsment Tagozat,Tagozati program
ATTACH;FMTTYPE=image/png:https://logisztika.hu/wp-content/uploads/2023/04/Tagozati-esemenyek-960-×-540-px.png
ORGANIZER;CN="MLBKT":MAILTO:logisztika@logisztika.hu
END:VEVENT
END:VCALENDAR