BEGIN:VCALENDAR
VERSION:2.0
PRODID:-//Magyar Logisztikai, Beszerzési és Készletezési Társaság - ECPv6.15.16//NONSGML v1.0//EN
CALSCALE:GREGORIAN
METHOD:PUBLISH
X-WR-CALNAME:Magyar Logisztikai, Beszerzési és Készletezési Társaság
X-ORIGINAL-URL:https://logisztika.hu
X-WR-CALDESC:Események Magyar Logisztikai, Beszerzési és Készletezési Társaság
REFRESH-INTERVAL;VALUE=DURATION:PT1H
X-Robots-Tag:noindex
X-PUBLISHED-TTL:PT1H
BEGIN:VTIMEZONE
TZID:Europe/Helsinki
BEGIN:DAYLIGHT
TZOFFSETFROM:+0200
TZOFFSETTO:+0300
TZNAME:EEST
DTSTART:20220327T010000
END:DAYLIGHT
BEGIN:STANDARD
TZOFFSETFROM:+0300
TZOFFSETTO:+0200
TZNAME:EET
DTSTART:20221030T010000
END:STANDARD
BEGIN:DAYLIGHT
TZOFFSETFROM:+0200
TZOFFSETTO:+0300
TZNAME:EEST
DTSTART:20230326T010000
END:DAYLIGHT
BEGIN:STANDARD
TZOFFSETFROM:+0300
TZOFFSETTO:+0200
TZNAME:EET
DTSTART:20231029T010000
END:STANDARD
BEGIN:DAYLIGHT
TZOFFSETFROM:+0200
TZOFFSETTO:+0300
TZNAME:EEST
DTSTART:20240331T010000
END:DAYLIGHT
BEGIN:STANDARD
TZOFFSETFROM:+0300
TZOFFSETTO:+0200
TZNAME:EET
DTSTART:20241027T010000
END:STANDARD
END:VTIMEZONE
BEGIN:VEVENT
DTSTART;TZID=Europe/Helsinki:20230511T170000
DTEND;TZID=Europe/Helsinki:20230511T180000
DTSTAMP:20260421T201059
CREATED:20230426T093431Z
LAST-MODIFIED:20230426T093432Z
UID:83923-1683824400-1683828000@logisztika.hu
SUMMARY:Stressz pályakezdőként – Ifjúsági Tagozat programja
DESCRIPTION:A stressz és a burn out egyre inkább érinti a pálykezdőket\, friss diplomásokat. Fontos számukra a stressz megértése a burn out folyamata megértése\, hogy meg tudják előzni annak elmélyülését.  \n\n\n\nNemzetközi tanulmányok egyre többet foglalkoznak a pályakezdőket érintő stresszel. \n\n\n\nAz előadás során olyan kérdésekre tekintünk rá \n\n\n\n\nMi is a stressz\, hogy jelenik meg a Z generáció életében?\n\n\n\nMi a „burn out” és hogyan érinti ezt a generációt?\n\n\n\nHogyan előzhető meg a kiégés és mi a „Z gen” erőforrása?\n\n\n\nKitekintünk a különböző szervezeti kultúrákra\, cégekre\, milyen elvárások jelenhetnek meg és melyek okozhatnak stresszt?\n\n\n\nVajon milyen szervezeti kultúrában\, feladatkörben érzem jól magam?
URL:https://logisztika.hu/rendezveny/stressz-palyakezdokent-ifjusagi-tagozat-programja/
LOCATION:MS TEAMS
CATEGORIES:Ifjúsági tagozat,Tagozati program
ATTACH;FMTTYPE=image/jpeg:https://logisztika.hu/wp-content/uploads/2023/04/Poszt-05.11-Ifjusagi-T.-Stressz-webnagy.jpg
ORGANIZER;CN="MLBKT":MAILTO:logisztika@logisztika.hu
END:VEVENT
END:VCALENDAR