BEGIN:VCALENDAR
VERSION:2.0
PRODID:-//Magyar Logisztikai, Beszerzési és Készletezési Társaság - ECPv6.15.16//NONSGML v1.0//EN
CALSCALE:GREGORIAN
METHOD:PUBLISH
X-WR-CALNAME:Magyar Logisztikai, Beszerzési és Készletezési Társaság
X-ORIGINAL-URL:https://logisztika.hu
X-WR-CALDESC:Események Magyar Logisztikai, Beszerzési és Készletezési Társaság
REFRESH-INTERVAL;VALUE=DURATION:PT1H
X-Robots-Tag:noindex
X-PUBLISHED-TTL:PT1H
BEGIN:VTIMEZONE
TZID:Europe/Helsinki
BEGIN:DAYLIGHT
TZOFFSETFROM:+0200
TZOFFSETTO:+0300
TZNAME:EEST
DTSTART:20220327T010000
END:DAYLIGHT
BEGIN:STANDARD
TZOFFSETFROM:+0300
TZOFFSETTO:+0200
TZNAME:EET
DTSTART:20221030T010000
END:STANDARD
BEGIN:DAYLIGHT
TZOFFSETFROM:+0200
TZOFFSETTO:+0300
TZNAME:EEST
DTSTART:20230326T010000
END:DAYLIGHT
BEGIN:STANDARD
TZOFFSETFROM:+0300
TZOFFSETTO:+0200
TZNAME:EET
DTSTART:20231029T010000
END:STANDARD
BEGIN:DAYLIGHT
TZOFFSETFROM:+0200
TZOFFSETTO:+0300
TZNAME:EEST
DTSTART:20240331T010000
END:DAYLIGHT
BEGIN:STANDARD
TZOFFSETFROM:+0300
TZOFFSETTO:+0200
TZNAME:EET
DTSTART:20241027T010000
END:STANDARD
END:VTIMEZONE
BEGIN:VEVENT
DTSTART;TZID=Europe/Helsinki:20230516T091500
DTEND;TZID=Europe/Helsinki:20230516T112000
DTSTAMP:20260421T201005
CREATED:20230427T123305Z
LAST-MODIFIED:20230508T152445Z
UID:84121-1684228500-1684236000@logisztika.hu
SUMMARY:Látogatás a Boxy csúcstechnológiás Fulfillment Centerébe
DESCRIPTION:A Boxy célkitűzése\, hogy a hazai webáruházak számára prémium minőségű kiszervezett fulfillment (teljes raktárlogisztikai) szolgáltatásokat nyújtson a robotizált folyamatoknak köszönhetően jelentős megtakarítás mellett\, akár saját flottás aznapi vagy másnapi kiszállítással. Piaci erőssége a szolgáltatások skálázhatósága\, ami által a legmodernebb csúcstechnológián alapuló szolgáltatást nem csak a nagy cégeknek\, hanem már a havi 100 rendeléssel működő\, vagy induló e-kereskedelmi vállalkozásoknak is biztosítani tudja. A cég új fulfillment központja Üllőn épült fel 2022-ben\, az első ütemben 10 ezer négyzetméteren\, de pár éven belül a 62 000 m2 elérése a cél.
URL:https://logisztika.hu/rendezveny/latogatas-a-boxy-csucstechnologias-fulfillment-centerebe/
LOCATION:Boxy Fulfillment Raktár\, Üllő\, hrsz 3621/1\, 2225\, hrsz 3621/1\, Üllő\, 2225\, Magyarország
CATEGORIES:Vállalatlátogatás
ATTACH;FMTTYPE=image/png:https://logisztika.hu/wp-content/uploads/2023/04/Boxy4.png
END:VEVENT
END:VCALENDAR