BEGIN:VCALENDAR
VERSION:2.0
PRODID:-//Magyar Logisztikai, Beszerzési és Készletezési Társaság - ECPv6.15.16//NONSGML v1.0//EN
CALSCALE:GREGORIAN
METHOD:PUBLISH
X-ORIGINAL-URL:https://logisztika.hu
X-WR-CALDESC:Események Magyar Logisztikai, Beszerzési és Készletezési Társaság
REFRESH-INTERVAL;VALUE=DURATION:PT1H
X-Robots-Tag:noindex
X-PUBLISHED-TTL:PT1H
BEGIN:VTIMEZONE
TZID:Europe/Helsinki
BEGIN:DAYLIGHT
TZOFFSETFROM:+0200
TZOFFSETTO:+0300
TZNAME:EEST
DTSTART:20220327T010000
END:DAYLIGHT
BEGIN:STANDARD
TZOFFSETFROM:+0300
TZOFFSETTO:+0200
TZNAME:EET
DTSTART:20221030T010000
END:STANDARD
BEGIN:DAYLIGHT
TZOFFSETFROM:+0200
TZOFFSETTO:+0300
TZNAME:EEST
DTSTART:20230326T010000
END:DAYLIGHT
BEGIN:STANDARD
TZOFFSETFROM:+0300
TZOFFSETTO:+0200
TZNAME:EET
DTSTART:20231029T010000
END:STANDARD
BEGIN:DAYLIGHT
TZOFFSETFROM:+0200
TZOFFSETTO:+0300
TZNAME:EEST
DTSTART:20240331T010000
END:DAYLIGHT
BEGIN:STANDARD
TZOFFSETFROM:+0300
TZOFFSETTO:+0200
TZNAME:EET
DTSTART:20241027T010000
END:STANDARD
END:VTIMEZONE
BEGIN:VEVENT
DTSTART;TZID=Europe/Helsinki:20230614T163000
DTEND;TZID=Europe/Helsinki:20230614T180000
DTSTAMP:20260421T185139
CREATED:20230519T182055Z
LAST-MODIFIED:20230602T092300Z
UID:84679-1686760200-1686765600@logisztika.hu
SUMMARY:A munkavállalói jóllét hatása a projektek sikerességére
DESCRIPTION:Az előadás címe\n\n\n\nMunkavállói elkötelezettséget befolyásoló tényezők\, valamint a munkavállalói egészség és jóllét hatásai a projektek megvalósíthatóságára\, sikerére. \n\n\n\nA témáról\n\n\n\nA projektek mindig valamilyen változási folyamat részeként jelennek meg a változtatási döntést követően. Már a változás bejelentése pszichés félelmeket kelthet az emberekben a projektek iránt. Ezért a projektek sikerét nagymértékben befolyásolja a munkavállalói elkötelezettség és a cég iránti bizalom. Bemutatásra kerülnek a sikeres váltások és a módosítási döntést végrehajtó projektek alappillérei\, a munkavállalói kötelezettséget befolyásoló tényezők\, valamint a munkavállalói egészség és jóllét pozitív és negatív hatásai.
URL:https://logisztika.hu/rendezveny/a-munkavallaloi-jollet-hatasa-a-projektek-sikeressegere/
LOCATION:MS TEAMS
CATEGORIES:Projektmenedzsment Tagozat,Tagozati program
ATTACH;FMTTYPE=image/png:https://logisztika.hu/wp-content/uploads/2023/05/Poszt-kep-PM-2023-06-14.png
ORGANIZER;CN="MLBKT":MAILTO:logisztika@logisztika.hu
END:VEVENT
END:VCALENDAR