BEGIN:VCALENDAR
VERSION:2.0
PRODID:-//Magyar Logisztikai, Beszerzési és Készletezési Társaság - ECPv6.15.16//NONSGML v1.0//EN
CALSCALE:GREGORIAN
METHOD:PUBLISH
X-ORIGINAL-URL:https://logisztika.hu
X-WR-CALDESC:Események Magyar Logisztikai, Beszerzési és Készletezési Társaság
REFRESH-INTERVAL;VALUE=DURATION:PT1H
X-Robots-Tag:noindex
X-PUBLISHED-TTL:PT1H
BEGIN:VTIMEZONE
TZID:Europe/Helsinki
BEGIN:DAYLIGHT
TZOFFSETFROM:+0200
TZOFFSETTO:+0300
TZNAME:EEST
DTSTART:20220327T010000
END:DAYLIGHT
BEGIN:STANDARD
TZOFFSETFROM:+0300
TZOFFSETTO:+0200
TZNAME:EET
DTSTART:20221030T010000
END:STANDARD
BEGIN:DAYLIGHT
TZOFFSETFROM:+0200
TZOFFSETTO:+0300
TZNAME:EEST
DTSTART:20230326T010000
END:DAYLIGHT
BEGIN:STANDARD
TZOFFSETFROM:+0300
TZOFFSETTO:+0200
TZNAME:EET
DTSTART:20231029T010000
END:STANDARD
BEGIN:DAYLIGHT
TZOFFSETFROM:+0200
TZOFFSETTO:+0300
TZNAME:EEST
DTSTART:20240331T010000
END:DAYLIGHT
BEGIN:STANDARD
TZOFFSETFROM:+0300
TZOFFSETTO:+0200
TZNAME:EET
DTSTART:20241027T010000
END:STANDARD
END:VTIMEZONE
BEGIN:VEVENT
DTSTART;TZID=Europe/Helsinki:20230615T100000
DTEND;TZID=Europe/Helsinki:20230615T150000
DTSTAMP:20260421T184255
CREATED:20230601T130749Z
LAST-MODIFIED:20230601T130951Z
UID:84883-1686823200-1686841200@logisztika.hu
SUMMARY:Látogatás a Flex leginnovatívabb raktárába
DESCRIPTION:A látogatás során vendégeink egyebek mellett megismerkedhetnek a Flex zalaegerszegi gyáraiban\, a közelmúltban megvalósuló belső logisztikai fejlesztésekkel\, illetve az Automatizált raktárral (AutoStore). \n\n\n\nAz automatizált raktár olyan robotizációs megoldásokkal egészíti ki és növeli logisztikai kapacitásunkat\, amely mind a Flex világszintű vállalati környezetében\, mind a hazai intralogisztikai piacon egyedülálló. 2022. július 15-én egy olyan jövőbe mutató kiszolgáló rendszer átadásáról számolhattunk be\, amely nem csupán városunkban és régiónkban páratlan\, de a Flex több mint 130 vállalata közül is itt valósult meg először. Intralogisztikai folyamatainkat felülvizsgálva és optimalizálva teljeskörű és magasszintű automatizáltságot valósítunk meg\, amely a hatékonyságnövelés mellett a magas megbízhatóságú\, magas hozzáadott értékű termékek gyártását teszi lehetővé versenyképes környezetben. Olyan előnyöket biztosít mint: a maximális térkihasználtság; a moduláris bővíthetőség; a megnövelt pontosság és készletbiztonság; csökkentett karbon-lábnyom; ergonomikus munkahelyek.
URL:https://logisztika.hu/rendezveny/latogatas-a-flex-leginnovativabb-raktaraba/
LOCATION:Helyszín: Flex Zalaegerszeg Automotive 8900 Zalaegerszeg\, Zrínyi Miklós utca 38.​\, Zrínyi Miklós\, Zalaegerszeg\, 8900\, Magyarország
CATEGORIES:Vállalatlátogatás
ATTACH;FMTTYPE=image/png:https://logisztika.hu/wp-content/uploads/2023/06/Latogatas-a-Flex-leginnovativabb-raktaraba.png
ORGANIZER;CN="MLBKT":MAILTO:logisztika@logisztika.hu
END:VEVENT
END:VCALENDAR