BEGIN:VCALENDAR
VERSION:2.0
PRODID:-//Magyar Logisztikai, Beszerzési és Készletezési Társaság - ECPv6.15.16//NONSGML v1.0//EN
CALSCALE:GREGORIAN
METHOD:PUBLISH
X-WR-CALNAME:Magyar Logisztikai, Beszerzési és Készletezési Társaság
X-ORIGINAL-URL:https://logisztika.hu
X-WR-CALDESC:Események Magyar Logisztikai, Beszerzési és Készletezési Társaság
REFRESH-INTERVAL;VALUE=DURATION:PT1H
X-Robots-Tag:noindex
X-PUBLISHED-TTL:PT1H
BEGIN:VTIMEZONE
TZID:Europe/Helsinki
BEGIN:DAYLIGHT
TZOFFSETFROM:+0200
TZOFFSETTO:+0300
TZNAME:EEST
DTSTART:20220327T010000
END:DAYLIGHT
BEGIN:STANDARD
TZOFFSETFROM:+0300
TZOFFSETTO:+0200
TZNAME:EET
DTSTART:20221030T010000
END:STANDARD
BEGIN:DAYLIGHT
TZOFFSETFROM:+0200
TZOFFSETTO:+0300
TZNAME:EEST
DTSTART:20230326T010000
END:DAYLIGHT
BEGIN:STANDARD
TZOFFSETFROM:+0300
TZOFFSETTO:+0200
TZNAME:EET
DTSTART:20231029T010000
END:STANDARD
BEGIN:DAYLIGHT
TZOFFSETFROM:+0200
TZOFFSETTO:+0300
TZNAME:EEST
DTSTART:20240331T010000
END:DAYLIGHT
BEGIN:STANDARD
TZOFFSETFROM:+0300
TZOFFSETTO:+0200
TZNAME:EET
DTSTART:20241027T010000
END:STANDARD
END:VTIMEZONE
BEGIN:VEVENT
DTSTART;TZID=Europe/Helsinki:20230626T100000
DTEND;TZID=Europe/Helsinki:20230626T153000
DTSTAMP:20260421T172927
CREATED:20230615T110017Z
LAST-MODIFIED:20230809T092804Z
UID:85276-1687773600-1687793400@logisztika.hu
SUMMARY:Céglátogatás és workshop a Merian Foods Kft-nél
DESCRIPTION:A vállalatok gyakran szembesülnek azzal a helyzettel\, hogy a több munkafolyamaton keresztülhaladó termék nyomonkövetése\, minőségének ellenőrzése problémákba ütközik.  \n\n\n\nA gyárlátogatás során bemutatjuk Önöknek\, hogyan lehet egy előző században tervezett üzem működésébe integrálni a XXI. századi technológiákat.  \n\n\n\nA gyár kreatív tulajdonosa és üzemvezetője elkötelezett a minél magasabb színvonalú termékminőség biztosítása iránt\, és egy olyan rendszert kívánt kiépíteni\, mely a 13 lépéses gyártási folyamatot teljes egészében felügyeli. Ezt valósítottuk meg SCADA rendszerrel\, beépítve és integrálva a szükséges nyomonkövetési eszközöket. \n\n\n\nAz üzem megtekintése során bemutatjuk a rendszer fizikai megvalósulását\, majd előadásunkban feltárjuk ennek elméleti és szakmai folyamatait. \n\n\n\nAz ebéd utáni workshopon megvitatjuk a mesterséges intelligencia beépítésének és felhasználásának lehetőségeit. Kíváncsiak vagyunk az Önök véleményére\, szeretnénk egy közös gondolkozás keretében felmérni az MI alkalmazásának elképzelhető jövőjét a gyártó üzemekben.
URL:https://logisztika.hu/rendezveny/ceglatogatas-es-workshop-a-merian-foods-kft-nel/
LOCATION:Orosháza
CATEGORIES:Logisztika 4.0,Tagozati program,Worskhop
ATTACH;FMTTYPE=image/jpeg:https://logisztika.hu/wp-content/uploads/2023/06/Poszt-kep-Log4.0-06.26_-640x360-1.jpg
ORGANIZER;CN="MLBKT":MAILTO:logisztika@logisztika.hu
END:VEVENT
END:VCALENDAR